{"text_format":"1","workbook":"xlsx","n_sheets":11,"sheets":["Title","Results","Group1","Group2","Group3","Group4","Oral","Final","Print","Instructions","About"],"not_rendered":{"charts":0,"images":1,"macros":1,"external_links":0,"defined_names":1,"comments":0,"pivot_tables":0},"unopened":[],"bounds":{"document_bytes":16777216,"sheet_cells":100000,"rows_first":2000,"rows_last":500,"rows_between":2000,"halvings":0,"cell_chars":16384,"cell_head_chars":4096},"cells_cut":0,"cells_raw":0,"read":"whole","date_system":"1900"}

{"sheet":"Title","index":0,"n_rows":22,"n_cols":10,"rows_kept":22,"cut":false,"hidden":false,"merged":[[16,3,16,4],[21,6,21,11],[15,7,15,12],[14,7,14,12],[8,7,8,14],[10,7,10,14],[12,7,12,8],[12,9,12,12]]}
[]
[]
[]
[]
[]
[null,null,null,null,null,null,null,"JUDGING COMPETITION"]
[]
[]
[null,null,null,null,null,null,null,"NAME OF COMPETITION"]
[]
[null,null,null,null,null,null,null,"DESCRIPTION OF COMPETITION"]
[]
[null,null,null,null,null,null,null,"OVER-JUDGE :",null,"NAME"]
[]
[null,null,null,null,null,null,null,"LOCATION"]
[null,null,null,null,null,null,null,"DATE"]
[]
[]
[]
[]
[]
[null,null,null,null,null,null,"©  Agricultural Societies Council of NSW 2011"]

{"sheet":"Results","index":1,"n_rows":103,"n_cols":9,"rows_kept":103,"cut":false,"hidden":false,"merged":[]}
[]
[null,{"$f":"Title!H9","v":"NAME OF COMPETITION"},null,null,null,null,"GROUPS",2]
[null,"Entrant No","Name","Visual Score","Handling Score","Oral Score","Total Score","Rank","Place"]
[null,1,null,{"$f":"IF($C4=\"\",\"\",IF($H$2=1,Group1!$K4,IF($H$2=2,Group1!$K4+Group2!$K4,IF($H$2=3,Group1!$K4+Group2!$K4+Group3!$K4,Group1!$K4+Group2!$K4+Group3!$K4+Group4!$K4))))","v":""},null,null,{"$f":"IF(D4=\"\",\"\",$D4+$E4+$F4)","v":""},{"$f":"IF(G4=\"\",\"\",RANK($G4,$G$4:$G$103))","v":""}]
[null,2,null,{"$f":"IF($C5=\"\",\"\",IF($H$2=1,Group1!$K5,IF($H$2=2,Group1!$K5+Group2!$K5,IF($H$2=3,Group1!$K5+Group2!$K5+Group3!$K5,Group1!$K5+Group2!$K5+Group3!$K5+Group4!$K5))))","v":""},null,null,{"$f":"IF(D5=\"\",\"\",$D5+$E5+$F5)","v":""},{"$f":"IF(G5=\"\",\"\",RANK($G5,$G$4:$G$103))","v":""}]
[null,3,null,{"$f":"IF($C6=\"\",\"\",IF($H$2=1,Group1!$K6,IF($H$2=2,Group1!$K6+Group2!$K6,IF($H$2=3,Group1!$K6+Group2!$K6+Group3!$K6,Group1!$K6+Group2!$K6+Group3!$K6+Group4!$K6))))","v":""},null,null,"",{"$f":"IF(G6=\"\",\"\",RANK($G6,$G$4:$G$103))","v":""}]
[null,4,null,{"$f":"IF($C7=\"\",\"\",IF($H$2=1,Group1!$K7,IF($H$2=2,Group1!$K7+Group2!$K7,IF($H$2=3,Group1!$K7+Group2!$K7+Group3!$K7,Group1!$K7+Group2!$K7+Group3!$K7+Group4!$K7))))","v":""},null,null,"",""]
[null,5,null,{"$f":"IF($C8=\"\",\"\",IF($H$2=1,Group1!$K8,IF($H$2=2,Group1!$K8+Group2!$K8,IF($H$2=3,Group1!$K8+Group2!$K8+Group3!$K8,Group1!$K8+Group2!$K8+Group3!$K8+Group4!$K8))))","v":""},null,null,"",""]
[null,6,null,{"$f":"IF($C9=\"\",\"\",IF($H$2=1,Group1!$K9,IF($H$2=2,Group1!$K9+Group2!$K9,IF($H$2=3,Group1!$K9+Group2!$K9+Group3!$K9,Group1!$K9+Group2!$K9+Group3!$K9+Group4!$K9))))","v":""},null,null,"",""]
[null,7,null,{"$f":"IF($C10=\"\",\"\",IF($H$2=1,Group1!$K10,IF($H$2=2,Group1!$K10+Group2!$K10,IF($H$2=3,Group1!$K10+Group2!$K10+Group3!$K10,Group1!$K10+Group2!$K10+Group3!$K10+Group4!$K10))))","v":""},null,null,"",""]
[null,8,null,{"$f":"IF($C11=\"\",\"\",IF($H$2=1,Group1!$K11,IF($H$2=2,Group1!$K11+Group2!$K11,IF($H$2=3,Group1!$K11+Group2!$K11+Group3!$K11,Group1!$K11+Group2!$K11+Group3!$K11+Group4!$K11))))","v":""},null,null,"",""]
[null,9,null,{"$f":"IF($C12=\"\",\"\",IF($H$2=1,Group1!$K12,IF($H$2=2,Group1!$K12+Group2!$K12,IF($H$2=3,Group1!$K12+Group2!$K12+Group3!$K12,Group1!$K12+Group2!$K12+Group3!$K12+Group4!$K12))))","v":""},null,null,"",""]
[null,10,null,{"$f":"IF($C13=\"\",\"\",IF($H$2=1,Group1!$K13,IF($H$2=2,Group1!$K13+Group2!$K13,IF($H$2=3,Group1!$K13+Group2!$K13+Group3!$K13,Group1!$K13+Group2!$K13+Group3!$K13+Group4!$K13))))","v":""},null,null,"",""]
[null,11,null,{"$f":"IF($C14=\"\",\"\",IF($H$2=1,Group1!$K14,IF($H$2=2,Group1!$K14+Group2!$K14,IF($H$2=3,Group1!$K14+Group2!$K14+Group3!$K14,Group1!$K14+Group2!$K14+Group3!$K14+Group4!$K14))))","v":""},null,null,"",""]
[null,12,null,{"$f":"IF($C15=\"\",\"\",IF($H$2=1,Group1!$K15,IF($H$2=2,Group1!$K15+Group2!$K15,IF($H$2=3,Group1!$K15+Group2!$K15+Group3!$K15,Group1!$K15+Group2!$K15+Group3!$K15+Group4!$K15))))","v":""},null,null,"",""]
[null,13,null,{"$f":"IF($C16=\"\",\"\",IF($H$2=1,Group1!$K16,IF($H$2=2,Group1!$K16+Group2!$K16,IF($H$2=3,Group1!$K16+Group2!$K16+Group3!$K16,Group1!$K16+Group2!$K16+Group3!$K16+Group4!$K16))))","v":""},null,null,"",""]
[null,14,null,{"$f":"IF($C17=\"\",\"\",IF($H$2=1,Group1!$K17,IF($H$2=2,Group1!$K17+Group2!$K17,IF($H$2=3,Group1!$K17+Group2!$K17+Group3!$K17,Group1!$K17+Group2!$K17+Group3!$K17+Group4!$K17))))","v":""},null,null,"",""]
[null,15,null,{"$f":"IF($C18=\"\",\"\",IF($H$2=1,Group1!$K18,IF($H$2=2,Group1!$K18+Group2!$K18,IF($H$2=3,Group1!$K18+Group2!$K18+Group3!$K18,Group1!$K18+Group2!$K18+Group3!$K18+Group4!$K18))))","v":""},null,null,"",""]
[null,16,null,{"$f":"IF($C19=\"\",\"\",IF($H$2=1,Group1!$K19,IF($H$2=2,Group1!$K19+Group2!$K19,IF($H$2=3,Group1!$K19+Group2!$K19+Group3!$K19,Group1!$K19+Group2!$K19+Group3!$K19+Group4!$K19))))","v":""},null,null,"",""]
[null,17,null,{"$f":"IF($C20=\"\",\"\",IF($H$2=1,Group1!$K20,IF($H$2=2,Group1!$K20+Group2!$K20,IF($H$2=3,Group1!$K20+Group2!$K20+Group3!$K20,Group1!$K20+Group2!$K20+Group3!$K20+Group4!$K20))))","v":""},null,null,"",""]
[null,18,null,{"$f":"IF($C21=\"\",\"\",IF($H$2=1,Group1!$K21,IF($H$2=2,Group1!$K21+Group2!$K21,IF($H$2=3,Group1!$K21+Group2!$K21+Group3!$K21,Group1!$K21+Group2!$K21+Group3!$K21+Group4!$K21))))","v":""},null,null,"",""]
[null,19,null,{"$f":"IF($C22=\"\",\"\",IF($H$2=1,Group1!$K22,IF($H$2=2,Group1!$K22+Group2!$K22,IF($H$2=3,Group1!$K22+Group2!$K22+Group3!$K22,Group1!$K22+Group2!$K22+Group3!$K22+Group4!$K22))))","v":""},null,null,"",""]
[null,20,null,{"$f":"IF($C23=\"\",\"\",IF($H$2=1,Group1!$K23,IF($H$2=2,Group1!$K23+Group2!$K23,IF($H$2=3,Group1!$K23+Group2!$K23+Group3!$K23,Group1!$K23+Group2!$K23+Group3!$K23+Group4!$K23))))","v":""},null,null,"",""]
[null,21,null,{"$f":"IF($C24=\"\",\"\",IF($H$2=1,Group1!$K24,IF($H$2=2,Group1!$K24+Group2!$K24,IF($H$2=3,Group1!$K24+Group2!$K24+Group3!$K24,Group1!$K24+Group2!$K24+Group3!$K24+Group4!$K24))))","v":""},null,null,"",""]
[null,22,null,{"$f":"IF($C25=\"\",\"\",IF($H$2=1,Group1!$K25,IF($H$2=2,Group1!$K25+Group2!$K25,IF($H$2=3,Group1!$K25+Group2!$K25+Group3!$K25,Group1!$K25+Group2!$K25+Group3!$K25+Group4!$K25))))","v":""},null,null,"",""]
[null,23,null,{"$f":"IF($C26=\"\",\"\",IF($H$2=1,Group1!$K26,IF($H$2=2,Group1!$K26+Group2!$K26,IF($H$2=3,Group1!$K26+Group2!$K26+Group3!$K26,Group1!$K26+Group2!$K26+Group3!$K26+Group4!$K26))))","v":""},null,null,"",""]
[null,24,null,{"$f":"IF($C27=\"\",\"\",IF($H$2=1,Group1!$K27,IF($H$2=2,Group1!$K27+Group2!$K27,IF($H$2=3,Group1!$K27+Group2!$K27+Group3!$K27,Group1!$K27+Group2!$K27+Group3!$K27+Group4!$K27))))","v":""},null,null,"",""]
[null,25,null,{"$f":"IF($C28=\"\",\"\",IF($H$2=1,Group1!$K28,IF($H$2=2,Group1!$K28+Group2!$K28,IF($H$2=3,Group1!$K28+Group2!$K28+Group3!$K28,Group1!$K28+Group2!$K28+Group3!$K28+Group4!$K28))))","v":""},null,null,"",""]
[null,26,null,{"$f":"IF($C29=\"\",\"\",IF($H$2=1,Group1!$K29,IF($H$2=2,Group1!$K29+Group2!$K29,IF($H$2=3,Group1!$K29+Group2!$K29+Group3!$K29,Group1!$K29+Group2!$K29+Group3!$K29+Group4!$K29))))","v":""},null,null,"",""]
[null,27,null,{"$f":"IF($C30=\"\",\"\",IF($H$2=1,Group1!$K30,IF($H$2=2,Group1!$K30+Group2!$K30,IF($H$2=3,Group1!$K30+Group2!$K30+Group3!$K30,Group1!$K30+Group2!$K30+Group3!$K30+Group4!$K30))))","v":""},null,null,"",""]
[null,28,null,{"$f":"IF($C31=\"\",\"\",IF($H$2=1,Group1!$K31,IF($H$2=2,Group1!$K31+Group2!$K31,IF($H$2=3,Group1!$K31+Group2!$K31+Group3!$K31,Group1!$K31+Group2!$K31+Group3!$K31+Group4!$K31))))","v":""},null,null,"",""]
[null,29,null,{"$f":"IF($C32=\"\",\"\",IF($H$2=1,Group1!$K32,IF($H$2=2,Group1!$K32+Group2!$K32,IF($H$2=3,Group1!$K32+Group2!$K32+Group3!$K32,Group1!$K32+Group2!$K32+Group3!$K32+Group4!$K32))))","v":""},null,null,"",""]
[null,30,null,{"$f":"IF($C33=\"\",\"\",IF($H$2=1,Group1!$K33,IF($H$2=2,Group1!$K33+Group2!$K33,IF($H$2=3,Group1!$K33+Group2!$K33+Group3!$K33,Group1!$K33+Group2!$K33+Group3!$K33+Group4!$K33))))","v":""},null,null,"",""]
[null,31,null,{"$f":"IF($C34=\"\",\"\",IF($H$2=1,Group1!$K34,IF($H$2=2,Group1!$K34+Group2!$K34,IF($H$2=3,Group1!$K34+Group2!$K34+Group3!$K34,Group1!$K34+Group2!$K34+Group3!$K34+Group4!$K34))))","v":""},null,null,{"$f":"IF(D34=\"\",\"\",$D34+$E34+$F34)","v":""},""]
[null,32,null,{"$f":"IF($C35=\"\",\"\",IF($H$2=1,Group1!$K35,IF($H$2=2,Group1!$K35+Group2!$K35,IF($H$2=3,Group1!$K35+Group2!$K35+Group3!$K35,Group1!$K35+Group2!$K35+Group3!$K35+Group4!$K35))))","v":""},null,null,"",""]
[null,33,null,{"$f":"IF($C36=\"\",\"\",IF($H$2=1,Group1!$K36,IF($H$2=2,Group1!$K36+Group2!$K36,IF($H$2=3,Group1!$K36+Group2!$K36+Group3!$K36,Group1!$K36+Group2!$K36+Group3!$K36+Group4!$K36))))","v":""},null,null,"",""]
[null,34,null,{"$f":"IF($C37=\"\",\"\",IF($H$2=1,Group1!$K37,IF($H$2=2,Group1!$K37+Group2!$K37,IF($H$2=3,Group1!$K37+Group2!$K37+Group3!$K37,Group1!$K37+Group2!$K37+Group3!$K37+Group4!$K37))))","v":""},null,null,"",""]
[null,35,null,{"$f":"IF($C38=\"\",\"\",IF($H$2=1,Group1!$K38,IF($H$2=2,Group1!$K38+Group2!$K38,IF($H$2=3,Group1!$K38+Group2!$K38+Group3!$K38,Group1!$K38+Group2!$K38+Group3!$K38+Group4!$K38))))","v":""},null,null,"",""]
[null,36,null,{"$f":"IF($C39=\"\",\"\",IF($H$2=1,Group1!$K39,IF($H$2=2,Group1!$K39+Group2!$K39,IF($H$2=3,Group1!$K39+Group2!$K39+Group3!$K39,Group1!$K39+Group2!$K39+Group3!$K39+Group4!$K39))))","v":""},null,null,"",""]
[null,37,null,{"$f":"IF($C40=\"\",\"\",IF($H$2=1,Group1!$K40,IF($H$2=2,Group1!$K40+Group2!$K40,IF($H$2=3,Group1!$K40+Group2!$K40+Group3!$K40,Group1!$K40+Group2!$K40+Group3!$K40+Group4!$K40))))","v":""},null,null,"",""]
[null,38,null,{"$f":"IF($C41=\"\",\"\",IF($H$2=1,Group1!$K41,IF($H$2=2,Group1!$K41+Group2!$K41,IF($H$2=3,Group1!$K41+Group2!$K41+Group3!$K41,Group1!$K41+Group2!$K41+Group3!$K41+Group4!$K41))))","v":""},null,null,"",""]
[null,39,null,{"$f":"IF($C42=\"\",\"\",IF($H$2=1,Group1!$K42,IF($H$2=2,Group1!$K42+Group2!$K42,IF($H$2=3,Group1!$K42+Group2!$K42+Group3!$K42,Group1!$K42+Group2!$K42+Group3!$K42+Group4!$K42))))","v":""},null,null,"",""]
[null,40,null,{"$f":"IF($C43=\"\",\"\",IF($H$2=1,Group1!$K43,IF($H$2=2,Group1!$K43+Group2!$K43,IF($H$2=3,Group1!$K43+Group2!$K43+Group3!$K43,Group1!$K43+Group2!$K43+Group3!$K43+Group4!$K43))))","v":""},null,null,"",""]
[null,41,null,{"$f":"IF($C44=\"\",\"\",IF($H$2=1,Group1!$K44,IF($H$2=2,Group1!$K44+Group2!$K44,IF($H$2=3,Group1!$K44+Group2!$K44+Group3!$K44,Group1!$K44+Group2!$K44+Group3!$K44+Group4!$K44))))","v":""},null,null,"",""]
[null,42,null,{"$f":"IF($C45=\"\",\"\",IF($H$2=1,Group1!$K45,IF($H$2=2,Group1!$K45+Group2!$K45,IF($H$2=3,Group1!$K45+Group2!$K45+Group3!$K45,Group1!$K45+Group2!$K45+Group3!$K45+Group4!$K45))))","v":""},null,null,"",""]
[null,43,null,{"$f":"IF($C46=\"\",\"\",IF($H$2=1,Group1!$K46,IF($H$2=2,Group1!$K46+Group2!$K46,IF($H$2=3,Group1!$K46+Group2!$K46+Group3!$K46,Group1!$K46+Group2!$K46+Group3!$K46+Group4!$K46))))","v":""},null,null,"",""]
[null,44,null,{"$f":"IF($C47=\"\",\"\",IF($H$2=1,Group1!$K47,IF($H$2=2,Group1!$K47+Group2!$K47,IF($H$2=3,Group1!$K47+Group2!$K47+Group3!$K47,Group1!$K47+Group2!$K47+Group3!$K47+Group4!$K47))))","v":""},null,null,"",""]
[null,45,null,{"$f":"IF($C48=\"\",\"\",IF($H$2=1,Group1!$K48,IF($H$2=2,Group1!$K48+Group2!$K48,IF($H$2=3,Group1!$K48+Group2!$K48+Group3!$K48,Group1!$K48+Group2!$K48+Group3!$K48+Group4!$K48))))","v":""},null,null,"",""]
[null,46,null,{"$f":"IF($C49=\"\",\"\",IF($H$2=1,Group1!$K49,IF($H$2=2,Group1!$K49+Group2!$K49,IF($H$2=3,Group1!$K49+Group2!$K49+Group3!$K49,Group1!$K49+Group2!$K49+Group3!$K49+Group4!$K49))))","v":""},null,null,"",""]
[null,47,null,{"$f":"IF($C50=\"\",\"\",IF($H$2=1,Group1!$K50,IF($H$2=2,Group1!$K50+Group2!$K50,IF($H$2=3,Group1!$K50+Group2!$K50+Group3!$K50,Group1!$K50+Group2!$K50+Group3!$K50+Group4!$K50))))","v":""},null,null,"",""]
[null,48,null,{"$f":"IF($C51=\"\",\"\",IF($H$2=1,Group1!$K51,IF($H$2=2,Group1!$K51+Group2!$K51,IF($H$2=3,Group1!$K51+Group2!$K51+Group3!$K51,Group1!$K51+Group2!$K51+Group3!$K51+Group4!$K51))))","v":""},null,null,"",""]
[null,49,null,{"$f":"IF($C52=\"\",\"\",IF($H$2=1,Group1!$K52,IF($H$2=2,Group1!$K52+Group2!$K52,IF($H$2=3,Group1!$K52+Group2!$K52+Group3!$K52,Group1!$K52+Group2!$K52+Group3!$K52+Group4!$K52))))","v":""},null,null,"",""]
[null,50,null,{"$f":"IF($C53=\"\",\"\",IF($H$2=1,Group1!$K53,IF($H$2=2,Group1!$K53+Group2!$K53,IF($H$2=3,Group1!$K53+Group2!$K53+Group3!$K53,Group1!$K53+Group2!$K53+Group3!$K53+Group4!$K53))))","v":""},null,null,"",""]
[null,51,null,{"$f":"IF($C54=\"\",\"\",IF($H$2=1,Group1!$K54,IF($H$2=2,Group1!$K54+Group2!$K54,IF($H$2=3,Group1!$K54+Group2!$K54+Group3!$K54,Group1!$K54+Group2!$K54+Group3!$K54+Group4!$K54))))","v":""},null,null,"",""]
[null,52,null,{"$f":"IF($C55=\"\",\"\",IF($H$2=1,Group1!$K55,IF($H$2=2,Group1!$K55+Group2!$K55,IF($H$2=3,Group1!$K55+Group2!$K55+Group3!$K55,Group1!$K55+Group2!$K55+Group3!$K55+Group4!$K55))))","v":""},null,null,"",""]
[null,53,null,{"$f":"IF($C56=\"\",\"\",IF($H$2=1,Group1!$K56,IF($H$2=2,Group1!$K56+Group2!$K56,IF($H$2=3,Group1!$K56+Group2!$K56+Group3!$K56,Group1!$K56+Group2!$K56+Group3!$K56+Group4!$K56))))","v":""},null,null,"",""]
[null,54,null,{"$f":"IF($C57=\"\",\"\",IF($H$2=1,Group1!$K57,IF($H$2=2,Group1!$K57+Group2!$K57,IF($H$2=3,Group1!$K57+Group2!$K57+Group3!$K57,Group1!$K57+Group2!$K57+Group3!$K57+Group4!$K57))))","v":""},null,null,"",""]
[null,55,null,{"$f":"IF($C58=\"\",\"\",IF($H$2=1,Group1!$K58,IF($H$2=2,Group1!$K58+Group2!$K58,IF($H$2=3,Group1!$K58+Group2!$K58+Group3!$K58,Group1!$K58+Group2!$K58+Group3!$K58+Group4!$K58))))","v":""},null,null,"",""]
[null,56,null,{"$f":"IF($C59=\"\",\"\",IF($H$2=1,Group1!$K59,IF($H$2=2,Group1!$K59+Group2!$K59,IF($H$2=3,Group1!$K59+Group2!$K59+Group3!$K59,Group1!$K59+Group2!$K59+Group3!$K59+Group4!$K59))))","v":""},null,null,"",""]
[null,57,null,{"$f":"IF($C60=\"\",\"\",IF($H$2=1,Group1!$K60,IF($H$2=2,Group1!$K60+Group2!$K60,IF($H$2=3,Group1!$K60+Group2!$K60+Group3!$K60,Group1!$K60+Group2!$K60+Group3!$K60+Group4!$K60))))","v":""},null,null,"",""]
[null,58,null,{"$f":"IF($C61=\"\",\"\",IF($H$2=1,Group1!$K61,IF($H$2=2,Group1!$K61+Group2!$K61,IF($H$2=3,Group1!$K61+Group2!$K61+Group3!$K61,Group1!$K61+Group2!$K61+Group3!$K61+Group4!$K61))))","v":""},null,null,"",""]
[null,59,null,{"$f":"IF($C62=\"\",\"\",IF($H$2=1,Group1!$K62,IF($H$2=2,Group1!$K62+Group2!$K62,IF($H$2=3,Group1!$K62+Group2!$K62+Group3!$K62,Group1!$K62+Group2!$K62+Group3!$K62+Group4!$K62))))","v":""},null,null,"",""]
[null,60,null,{"$f":"IF($C63=\"\",\"\",IF($H$2=1,Group1!$K63,IF($H$2=2,Group1!$K63+Group2!$K63,IF($H$2=3,Group1!$K63+Group2!$K63+Group3!$K63,Group1!$K63+Group2!$K63+Group3!$K63+Group4!$K63))))","v":""},null,null,"",""]
[null,61,null,{"$f":"IF($C64=\"\",\"\",IF($H$2=1,Group1!$K64,IF($H$2=2,Group1!$K64+Group2!$K64,IF($H$2=3,Group1!$K64+Group2!$K64+Group3!$K64,Group1!$K64+Group2!$K64+Group3!$K64+Group4!$K64))))","v":""},null,null,"",""]
[null,62,null,{"$f":"IF($C65=\"\",\"\",IF($H$2=1,Group1!$K65,IF($H$2=2,Group1!$K65+Group2!$K65,IF($H$2=3,Group1!$K65+Group2!$K65+Group3!$K65,Group1!$K65+Group2!$K65+Group3!$K65+Group4!$K65))))","v":""},null,null,"",""]
[null,63,null,{"$f":"IF($C66=\"\",\"\",IF($H$2=1,Group1!$K66,IF($H$2=2,Group1!$K66+Group2!$K66,IF($H$2=3,Group1!$K66+Group2!$K66+Group3!$K66,Group1!$K66+Group2!$K66+Group3!$K66+Group4!$K66))))","v":""},null,null,"",""]
[null,64,null,{"$f":"IF($C67=\"\",\"\",IF($H$2=1,Group1!$K67,IF($H$2=2,Group1!$K67+Group2!$K67,IF($H$2=3,Group1!$K67+Group2!$K67+Group3!$K67,Group1!$K67+Group2!$K67+Group3!$K67+Group4!$K67))))","v":""},null,null,"",""]
[null,65,null,{"$f":"IF($C68=\"\",\"\",IF($H$2=1,Group1!$K68,IF($H$2=2,Group1!$K68+Group2!$K68,IF($H$2=3,Group1!$K68+Group2!$K68+Group3!$K68,Group1!$K68+Group2!$K68+Group3!$K68+Group4!$K68))))","v":""},null,null,"",""]
[null,66,null,{"$f":"IF($C69=\"\",\"\",IF($H$2=1,Group1!$K69,IF($H$2=2,Group1!$K69+Group2!$K69,IF($H$2=3,Group1!$K69+Group2!$K69+Group3!$K69,Group1!$K69+Group2!$K69+Group3!$K69+Group4!$K69))))","v":""},null,null,"",""]
[null,67,null,{"$f":"IF($C70=\"\",\"\",IF($H$2=1,Group1!$K70,IF($H$2=2,Group1!$K70+Group2!$K70,IF($H$2=3,Group1!$K70+Group2!$K70+Group3!$K70,Group1!$K70+Group2!$K70+Group3!$K70+Group4!$K70))))","v":""},null,null,"",{"$f":"IF(G70=\"\",\"\",RANK($G70,$G$4:$G$103))","v":""}]
[null,68,null,{"$f":"IF($C71=\"\",\"\",IF($H$2=1,Group1!$K71,IF($H$2=2,Group1!$K71+Group2!$K71,IF($H$2=3,Group1!$K71+Group2!$K71+Group3!$K71,Group1!$K71+Group2!$K71+Group3!$K71+Group4!$K71))))","v":""},null,null,"",""]
[null,69,null,{"$f":"IF($C72=\"\",\"\",IF($H$2=1,Group1!$K72,IF($H$2=2,Group1!$K72+Group2!$K72,IF($H$2=3,Group1!$K72+Group2!$K72+Group3!$K72,Group1!$K72+Group2!$K72+Group3!$K72+Group4!$K72))))","v":""},null,null,"",""]
[null,70,null,{"$f":"IF($C73=\"\",\"\",IF($H$2=1,Group1!$K73,IF($H$2=2,Group1!$K73+Group2!$K73,IF($H$2=3,Group1!$K73+Group2!$K73+Group3!$K73,Group1!$K73+Group2!$K73+Group3!$K73+Group4!$K73))))","v":""},null,null,"",""]
[null,71,null,{"$f":"IF($C74=\"\",\"\",IF($H$2=1,Group1!$K74,IF($H$2=2,Group1!$K74+Group2!$K74,IF($H$2=3,Group1!$K74+Group2!$K74+Group3!$K74,Group1!$K74+Group2!$K74+Group3!$K74+Group4!$K74))))","v":""},null,null,"",""]
[null,72,null,{"$f":"IF($C75=\"\",\"\",IF($H$2=1,Group1!$K75,IF($H$2=2,Group1!$K75+Group2!$K75,IF($H$2=3,Group1!$K75+Group2!$K75+Group3!$K75,Group1!$K75+Group2!$K75+Group3!$K75+Group4!$K75))))","v":""},null,null,"",""]
[null,73,null,{"$f":"IF($C76=\"\",\"\",IF($H$2=1,Group1!$K76,IF($H$2=2,Group1!$K76+Group2!$K76,IF($H$2=3,Group1!$K76+Group2!$K76+Group3!$K76,Group1!$K76+Group2!$K76+Group3!$K76+Group4!$K76))))","v":""},null,null,"",""]
[null,74,null,{"$f":"IF($C77=\"\",\"\",IF($H$2=1,Group1!$K77,IF($H$2=2,Group1!$K77+Group2!$K77,IF($H$2=3,Group1!$K77+Group2!$K77+Group3!$K77,Group1!$K77+Group2!$K77+Group3!$K77+Group4!$K77))))","v":""},null,null,"",""]
[null,75,null,{"$f":"IF($C78=\"\",\"\",IF($H$2=1,Group1!$K78,IF($H$2=2,Group1!$K78+Group2!$K78,IF($H$2=3,Group1!$K78+Group2!$K78+Group3!$K78,Group1!$K78+Group2!$K78+Group3!$K78+Group4!$K78))))","v":""},null,null,"",""]
[null,76,null,{"$f":"IF($C79=\"\",\"\",IF($H$2=1,Group1!$K79,IF($H$2=2,Group1!$K79+Group2!$K79,IF($H$2=3,Group1!$K79+Group2!$K79+Group3!$K79,Group1!$K79+Group2!$K79+Group3!$K79+Group4!$K79))))","v":""},null,null,"",""]
[null,77,null,{"$f":"IF($C80=\"\",\"\",IF($H$2=1,Group1!$K80,IF($H$2=2,Group1!$K80+Group2!$K80,IF($H$2=3,Group1!$K80+Group2!$K80+Group3!$K80,Group1!$K80+Group2!$K80+Group3!$K80+Group4!$K80))))","v":""},null,null,"",""]
[null,78,null,{"$f":"IF($C81=\"\",\"\",IF($H$2=1,Group1!$K81,IF($H$2=2,Group1!$K81+Group2!$K81,IF($H$2=3,Group1!$K81+Group2!$K81+Group3!$K81,Group1!$K81+Group2!$K81+Group3!$K81+Group4!$K81))))","v":""},null,null,"",""]
[null,79,null,{"$f":"IF($C82=\"\",\"\",IF($H$2=1,Group1!$K82,IF($H$2=2,Group1!$K82+Group2!$K82,IF($H$2=3,Group1!$K82+Group2!$K82+Group3!$K82,Group1!$K82+Group2!$K82+Group3!$K82+Group4!$K82))))","v":""},null,null,"",""]
[null,80,null,{"$f":"IF($C83=\"\",\"\",IF($H$2=1,Group1!$K83,IF($H$2=2,Group1!$K83+Group2!$K83,IF($H$2=3,Group1!$K83+Group2!$K83+Group3!$K83,Group1!$K83+Group2!$K83+Group3!$K83+Group4!$K83))))","v":""},null,null,"",""]
[null,81,null,{"$f":"IF($C84=\"\",\"\",IF($H$2=1,Group1!$K84,IF($H$2=2,Group1!$K84+Group2!$K84,IF($H$2=3,Group1!$K84+Group2!$K84+Group3!$K84,Group1!$K84+Group2!$K84+Group3!$K84+Group4!$K84))))","v":""},null,null,"",""]
[null,82,null,{"$f":"IF($C85=\"\",\"\",IF($H$2=1,Group1!$K85,IF($H$2=2,Group1!$K85+Group2!$K85,IF($H$2=3,Group1!$K85+Group2!$K85+Group3!$K85,Group1!$K85+Group2!$K85+Group3!$K85+Group4!$K85))))","v":""},null,null,"",""]
[null,83,null,{"$f":"IF($C86=\"\",\"\",IF($H$2=1,Group1!$K86,IF($H$2=2,Group1!$K86+Group2!$K86,IF($H$2=3,Group1!$K86+Group2!$K86+Group3!$K86,Group1!$K86+Group2!$K86+Group3!$K86+Group4!$K86))))","v":""},null,null,"",""]
[null,84,null,{"$f":"IF($C87=\"\",\"\",IF($H$2=1,Group1!$K87,IF($H$2=2,Group1!$K87+Group2!$K87,IF($H$2=3,Group1!$K87+Group2!$K87+Group3!$K87,Group1!$K87+Group2!$K87+Group3!$K87+Group4!$K87))))","v":""},null,null,"",""]
[null,85,null,{"$f":"IF($C88=\"\",\"\",IF($H$2=1,Group1!$K88,IF($H$2=2,Group1!$K88+Group2!$K88,IF($H$2=3,Group1!$K88+Group2!$K88+Group3!$K88,Group1!$K88+Group2!$K88+Group3!$K88+Group4!$K88))))","v":""},null,null,"",""]
[null,86,null,{"$f":"IF($C89=\"\",\"\",IF($H$2=1,Group1!$K89,IF($H$2=2,Group1!$K89+Group2!$K89,IF($H$2=3,Group1!$K89+Group2!$K89+Group3!$K89,Group1!$K89+Group2!$K89+Group3!$K89+Group4!$K89))))","v":""},null,null,"",""]
[null,87,null,{"$f":"IF($C90=\"\",\"\",IF($H$2=1,Group1!$K90,IF($H$2=2,Group1!$K90+Group2!$K90,IF($H$2=3,Group1!$K90+Group2!$K90+Group3!$K90,Group1!$K90+Group2!$K90+Group3!$K90+Group4!$K90))))","v":""},null,null,"",""]
[null,88,null,{"$f":"IF($C91=\"\",\"\",IF($H$2=1,Group1!$K91,IF($H$2=2,Group1!$K91+Group2!$K91,IF($H$2=3,Group1!$K91+Group2!$K91+Group3!$K91,Group1!$K91+Group2!$K91+Group3!$K91+Group4!$K91))))","v":""},null,null,"",""]
[null,89,null,{"$f":"IF($C92=\"\",\"\",IF($H$2=1,Group1!$K92,IF($H$2=2,Group1!$K92+Group2!$K92,IF($H$2=3,Group1!$K92+Group2!$K92+Group3!$K92,Group1!$K92+Group2!$K92+Group3!$K92+Group4!$K92))))","v":""},null,null,"",""]
[null,90,null,{"$f":"IF($C93=\"\",\"\",IF($H$2=1,Group1!$K93,IF($H$2=2,Group1!$K93+Group2!$K93,IF($H$2=3,Group1!$K93+Group2!$K93+Group3!$K93,Group1!$K93+Group2!$K93+Group3!$K93+Group4!$K93))))","v":""},null,null,"",""]
[null,91,null,{"$f":"IF($C94=\"\",\"\",IF($H$2=1,Group1!$K94,IF($H$2=2,Group1!$K94+Group2!$K94,IF($H$2=3,Group1!$K94+Group2!$K94+Group3!$K94,Group1!$K94+Group2!$K94+Group3!$K94+Group4!$K94))))","v":""},null,null,"",""]
[null,92,null,{"$f":"IF($C95=\"\",\"\",IF($H$2=1,Group1!$K95,IF($H$2=2,Group1!$K95+Group2!$K95,IF($H$2=3,Group1!$K95+Group2!$K95+Group3!$K95,Group1!$K95+Group2!$K95+Group3!$K95+Group4!$K95))))","v":""},null,null,"",""]
[null,93,null,{"$f":"IF($C96=\"\",\"\",IF($H$2=1,Group1!$K96,IF($H$2=2,Group1!$K96+Group2!$K96,IF($H$2=3,Group1!$K96+Group2!$K96+Group3!$K96,Group1!$K96+Group2!$K96+Group3!$K96+Group4!$K96))))","v":""},null,null,"",""]
[null,94,null,{"$f":"IF($C97=\"\",\"\",IF($H$2=1,Group1!$K97,IF($H$2=2,Group1!$K97+Group2!$K97,IF($H$2=3,Group1!$K97+Group2!$K97+Group3!$K97,Group1!$K97+Group2!$K97+Group3!$K97+Group4!$K97))))","v":""},null,null,"",""]
[null,95,null,{"$f":"IF($C98=\"\",\"\",IF($H$2=1,Group1!$K98,IF($H$2=2,Group1!$K98+Group2!$K98,IF($H$2=3,Group1!$K98+Group2!$K98+Group3!$K98,Group1!$K98+Group2!$K98+Group3!$K98+Group4!$K98))))","v":""},null,null,{"$f":"IF(D98=\"\",\"\",$D98+$E98+$F98)","v":""},""]
[null,96,null,{"$f":"IF($C99=\"\",\"\",IF($H$2=1,Group1!$K99,IF($H$2=2,Group1!$K99+Group2!$K99,IF($H$2=3,Group1!$K99+Group2!$K99+Group3!$K99,Group1!$K99+Group2!$K99+Group3!$K99+Group4!$K99))))","v":""},null,null,"",""]
[null,97,null,{"$f":"IF($C100=\"\",\"\",IF($H$2=1,Group1!$K100,IF($H$2=2,Group1!$K100+Group2!$K100,IF($H$2=3,Group1!$K100+Group2!$K100+Group3!$K100,Group1!$K100+Group2!$K100+Group3!$K100+Group4!$K100))))","v":""},null,null,"",""]
[null,98,null,{"$f":"IF($C101=\"\",\"\",IF($H$2=1,Group1!$K101,IF($H$2=2,Group1!$K101+Group2!$K101,IF($H$2=3,Group1!$K101+Group2!$K101+Group3!$K101,Group1!$K101+Group2!$K101+Group3!$K101+Group4!$K101))))","v":""},null,null,"",""]
[null,99,null,{"$f":"IF($C102=\"\",\"\",IF($H$2=1,Group1!$K102,IF($H$2=2,Group1!$K102+Group2!$K102,IF($H$2=3,Group1!$K102+Group2!$K102+Group3!$K102,Group1!$K102+Group2!$K102+Group3!$K102+Group4!$K102))))","v":""},null,null,"",""]
[null,100,null,{"$f":"IF($C103=\"\",\"\",IF($H$2=1,Group1!$K103,IF($H$2=2,Group1!$K103+Group2!$K103,IF($H$2=3,Group1!$K103+Group2!$K103+Group3!$K103,Group1!$K103+Group2!$K103+Group3!$K103+Group4!$K103))))","v":""},null,null,"",""]

{"sheet":"Group1","index":2,"n_rows":103,"n_cols":22,"rows_kept":103,"cut":false,"hidden":false,"merged":[[1,3,1,8]]}
[]
[null,null,"Group 1 :","jersey"]
[null,null,null,null,null,null,null,null,"Entrant No","Placings","Score",null,"J1","J2","J3","J4","PO","QO","RO","QP","RP","RQ"]
[null,null,null,null,null,null,null,null,{"$f":"IF(Results!C4=\"\",\"\",Results!B4)","v":""},null,{"$f":"IF($C$6=\"\",\"\",IF(I4=\"\",\"\",50-SUM(Q4:V4)))","v":""},null,{"$f":"SEARCH($C$6,J4)","v":{"$error":"#VALUE!"}},{"$f":"SEARCH($D$6,J4)","v":{"$error":"#VALUE!"}},{"$f":"SEARCH($E$6,J4)","v":{"$error":"#VALUE!"}},{"$f":"SEARCH($F$6,J4)","v":{"$error":"#VALUE!"}},{"$f":"IF((N4-M4)<0,$C$8,0)","v":{"$error":"#VALUE!"}},{"$f":"IF((O4-M4)<0,$C$8+$D$8,0)","v":{"$error":"#VALUE!"}},{"$f":"IF((P4-M4)<0,$C$8+$D$8+$E$8,0)","v":{"$error":"#VALUE!"}},{"$f":"IF((O4-N4)<0,$D$8,0)","v":{"$error":"#VALUE!"}},{"$f":"IF((P4-N4)<0,$D$8+$E$8,0)","v":{"$error":"#VALUE!"}},{"$f":"IF((P4-O4)<0,$E$8,0)","v":{"$error":"#VALUE!"}}]
[null,null,"Judge's Placings",null,null,null,null,null,{"$f":"IF(Results!C5=\"\",\"\",Results!B5)","v":""},null,"",null,{"$error":"#VALUE!"},{"$error":"#VALUE!"},{"$error":"#VALUE!"},{"$error":"#VALUE!"},{"$error":"#VALUE!"},{"$error":"#VALUE!"},{"$error":"#VALUE!"},{"$error":"#VALUE!"},{"$error":"#VALUE!"},{"$error":"#VALUE!"}]
[null,null,null,null,null,null,null,null,{"$f":"IF(Results!C6=\"\",\"\",Results!B6)","v":""},null,"",null,{"$error":"#VALUE!"},{"$error":"#VALUE!"},{"$error":"#VALUE!"},{"$error":"#VALUE!"},{"$error":"#VALUE!"},{"$error":"#VALUE!"},{"$error":"#VALUE!"},{"$error":"#VALUE!"},{"$error":"#VALUE!"},{"$error":"#VALUE!"}]
[null,null,"Judge's Cuts",null,null,null,null,null,{"$f":"IF(Results!C7=\"\",\"\",Results!B7)","v":""},null,"",null,{"$error":"#VALUE!"},{"$error":"#VALUE!"},{"$error":"#VALUE!"},{"$error":"#VALUE!"},{"$error":"#VALUE!"},{"$error":"#VALUE!"},{"$error":"#VALUE!"},{"$error":"#VALUE!"},{"$error":"#VALUE!"},{"$error":"#VALUE!"}]
[null,null,null,null,null,null,null,null,{"$f":"IF(Results!C8=\"\",\"\",Results!B8)","v":""},null,"",null,{"$error":"#VALUE!"},{"$error":"#VALUE!"},{"$error":"#VALUE!"},{"$error":"#VALUE!"},{"$error":"#VALUE!"},{"$error":"#VALUE!"},{"$error":"#VALUE!"},{"$error":"#VALUE!"},{"$error":"#VALUE!"},{"$error":"#VALUE!"}]
[null,null,null,null,null,null,null,null,{"$f":"IF(Results!C9=\"\",\"\",Results!B9)","v":""},null,"",null,{"$error":"#VALUE!"},{"$error":"#VALUE!"},{"$error":"#VALUE!"},{"$error":"#VALUE!"},{"$error":"#VALUE!"},{"$error":"#VALUE!"},{"$error":"#VALUE!"},{"$error":"#VALUE!"},{"$error":"#VALUE!"},{"$error":"#VALUE!"}]
[null,null,{"$f":"IF($C$8=\"\",\"\",IF(($C$8+$D$8+$E$8)<3,\"WARNING : Cuts total less than 3\",\"\"))","v":""},null,null,null,null,null,{"$f":"IF(Results!C10=\"\",\"\",Results!B10)","v":""},null,"",null,{"$error":"#VALUE!"},{"$error":"#VALUE!"},{"$error":"#VALUE!"},{"$error":"#VALUE!"},{"$error":"#VALUE!"},{"$error":"#VALUE!"},{"$error":"#VALUE!"},{"$error":"#VALUE!"},{"$error":"#VALUE!"},{"$error":"#VALUE!"}]
[null,null,{"$f":"IF(($C$8+$D$8+$E$8)>15,\"WARNING : Cuts total more than 15\",\"\")","v":""},null,null,null,null,null,{"$f":"IF(Results!C11=\"\",\"\",Results!B11)","v":""},null,"",null,{"$error":"#VALUE!"},{"$error":"#VALUE!"},{"$error":"#VALUE!"},{"$error":"#VALUE!"},{"$error":"#VALUE!"},{"$error":"#VALUE!"},{"$error":"#VALUE!"},{"$error":"#VALUE!"},{"$error":"#VALUE!"},{"$error":"#VALUE!"}]
[null,null,{"$f":"IF(AND(($C$8+$D$8+$E$8)>=15,$D$8>5),\"WARNING : Middle cut more than 5\",\"\")","v":""},null,null,null,null,null,{"$f":"IF(Results!C12=\"\",\"\",Results!B12)","v":""},null,"",null,{"$error":"#VALUE!"},{"$error":"#VALUE!"},{"$error":"#VALUE!"},{"$error":"#VALUE!"},{"$error":"#VALUE!"},{"$error":"#VALUE!"},{"$error":"#VALUE!"},{"$error":"#VALUE!"},{"$error":"#VALUE!"},{"$error":"#VALUE!"}]
[null,null,{"$f":"IF(AND(($C$8+$D$8+$E$8)=14,$D$8>8),\"WARNING : Middle cut more than 8\",\"\")","v":""},null,null,null,null,null,{"$f":"IF(Results!C13=\"\",\"\",Results!B13)","v":""},null,"",null,{"$error":"#VALUE!"},{"$error":"#VALUE!"},{"$error":"#VALUE!"},{"$error":"#VALUE!"},{"$error":"#VALUE!"},{"$error":"#VALUE!"},{"$error":"#VALUE!"},{"$error":"#VALUE!"},{"$error":"#VALUE!"},{"$error":"#VALUE!"}]
[null,null,{"$f":"IF(AND(C10=\"\",C11=\"\",C12=\"\",C13=\"\"),\"\",\"Please discuss with Judge\")","v":""},null,null,null,null,null,{"$f":"IF(Results!C14=\"\",\"\",Results!B14)","v":""},null,"",null,{"$error":"#VALUE!"},{"$error":"#VALUE!"},{"$error":"#VALUE!"},{"$error":"#VALUE!"},{"$error":"#VALUE!"},{"$error":"#VALUE!"},{"$error":"#VALUE!"},{"$error":"#VALUE!"},{"$error":"#VALUE!"},{"$error":"#VALUE!"}]
[null,null,null,null,null,null,null,null,{"$f":"IF(Results!C15=\"\",\"\",Results!B15)","v":""},null,"",null,{"$error":"#VALUE!"},{"$error":"#VALUE!"},{"$error":"#VALUE!"},{"$error":"#VALUE!"},{"$error":"#VALUE!"},{"$error":"#VALUE!"},{"$error":"#VALUE!"},{"$error":"#VALUE!"},{"$error":"#VALUE!"},{"$error":"#VALUE!"}]
[null,null,null,null,null,null,null,null,{"$f":"IF(Results!C16=\"\",\"\",Results!B16)","v":""},null,"",null,{"$error":"#VALUE!"},{"$error":"#VALUE!"},{"$error":"#VALUE!"},{"$error":"#VALUE!"},{"$error":"#VALUE!"},{"$error":"#VALUE!"},{"$error":"#VALUE!"},{"$error":"#VALUE!"},{"$error":"#VALUE!"},{"$error":"#VALUE!"}]
[null,null,null,null,null,null,null,null,{"$f":"IF(Results!C17=\"\",\"\",Results!B17)","v":""},null,"",null,{"$error":"#VALUE!"},{"$error":"#VALUE!"},{"$error":"#VALUE!"},{"$error":"#VALUE!"},{"$error":"#VALUE!"},{"$error":"#VALUE!"},{"$error":"#VALUE!"},{"$error":"#VALUE!"},{"$error":"#VALUE!"},{"$error":"#VALUE!"}]
[null,null,null,null,null,null,null,null,{"$f":"IF(Results!C18=\"\",\"\",Results!B18)","v":""},null,"",null,{"$error":"#VALUE!"},{"$error":"#VALUE!"},{"$error":"#VALUE!"},{"$error":"#VALUE!"},{"$error":"#VALUE!"},{"$error":"#VALUE!"},{"$error":"#VALUE!"},{"$error":"#VALUE!"},{"$error":"#VALUE!"},{"$error":"#VALUE!"}]
[null,null,null,null,null,null,null,null,{"$f":"IF(Results!C19=\"\",\"\",Results!B19)","v":""},null,"",null,{"$error":"#VALUE!"},{"$error":"#VALUE!"},{"$error":"#VALUE!"},{"$error":"#VALUE!"},{"$error":"#VALUE!"},{"$error":"#VALUE!"},{"$error":"#VALUE!"},{"$error":"#VALUE!"},{"$error":"#VALUE!"},{"$error":"#VALUE!"}]
[null,null,null,null,null,null,null,null,{"$f":"IF(Results!C20=\"\",\"\",Results!B20)","v":""},null,"",null,{"$error":"#VALUE!"},{"$error":"#VALUE!"},{"$error":"#VALUE!"},{"$error":"#VALUE!"},{"$error":"#VALUE!"},{"$error":"#VALUE!"},{"$error":"#VALUE!"},{"$error":"#VALUE!"},{"$error":"#VALUE!"},{"$error":"#VALUE!"}]
[null,null,null,null,null,null,null,null,{"$f":"IF(Results!C21=\"\",\"\",Results!B21)","v":""},null,"",null,{"$error":"#VALUE!"},{"$error":"#VALUE!"},{"$error":"#VALUE!"},{"$error":"#VALUE!"},{"$error":"#VALUE!"},{"$error":"#VALUE!"},{"$error":"#VALUE!"},{"$error":"#VALUE!"},{"$error":"#VALUE!"},{"$error":"#VALUE!"}]
[null,null,null,null,null,null,null,null,{"$f":"IF(Results!C22=\"\",\"\",Results!B22)","v":""},null,"",null,{"$error":"#VALUE!"},{"$error":"#VALUE!"},{"$error":"#VALUE!"},{"$error":"#VALUE!"},{"$error":"#VALUE!"},{"$error":"#VALUE!"},{"$error":"#VALUE!"},{"$error":"#VALUE!"},{"$error":"#VALUE!"},{"$error":"#VALUE!"}]
[null,null,null,null,null,null,null,null,{"$f":"IF(Results!C23=\"\",\"\",Results!B23)","v":""},null,"",null,{"$error":"#VALUE!"},{"$error":"#VALUE!"},{"$error":"#VALUE!"},{"$error":"#VALUE!"},{"$error":"#VALUE!"},{"$error":"#VALUE!"},{"$error":"#VALUE!"},{"$error":"#VALUE!"},{"$error":"#VALUE!"},{"$error":"#VALUE!"}]
[null,null,null,null,null,null,null,null,{"$f":"IF(Results!C24=\"\",\"\",Results!B24)","v":""},null,"",null,{"$f":"SEARCH($C$6,J24)","v":{"$error":"#VALUE!"}},{"$f":"SEARCH($D$6,J24)","v":{"$error":"#VALUE!"}},{"$f":"SEARCH($E$6,J24)","v":{"$error":"#VALUE!"}},{"$f":"SEARCH($F$6,J24)","v":{"$error":"#VALUE!"}},{"$f":"IF((N24-M24)<0,$C$8,0)","v":{"$error":"#VALUE!"}},{"$f":"IF((O24-M24)<0,$C$8+$D$8,0)","v":{"$error":"#VALUE!"}},{"$f":"IF((P24-M24)<0,$C$8+$D$8+$E$8,0)","v":{"$error":"#VALUE!"}},{"$f":"IF((O24-N24)<0,$D$8,0)","v":{"$error":"#VALUE!"}},{"$f":"IF((P24-N24)<0,$D$8+$E$8,0)","v":{"$error":"#VALUE!"}},{"$f":"IF((P24-O24)<0,$E$8,0)","v":{"$error":"#VALUE!"}}]
[null,null,null,null,null,null,null,null,{"$f":"IF(Results!C25=\"\",\"\",Results!B25)","v":""},null,"",null,{"$error":"#VALUE!"},{"$error":"#VALUE!"},{"$error":"#VALUE!"},{"$error":"#VALUE!"},{"$error":"#VALUE!"},{"$error":"#VALUE!"},{"$error":"#VALUE!"},{"$error":"#VALUE!"},{"$error":"#VALUE!"},{"$error":"#VALUE!"}]
[null,null,null,null,null,null,null,null,{"$f":"IF(Results!C26=\"\",\"\",Results!B26)","v":""},null,"",null,{"$error":"#VALUE!"},{"$error":"#VALUE!"},{"$error":"#VALUE!"},{"$error":"#VALUE!"},{"$error":"#VALUE!"},{"$error":"#VALUE!"},{"$error":"#VALUE!"},{"$error":"#VALUE!"},{"$error":"#VALUE!"},{"$error":"#VALUE!"}]
[null,null,null,null,null,null,null,null,{"$f":"IF(Results!C27=\"\",\"\",Results!B27)","v":""},null,"",null,{"$error":"#VALUE!"},{"$error":"#VALUE!"},{"$error":"#VALUE!"},{"$error":"#VALUE!"},{"$error":"#VALUE!"},{"$error":"#VALUE!"},{"$error":"#VALUE!"},{"$error":"#VALUE!"},{"$error":"#VALUE!"},{"$error":"#VALUE!"}]
[null,null,null,null,null,null,null,null,{"$f":"IF(Results!C28=\"\",\"\",Results!B28)","v":""},null,"",null,{"$error":"#VALUE!"},{"$error":"#VALUE!"},{"$error":"#VALUE!"},{"$error":"#VALUE!"},{"$error":"#VALUE!"},{"$error":"#VALUE!"},{"$error":"#VALUE!"},{"$error":"#VALUE!"},{"$error":"#VALUE!"},{"$error":"#VALUE!"}]
[null,null,null,null,null,null,null,null,{"$f":"IF(Results!C29=\"\",\"\",Results!B29)","v":""},null,"",null,{"$error":"#VALUE!"},{"$error":"#VALUE!"},{"$error":"#VALUE!"},{"$error":"#VALUE!"},{"$error":"#VALUE!"},{"$error":"#VALUE!"},{"$error":"#VALUE!"},{"$error":"#VALUE!"},{"$error":"#VALUE!"},{"$error":"#VALUE!"}]
[null,null,null,null,null,null,null,null,{"$f":"IF(Results!C30=\"\",\"\",Results!B30)","v":""},null,"",null,{"$error":"#VALUE!"},{"$error":"#VALUE!"},{"$error":"#VALUE!"},{"$error":"#VALUE!"},{"$error":"#VALUE!"},{"$error":"#VALUE!"},{"$error":"#VALUE!"},{"$error":"#VALUE!"},{"$error":"#VALUE!"},{"$error":"#VALUE!"}]
[null,null,null,null,null,null,null,null,{"$f":"IF(Results!C31=\"\",\"\",Results!B31)","v":""},null,"",null,{"$error":"#VALUE!"},{"$error":"#VALUE!"},{"$error":"#VALUE!"},{"$error":"#VALUE!"},{"$error":"#VALUE!"},{"$error":"#VALUE!"},{"$error":"#VALUE!"},{"$error":"#VALUE!"},{"$error":"#VALUE!"},{"$error":"#VALUE!"}]
[null,null,null,null,null,null,null,null,{"$f":"IF(Results!C32=\"\",\"\",Results!B32)","v":""},null,"",null,{"$error":"#VALUE!"},{"$error":"#VALUE!"},{"$error":"#VALUE!"},{"$error":"#VALUE!"},{"$error":"#VALUE!"},{"$error":"#VALUE!"},{"$error":"#VALUE!"},{"$error":"#VALUE!"},{"$error":"#VALUE!"},{"$error":"#VALUE!"}]
[null,null,null,null,null,null,null,null,{"$f":"IF(Results!C33=\"\",\"\",Results!B33)","v":""},null,"",null,{"$error":"#VALUE!"},{"$error":"#VALUE!"},{"$error":"#VALUE!"},{"$error":"#VALUE!"},{"$error":"#VALUE!"},{"$error":"#VALUE!"},{"$error":"#VALUE!"},{"$error":"#VALUE!"},{"$error":"#VALUE!"},{"$error":"#VALUE!"}]
[null,null,null,null,null,null,null,null,{"$f":"IF(Results!C34=\"\",\"\",Results!B34)","v":""},null,{"$f":"IF($C$6=\"\",\"\",IF(I34=\"\",\"\",50-SUM(Q34:V34)))","v":""},null,{"$f":"SEARCH($C$6,J34)","v":{"$error":"#VALUE!"}},{"$f":"SEARCH($D$6,J34)","v":{"$error":"#VALUE!"}},{"$f":"SEARCH($E$6,J34)","v":{"$error":"#VALUE!"}},{"$f":"SEARCH($F$6,J34)","v":{"$error":"#VALUE!"}},{"$f":"IF((N34-M34)<0,$C$8,0)","v":{"$error":"#VALUE!"}},{"$f":"IF((O34-M34)<0,$C$8+$D$8,0)","v":{"$error":"#VALUE!"}},{"$f":"IF((P34-M34)<0,$C$8+$D$8+$E$8,0)","v":{"$error":"#VALUE!"}},{"$f":"IF((O34-N34)<0,$D$8,0)","v":{"$error":"#VALUE!"}},{"$f":"IF((P34-N34)<0,$D$8+$E$8,0)","v":{"$error":"#VALUE!"}},{"$f":"IF((P34-O34)<0,$E$8,0)","v":{"$error":"#VALUE!"}}]
[null,null,null,null,null,null,null,null,{"$f":"IF(Results!C35=\"\",\"\",Results!B35)","v":""},null,"",null,{"$error":"#VALUE!"},{"$error":"#VALUE!"},{"$error":"#VALUE!"},{"$error":"#VALUE!"},{"$error":"#VALUE!"},{"$error":"#VALUE!"},{"$error":"#VALUE!"},{"$error":"#VALUE!"},{"$error":"#VALUE!"},{"$error":"#VALUE!"}]
[null,null,null,null,null,null,null,null,{"$f":"IF(Results!C36=\"\",\"\",Results!B36)","v":""},null,"",null,{"$error":"#VALUE!"},{"$error":"#VALUE!"},{"$error":"#VALUE!"},{"$error":"#VALUE!"},{"$error":"#VALUE!"},{"$error":"#VALUE!"},{"$error":"#VALUE!"},{"$error":"#VALUE!"},{"$error":"#VALUE!"},{"$error":"#VALUE!"}]
[null,null,null,null,null,null,null,null,{"$f":"IF(Results!C37=\"\",\"\",Results!B37)","v":""},null,"",null,{"$error":"#VALUE!"},{"$error":"#VALUE!"},{"$error":"#VALUE!"},{"$error":"#VALUE!"},{"$error":"#VALUE!"},{"$error":"#VALUE!"},{"$error":"#VALUE!"},{"$error":"#VALUE!"},{"$error":"#VALUE!"},{"$error":"#VALUE!"}]
[null,null,null,null,null,null,null,null,{"$f":"IF(Results!C38=\"\",\"\",Results!B38)","v":""},null,"",null,{"$error":"#VALUE!"},{"$error":"#VALUE!"},{"$error":"#VALUE!"},{"$error":"#VALUE!"},{"$error":"#VALUE!"},{"$error":"#VALUE!"},{"$error":"#VALUE!"},{"$error":"#VALUE!"},{"$error":"#VALUE!"},{"$error":"#VALUE!"}]
[null,null,null,null,null,null,null,null,{"$f":"IF(Results!C39=\"\",\"\",Results!B39)","v":""},null,"",null,{"$error":"#VALUE!"},{"$error":"#VALUE!"},{"$error":"#VALUE!"},{"$error":"#VALUE!"},{"$error":"#VALUE!"},{"$error":"#VALUE!"},{"$error":"#VALUE!"},{"$error":"#VALUE!"},{"$error":"#VALUE!"},{"$error":"#VALUE!"}]
[null,null,null,null,null,null,null,null,{"$f":"IF(Results!C40=\"\",\"\",Results!B40)","v":""},null,"",null,{"$error":"#VALUE!"},{"$error":"#VALUE!"},{"$error":"#VALUE!"},{"$error":"#VALUE!"},{"$error":"#VALUE!"},{"$error":"#VALUE!"},{"$error":"#VALUE!"},{"$error":"#VALUE!"},{"$error":"#VALUE!"},{"$error":"#VALUE!"}]
[null,null,null,null,null,null,null,null,{"$f":"IF(Results!C41=\"\",\"\",Results!B41)","v":""},null,"",null,{"$error":"#VALUE!"},{"$error":"#VALUE!"},{"$error":"#VALUE!"},{"$error":"#VALUE!"},{"$error":"#VALUE!"},{"$error":"#VALUE!"},{"$error":"#VALUE!"},{"$error":"#VALUE!"},{"$error":"#VALUE!"},{"$error":"#VALUE!"}]
[null,null,null,null,null,null,null,null,{"$f":"IF(Results!C42=\"\",\"\",Results!B42)","v":""},null,"",null,{"$error":"#VALUE!"},{"$error":"#VALUE!"},{"$error":"#VALUE!"},{"$error":"#VALUE!"},{"$error":"#VALUE!"},{"$error":"#VALUE!"},{"$error":"#VALUE!"},{"$error":"#VALUE!"},{"$error":"#VALUE!"},{"$error":"#VALUE!"}]
[null,null,null,null,null,null,null,null,{"$f":"IF(Results!C43=\"\",\"\",Results!B43)","v":""},null,"",null,{"$error":"#VALUE!"},{"$error":"#VALUE!"},{"$error":"#VALUE!"},{"$error":"#VALUE!"},{"$error":"#VALUE!"},{"$error":"#VALUE!"},{"$error":"#VALUE!"},{"$error":"#VALUE!"},{"$error":"#VALUE!"},{"$error":"#VALUE!"}]
[null,null,null,null,null,null,null,null,{"$f":"IF(Results!C44=\"\",\"\",Results!B44)","v":""},null,"",null,{"$error":"#VALUE!"},{"$error":"#VALUE!"},{"$error":"#VALUE!"},{"$error":"#VALUE!"},{"$error":"#VALUE!"},{"$error":"#VALUE!"},{"$error":"#VALUE!"},{"$error":"#VALUE!"},{"$error":"#VALUE!"},{"$error":"#VALUE!"}]
[null,null,null,null,null,null,null,null,{"$f":"IF(Results!C45=\"\",\"\",Results!B45)","v":""},null,"",null,{"$error":"#VALUE!"},{"$error":"#VALUE!"},{"$error":"#VALUE!"},{"$error":"#VALUE!"},{"$error":"#VALUE!"},{"$error":"#VALUE!"},{"$error":"#VALUE!"},{"$error":"#VALUE!"},{"$error":"#VALUE!"},{"$error":"#VALUE!"}]
[null,null,null,null,null,null,null,null,{"$f":"IF(Results!C46=\"\",\"\",Results!B46)","v":""},null,"",null,{"$error":"#VALUE!"},{"$error":"#VALUE!"},{"$error":"#VALUE!"},{"$error":"#VALUE!"},{"$error":"#VALUE!"},{"$error":"#VALUE!"},{"$error":"#VALUE!"},{"$error":"#VALUE!"},{"$error":"#VALUE!"},{"$error":"#VALUE!"}]
[null,null,null,null,null,null,null,null,{"$f":"IF(Results!C47=\"\",\"\",Results!B47)","v":""},null,"",null,{"$error":"#VALUE!"},{"$error":"#VALUE!"},{"$error":"#VALUE!"},{"$error":"#VALUE!"},{"$error":"#VALUE!"},{"$error":"#VALUE!"},{"$error":"#VALUE!"},{"$error":"#VALUE!"},{"$error":"#VALUE!"},{"$error":"#VALUE!"}]
[null,null,null,null,null,null,null,null,{"$f":"IF(Results!C48=\"\",\"\",Results!B48)","v":""},null,"",null,{"$error":"#VALUE!"},{"$error":"#VALUE!"},{"$error":"#VALUE!"},{"$error":"#VALUE!"},{"$error":"#VALUE!"},{"$error":"#VALUE!"},{"$error":"#VALUE!"},{"$error":"#VALUE!"},{"$error":"#VALUE!"},{"$error":"#VALUE!"}]
[null,null,null,null,null,null,null,null,{"$f":"IF(Results!C49=\"\",\"\",Results!B49)","v":""},null,"",null,{"$error":"#VALUE!"},{"$error":"#VALUE!"},{"$error":"#VALUE!"},{"$error":"#VALUE!"},{"$error":"#VALUE!"},{"$error":"#VALUE!"},{"$error":"#VALUE!"},{"$error":"#VALUE!"},{"$error":"#VALUE!"},{"$error":"#VALUE!"}]
[null,null,null,null,null,null,null,null,{"$f":"IF(Results!C50=\"\",\"\",Results!B50)","v":""},null,"",null,{"$error":"#VALUE!"},{"$error":"#VALUE!"},{"$error":"#VALUE!"},{"$error":"#VALUE!"},{"$error":"#VALUE!"},{"$error":"#VALUE!"},{"$error":"#VALUE!"},{"$error":"#VALUE!"},{"$error":"#VALUE!"},{"$error":"#VALUE!"}]
[null,null,null,null,null,null,null,null,{"$f":"IF(Results!C51=\"\",\"\",Results!B51)","v":""},null,"",null,{"$error":"#VALUE!"},{"$error":"#VALUE!"},{"$error":"#VALUE!"},{"$error":"#VALUE!"},{"$error":"#VALUE!"},{"$error":"#VALUE!"},{"$error":"#VALUE!"},{"$error":"#VALUE!"},{"$error":"#VALUE!"},{"$error":"#VALUE!"}]
[null,null,null,null,null,null,null,null,{"$f":"IF(Results!C52=\"\",\"\",Results!B52)","v":""},null,"",null,{"$error":"#VALUE!"},{"$error":"#VALUE!"},{"$error":"#VALUE!"},{"$error":"#VALUE!"},{"$error":"#VALUE!"},{"$error":"#VALUE!"},{"$error":"#VALUE!"},{"$error":"#VALUE!"},{"$error":"#VALUE!"},{"$error":"#VALUE!"}]
[null,null,null,null,null,null,null,null,{"$f":"IF(Results!C53=\"\",\"\",Results!B53)","v":""},null,"",null,{"$error":"#VALUE!"},{"$error":"#VALUE!"},{"$error":"#VALUE!"},{"$error":"#VALUE!"},{"$error":"#VALUE!"},{"$error":"#VALUE!"},{"$error":"#VALUE!"},{"$error":"#VALUE!"},{"$error":"#VALUE!"},{"$error":"#VALUE!"}]
[null,null,null,null,null,null,null,null,{"$f":"IF(Results!C54=\"\",\"\",Results!B54)","v":""},null,"",null,{"$error":"#VALUE!"},{"$error":"#VALUE!"},{"$error":"#VALUE!"},{"$error":"#VALUE!"},{"$error":"#VALUE!"},{"$error":"#VALUE!"},{"$error":"#VALUE!"},{"$error":"#VALUE!"},{"$error":"#VALUE!"},{"$error":"#VALUE!"}]
[null,null,null,null,null,null,null,null,{"$f":"IF(Results!C55=\"\",\"\",Results!B55)","v":""},null,"",null,{"$error":"#VALUE!"},{"$error":"#VALUE!"},{"$error":"#VALUE!"},{"$error":"#VALUE!"},{"$error":"#VALUE!"},{"$error":"#VALUE!"},{"$error":"#VALUE!"},{"$error":"#VALUE!"},{"$error":"#VALUE!"},{"$error":"#VALUE!"}]
[null,null,null,null,null,null,null,null,{"$f":"IF(Results!C56=\"\",\"\",Results!B56)","v":""},null,"",null,{"$error":"#VALUE!"},{"$error":"#VALUE!"},{"$error":"#VALUE!"},{"$error":"#VALUE!"},{"$error":"#VALUE!"},{"$error":"#VALUE!"},{"$error":"#VALUE!"},{"$error":"#VALUE!"},{"$error":"#VALUE!"},{"$error":"#VALUE!"}]
[null,null,null,null,null,null,null,null,{"$f":"IF(Results!C57=\"\",\"\",Results!B57)","v":""},null,"",null,{"$error":"#VALUE!"},{"$error":"#VALUE!"},{"$error":"#VALUE!"},{"$error":"#VALUE!"},{"$error":"#VALUE!"},{"$error":"#VALUE!"},{"$error":"#VALUE!"},{"$error":"#VALUE!"},{"$error":"#VALUE!"},{"$error":"#VALUE!"}]
[null,null,null,null,null,null,null,null,{"$f":"IF(Results!C58=\"\",\"\",Results!B58)","v":""},null,"",null,{"$error":"#VALUE!"},{"$error":"#VALUE!"},{"$error":"#VALUE!"},{"$error":"#VALUE!"},{"$error":"#VALUE!"},{"$error":"#VALUE!"},{"$error":"#VALUE!"},{"$error":"#VALUE!"},{"$error":"#VALUE!"},{"$error":"#VALUE!"}]
[null,null,null,null,null,null,null,null,{"$f":"IF(Results!C59=\"\",\"\",Results!B59)","v":""},null,"",null,{"$error":"#VALUE!"},{"$error":"#VALUE!"},{"$error":"#VALUE!"},{"$error":"#VALUE!"},{"$error":"#VALUE!"},{"$error":"#VALUE!"},{"$error":"#VALUE!"},{"$error":"#VALUE!"},{"$error":"#VALUE!"},{"$error":"#VALUE!"}]
[null,null,null,null,null,null,null,null,{"$f":"IF(Results!C60=\"\",\"\",Results!B60)","v":""},null,"",null,{"$error":"#VALUE!"},{"$error":"#VALUE!"},{"$error":"#VALUE!"},{"$error":"#VALUE!"},{"$error":"#VALUE!"},{"$error":"#VALUE!"},{"$error":"#VALUE!"},{"$error":"#VALUE!"},{"$error":"#VALUE!"},{"$error":"#VALUE!"}]
[null,null,null,null,null,null,null,null,{"$f":"IF(Results!C61=\"\",\"\",Results!B61)","v":""},null,"",null,{"$error":"#VALUE!"},{"$error":"#VALUE!"},{"$error":"#VALUE!"},{"$error":"#VALUE!"},{"$error":"#VALUE!"},{"$error":"#VALUE!"},{"$error":"#VALUE!"},{"$error":"#VALUE!"},{"$error":"#VALUE!"},{"$error":"#VALUE!"}]
[null,null,null,null,null,null,null,null,{"$f":"IF(Results!C62=\"\",\"\",Results!B62)","v":""},null,"",null,{"$error":"#VALUE!"},{"$error":"#VALUE!"},{"$error":"#VALUE!"},{"$error":"#VALUE!"},{"$error":"#VALUE!"},{"$error":"#VALUE!"},{"$error":"#VALUE!"},{"$error":"#VALUE!"},{"$error":"#VALUE!"},{"$error":"#VALUE!"}]
[null,null,null,null,null,null,null,null,{"$f":"IF(Results!C63=\"\",\"\",Results!B63)","v":""},null,"",null,{"$error":"#VALUE!"},{"$error":"#VALUE!"},{"$error":"#VALUE!"},{"$error":"#VALUE!"},{"$error":"#VALUE!"},{"$error":"#VALUE!"},{"$error":"#VALUE!"},{"$error":"#VALUE!"},{"$error":"#VALUE!"},{"$error":"#VALUE!"}]
[null,null,null,null,null,null,null,null,{"$f":"IF(Results!C64=\"\",\"\",Results!B64)","v":""},null,"",null,{"$error":"#VALUE!"},{"$error":"#VALUE!"},{"$error":"#VALUE!"},{"$error":"#VALUE!"},{"$error":"#VALUE!"},{"$error":"#VALUE!"},{"$error":"#VALUE!"},{"$error":"#VALUE!"},{"$error":"#VALUE!"},{"$error":"#VALUE!"}]
[null,null,null,null,null,null,null,null,{"$f":"IF(Results!C65=\"\",\"\",Results!B65)","v":""},null,"",null,{"$error":"#VALUE!"},{"$error":"#VALUE!"},{"$error":"#VALUE!"},{"$error":"#VALUE!"},{"$error":"#VALUE!"},{"$error":"#VALUE!"},{"$error":"#VALUE!"},{"$error":"#VALUE!"},{"$error":"#VALUE!"},{"$error":"#VALUE!"}]
[null,null,null,null,null,null,null,null,{"$f":"IF(Results!C66=\"\",\"\",Results!B66)","v":""},null,"",null,{"$error":"#VALUE!"},{"$error":"#VALUE!"},{"$error":"#VALUE!"},{"$error":"#VALUE!"},{"$error":"#VALUE!"},{"$error":"#VALUE!"},{"$error":"#VALUE!"},{"$error":"#VALUE!"},{"$error":"#VALUE!"},{"$error":"#VALUE!"}]
[null,null,null,null,null,null,null,null,{"$f":"IF(Results!C67=\"\",\"\",Results!B67)","v":""},null,"",null,{"$error":"#VALUE!"},{"$error":"#VALUE!"},{"$error":"#VALUE!"},{"$error":"#VALUE!"},{"$error":"#VALUE!"},{"$error":"#VALUE!"},{"$error":"#VALUE!"},{"$error":"#VALUE!"},{"$error":"#VALUE!"},{"$error":"#VALUE!"}]
[null,null,null,null,null,null,null,null,{"$f":"IF(Results!C68=\"\",\"\",Results!B68)","v":""},null,"",null,{"$error":"#VALUE!"},{"$error":"#VALUE!"},{"$error":"#VALUE!"},{"$error":"#VALUE!"},{"$error":"#VALUE!"},{"$error":"#VALUE!"},{"$error":"#VALUE!"},{"$error":"#VALUE!"},{"$error":"#VALUE!"},{"$error":"#VALUE!"}]
[null,null,null,null,null,null,null,null,{"$f":"IF(Results!C69=\"\",\"\",Results!B69)","v":""},null,"",null,{"$error":"#VALUE!"},{"$error":"#VALUE!"},{"$error":"#VALUE!"},{"$error":"#VALUE!"},{"$error":"#VALUE!"},{"$error":"#VALUE!"},{"$error":"#VALUE!"},{"$error":"#VALUE!"},{"$error":"#VALUE!"},{"$error":"#VALUE!"}]
[null,null,null,null,null,null,null,null,{"$f":"IF(Results!C70=\"\",\"\",Results!B70)","v":""},null,"",null,{"$error":"#VALUE!"},{"$error":"#VALUE!"},{"$error":"#VALUE!"},{"$error":"#VALUE!"},{"$error":"#VALUE!"},{"$error":"#VALUE!"},{"$error":"#VALUE!"},{"$error":"#VALUE!"},{"$error":"#VALUE!"},{"$error":"#VALUE!"}]
[null,null,null,null,null,null,null,null,{"$f":"IF(Results!C71=\"\",\"\",Results!B71)","v":""},null,"",null,{"$error":"#VALUE!"},{"$error":"#VALUE!"},{"$error":"#VALUE!"},{"$error":"#VALUE!"},{"$error":"#VALUE!"},{"$error":"#VALUE!"},{"$error":"#VALUE!"},{"$error":"#VALUE!"},{"$error":"#VALUE!"},{"$error":"#VALUE!"}]
[null,null,null,null,null,null,null,null,{"$f":"IF(Results!C72=\"\",\"\",Results!B72)","v":""},null,"",null,{"$error":"#VALUE!"},{"$error":"#VALUE!"},{"$error":"#VALUE!"},{"$error":"#VALUE!"},{"$error":"#VALUE!"},{"$error":"#VALUE!"},{"$error":"#VALUE!"},{"$error":"#VALUE!"},{"$error":"#VALUE!"},{"$error":"#VALUE!"}]
[null,null,null,null,null,null,null,null,{"$f":"IF(Results!C73=\"\",\"\",Results!B73)","v":""},null,"",null,{"$error":"#VALUE!"},{"$error":"#VALUE!"},{"$error":"#VALUE!"},{"$error":"#VALUE!"},{"$error":"#VALUE!"},{"$error":"#VALUE!"},{"$error":"#VALUE!"},{"$error":"#VALUE!"},{"$error":"#VALUE!"},{"$error":"#VALUE!"}]
[null,null,null,null,null,null,null,null,{"$f":"IF(Results!C74=\"\",\"\",Results!B74)","v":""},null,"",null,{"$error":"#VALUE!"},{"$error":"#VALUE!"},{"$error":"#VALUE!"},{"$error":"#VALUE!"},{"$error":"#VALUE!"},{"$error":"#VALUE!"},{"$error":"#VALUE!"},{"$error":"#VALUE!"},{"$error":"#VALUE!"},{"$error":"#VALUE!"}]
[null,null,null,null,null,null,null,null,{"$f":"IF(Results!C75=\"\",\"\",Results!B75)","v":""},null,"",null,{"$error":"#VALUE!"},{"$error":"#VALUE!"},{"$error":"#VALUE!"},{"$error":"#VALUE!"},{"$error":"#VALUE!"},{"$error":"#VALUE!"},{"$error":"#VALUE!"},{"$error":"#VALUE!"},{"$error":"#VALUE!"},{"$error":"#VALUE!"}]
[null,null,null,null,null,null,null,null,{"$f":"IF(Results!C76=\"\",\"\",Results!B76)","v":""},null,"",null,{"$error":"#VALUE!"},{"$error":"#VALUE!"},{"$error":"#VALUE!"},{"$error":"#VALUE!"},{"$error":"#VALUE!"},{"$error":"#VALUE!"},{"$error":"#VALUE!"},{"$error":"#VALUE!"},{"$error":"#VALUE!"},{"$error":"#VALUE!"}]
[null,null,null,null,null,null,null,null,{"$f":"IF(Results!C77=\"\",\"\",Results!B77)","v":""},null,"",null,{"$error":"#VALUE!"},{"$error":"#VALUE!"},{"$error":"#VALUE!"},{"$error":"#VALUE!"},{"$error":"#VALUE!"},{"$error":"#VALUE!"},{"$error":"#VALUE!"},{"$error":"#VALUE!"},{"$error":"#VALUE!"},{"$error":"#VALUE!"}]
[null,null,null,null,null,null,null,null,{"$f":"IF(Results!C78=\"\",\"\",Results!B78)","v":""},null,"",null,{"$error":"#VALUE!"},{"$error":"#VALUE!"},{"$error":"#VALUE!"},{"$error":"#VALUE!"},{"$error":"#VALUE!"},{"$error":"#VALUE!"},{"$error":"#VALUE!"},{"$error":"#VALUE!"},{"$error":"#VALUE!"},{"$error":"#VALUE!"}]
[null,null,null,null,null,null,null,null,{"$f":"IF(Results!C79=\"\",\"\",Results!B79)","v":""},null,"",null,{"$error":"#VALUE!"},{"$error":"#VALUE!"},{"$error":"#VALUE!"},{"$error":"#VALUE!"},{"$error":"#VALUE!"},{"$error":"#VALUE!"},{"$error":"#VALUE!"},{"$error":"#VALUE!"},{"$error":"#VALUE!"},{"$error":"#VALUE!"}]
[null,null,null,null,null,null,null,null,{"$f":"IF(Results!C80=\"\",\"\",Results!B80)","v":""},null,"",null,{"$error":"#VALUE!"},{"$error":"#VALUE!"},{"$error":"#VALUE!"},{"$error":"#VALUE!"},{"$error":"#VALUE!"},{"$error":"#VALUE!"},{"$error":"#VALUE!"},{"$error":"#VALUE!"},{"$error":"#VALUE!"},{"$error":"#VALUE!"}]
[null,null,null,null,null,null,null,null,{"$f":"IF(Results!C81=\"\",\"\",Results!B81)","v":""},null,"",null,{"$error":"#VALUE!"},{"$error":"#VALUE!"},{"$error":"#VALUE!"},{"$error":"#VALUE!"},{"$error":"#VALUE!"},{"$error":"#VALUE!"},{"$error":"#VALUE!"},{"$error":"#VALUE!"},{"$error":"#VALUE!"},{"$error":"#VALUE!"}]
[null,null,null,null,null,null,null,null,{"$f":"IF(Results!C82=\"\",\"\",Results!B82)","v":""},null,"",null,{"$error":"#VALUE!"},{"$error":"#VALUE!"},{"$error":"#VALUE!"},{"$error":"#VALUE!"},{"$error":"#VALUE!"},{"$error":"#VALUE!"},{"$error":"#VALUE!"},{"$error":"#VALUE!"},{"$error":"#VALUE!"},{"$error":"#VALUE!"}]
[null,null,null,null,null,null,null,null,{"$f":"IF(Results!C83=\"\",\"\",Results!B83)","v":""},null,"",null,{"$error":"#VALUE!"},{"$error":"#VALUE!"},{"$error":"#VALUE!"},{"$error":"#VALUE!"},{"$error":"#VALUE!"},{"$error":"#VALUE!"},{"$error":"#VALUE!"},{"$error":"#VALUE!"},{"$error":"#VALUE!"},{"$error":"#VALUE!"}]
[null,null,null,null,null,null,null,null,{"$f":"IF(Results!C84=\"\",\"\",Results!B84)","v":""},null,"",null,{"$error":"#VALUE!"},{"$error":"#VALUE!"},{"$error":"#VALUE!"},{"$error":"#VALUE!"},{"$error":"#VALUE!"},{"$error":"#VALUE!"},{"$error":"#VALUE!"},{"$error":"#VALUE!"},{"$error":"#VALUE!"},{"$error":"#VALUE!"}]
[null,null,null,null,null,null,null,null,{"$f":"IF(Results!C85=\"\",\"\",Results!B85)","v":""},null,"",null,{"$error":"#VALUE!"},{"$error":"#VALUE!"},{"$error":"#VALUE!"},{"$error":"#VALUE!"},{"$error":"#VALUE!"},{"$error":"#VALUE!"},{"$error":"#VALUE!"},{"$error":"#VALUE!"},{"$error":"#VALUE!"},{"$error":"#VALUE!"}]
[null,null,null,null,null,null,null,null,{"$f":"IF(Results!C86=\"\",\"\",Results!B86)","v":""},null,"",null,{"$error":"#VALUE!"},{"$error":"#VALUE!"},{"$error":"#VALUE!"},{"$error":"#VALUE!"},{"$error":"#VALUE!"},{"$error":"#VALUE!"},{"$error":"#VALUE!"},{"$error":"#VALUE!"},{"$error":"#VALUE!"},{"$error":"#VALUE!"}]
[null,null,null,null,null,null,null,null,{"$f":"IF(Results!C87=\"\",\"\",Results!B87)","v":""},null,"",null,{"$error":"#VALUE!"},{"$error":"#VALUE!"},{"$error":"#VALUE!"},{"$error":"#VALUE!"},{"$error":"#VALUE!"},{"$error":"#VALUE!"},{"$error":"#VALUE!"},{"$error":"#VALUE!"},{"$error":"#VALUE!"},{"$error":"#VALUE!"}]
[null,null,null,null,null,null,null,null,{"$f":"IF(Results!C88=\"\",\"\",Results!B88)","v":""},null,"",null,{"$error":"#VALUE!"},{"$error":"#VALUE!"},{"$error":"#VALUE!"},{"$error":"#VALUE!"},{"$error":"#VALUE!"},{"$error":"#VALUE!"},{"$error":"#VALUE!"},{"$error":"#VALUE!"},{"$error":"#VALUE!"},{"$error":"#VALUE!"}]
[null,null,null,null,null,null,null,null,{"$f":"IF(Results!C89=\"\",\"\",Results!B89)","v":""},null,"",null,{"$error":"#VALUE!"},{"$error":"#VALUE!"},{"$error":"#VALUE!"},{"$error":"#VALUE!"},{"$error":"#VALUE!"},{"$error":"#VALUE!"},{"$error":"#VALUE!"},{"$error":"#VALUE!"},{"$error":"#VALUE!"},{"$error":"#VALUE!"}]
[null,null,null,null,null,null,null,null,{"$f":"IF(Results!C90=\"\",\"\",Results!B90)","v":""},null,"",null,{"$error":"#VALUE!"},{"$error":"#VALUE!"},{"$error":"#VALUE!"},{"$error":"#VALUE!"},{"$error":"#VALUE!"},{"$error":"#VALUE!"},{"$error":"#VALUE!"},{"$error":"#VALUE!"},{"$error":"#VALUE!"},{"$error":"#VALUE!"}]
[null,null,null,null,null,null,null,null,{"$f":"IF(Results!C91=\"\",\"\",Results!B91)","v":""},null,"",null,{"$error":"#VALUE!"},{"$error":"#VALUE!"},{"$error":"#VALUE!"},{"$error":"#VALUE!"},{"$error":"#VALUE!"},{"$error":"#VALUE!"},{"$error":"#VALUE!"},{"$error":"#VALUE!"},{"$error":"#VALUE!"},{"$error":"#VALUE!"}]
[null,null,null,null,null,null,null,null,{"$f":"IF(Results!C92=\"\",\"\",Results!B92)","v":""},null,"",null,{"$error":"#VALUE!"},{"$error":"#VALUE!"},{"$error":"#VALUE!"},{"$error":"#VALUE!"},{"$error":"#VALUE!"},{"$error":"#VALUE!"},{"$error":"#VALUE!"},{"$error":"#VALUE!"},{"$error":"#VALUE!"},{"$error":"#VALUE!"}]
[null,null,null,null,null,null,null,null,{"$f":"IF(Results!C93=\"\",\"\",Results!B93)","v":""},null,"",null,{"$error":"#VALUE!"},{"$error":"#VALUE!"},{"$error":"#VALUE!"},{"$error":"#VALUE!"},{"$error":"#VALUE!"},{"$error":"#VALUE!"},{"$error":"#VALUE!"},{"$error":"#VALUE!"},{"$error":"#VALUE!"},{"$error":"#VALUE!"}]
[null,null,null,null,null,null,null,null,{"$f":"IF(Results!C94=\"\",\"\",Results!B94)","v":""},null,"",null,{"$error":"#VALUE!"},{"$error":"#VALUE!"},{"$error":"#VALUE!"},{"$error":"#VALUE!"},{"$error":"#VALUE!"},{"$error":"#VALUE!"},{"$error":"#VALUE!"},{"$error":"#VALUE!"},{"$error":"#VALUE!"},{"$error":"#VALUE!"}]
[null,null,null,null,null,null,null,null,{"$f":"IF(Results!C95=\"\",\"\",Results!B95)","v":""},null,"",null,{"$error":"#VALUE!"},{"$error":"#VALUE!"},{"$error":"#VALUE!"},{"$error":"#VALUE!"},{"$error":"#VALUE!"},{"$error":"#VALUE!"},{"$error":"#VALUE!"},{"$error":"#VALUE!"},{"$error":"#VALUE!"},{"$error":"#VALUE!"}]
[null,null,null,null,null,null,null,null,{"$f":"IF(Results!C96=\"\",\"\",Results!B96)","v":""},null,"",null,{"$error":"#VALUE!"},{"$error":"#VALUE!"},{"$error":"#VALUE!"},{"$error":"#VALUE!"},{"$error":"#VALUE!"},{"$error":"#VALUE!"},{"$error":"#VALUE!"},{"$error":"#VALUE!"},{"$error":"#VALUE!"},{"$error":"#VALUE!"}]
[null,null,null,null,null,null,null,null,{"$f":"IF(Results!C97=\"\",\"\",Results!B97)","v":""},null,"",null,{"$error":"#VALUE!"},{"$error":"#VALUE!"},{"$error":"#VALUE!"},{"$error":"#VALUE!"},{"$error":"#VALUE!"},{"$error":"#VALUE!"},{"$error":"#VALUE!"},{"$error":"#VALUE!"},{"$error":"#VALUE!"},{"$error":"#VALUE!"}]
[null,null,null,null,null,null,null,null,{"$f":"IF(Results!C98=\"\",\"\",Results!B98)","v":""},null,{"$f":"IF($C$6=\"\",\"\",IF(I98=\"\",\"\",50-SUM(Q98:V98)))","v":""},null,{"$f":"SEARCH($C$6,J98)","v":{"$error":"#VALUE!"}},{"$f":"SEARCH($D$6,J98)","v":{"$error":"#VALUE!"}},{"$f":"SEARCH($E$6,J98)","v":{"$error":"#VALUE!"}},{"$f":"SEARCH($F$6,J98)","v":{"$error":"#VALUE!"}},{"$f":"IF((N98-M98)<0,$C$8,0)","v":{"$error":"#VALUE!"}},{"$f":"IF((O98-M98)<0,$C$8+$D$8,0)","v":{"$error":"#VALUE!"}},{"$f":"IF((P98-M98)<0,$C$8+$D$8+$E$8,0)","v":{"$error":"#VALUE!"}},{"$f":"IF((O98-N98)<0,$D$8,0)","v":{"$error":"#VALUE!"}},{"$f":"IF((P98-N98)<0,$D$8+$E$8,0)","v":{"$error":"#VALUE!"}},{"$f":"IF((P98-O98)<0,$E$8,0)","v":{"$error":"#VALUE!"}}]
[null,null,null,null,null,null,null,null,{"$f":"IF(Results!C99=\"\",\"\",Results!B99)","v":""},null,"",null,{"$error":"#VALUE!"},{"$error":"#VALUE!"},{"$error":"#VALUE!"},{"$error":"#VALUE!"},{"$error":"#VALUE!"},{"$error":"#VALUE!"},{"$error":"#VALUE!"},{"$error":"#VALUE!"},{"$error":"#VALUE!"},{"$error":"#VALUE!"}]
[null,null,null,null,null,null,null,null,{"$f":"IF(Results!C100=\"\",\"\",Results!B100)","v":""},null,"",null,{"$error":"#VALUE!"},{"$error":"#VALUE!"},{"$error":"#VALUE!"},{"$error":"#VALUE!"},{"$error":"#VALUE!"},{"$error":"#VALUE!"},{"$error":"#VALUE!"},{"$error":"#VALUE!"},{"$error":"#VALUE!"},{"$error":"#VALUE!"}]
[null,null,null,null,null,null,null,null,{"$f":"IF(Results!C101=\"\",\"\",Results!B101)","v":""},null,"",null,{"$error":"#VALUE!"},{"$error":"#VALUE!"},{"$error":"#VALUE!"},{"$error":"#VALUE!"},{"$error":"#VALUE!"},{"$error":"#VALUE!"},{"$error":"#VALUE!"},{"$error":"#VALUE!"},{"$error":"#VALUE!"},{"$error":"#VALUE!"}]
[null,null,null,null,null,null,null,null,{"$f":"IF(Results!C102=\"\",\"\",Results!B102)","v":""},null,"",null,{"$error":"#VALUE!"},{"$error":"#VALUE!"},{"$error":"#VALUE!"},{"$error":"#VALUE!"},{"$error":"#VALUE!"},{"$error":"#VALUE!"},{"$error":"#VALUE!"},{"$error":"#VALUE!"},{"$error":"#VALUE!"},{"$error":"#VALUE!"}]
[null,null,null,null,null,null,null,null,{"$f":"IF(Results!C103=\"\",\"\",Results!B103)","v":""},null,"",null,{"$error":"#VALUE!"},{"$error":"#VALUE!"},{"$error":"#VALUE!"},{"$error":"#VALUE!"},{"$error":"#VALUE!"},{"$error":"#VALUE!"},{"$error":"#VALUE!"},{"$error":"#VALUE!"},{"$error":"#VALUE!"},{"$error":"#VALUE!"}]

{"sheet":"Group2","index":3,"n_rows":103,"n_cols":22,"rows_kept":103,"cut":false,"hidden":false,"merged":[[1,3,1,8]]}
[]
[null,null,"Group 2 :","fresions"]
[null,null,null,null,null,null,null,null,"Entrant No","Placings","Score",null,"J1","J2","J3","J4","PO","QO","RO","QP","RP","RQ"]
[null,null,null,null,null,null,null,null,{"$f":"IF(Results!C4=\"\",\"\",Results!B4)","v":""},null,{"$f":"IF($C$6=\"\",\"\",IF(I4=\"\",\"\",50-SUM(Q4:V4)))","v":""},null,{"$f":"SEARCH($C$6,J4)","v":{"$error":"#VALUE!"}},{"$f":"SEARCH($D$6,J4)","v":{"$error":"#VALUE!"}},{"$f":"SEARCH($E$6,J4)","v":{"$error":"#VALUE!"}},{"$f":"SEARCH($F$6,J4)","v":{"$error":"#VALUE!"}},{"$f":"IF((N4-M4)<0,$C$8,0)","v":{"$error":"#VALUE!"}},{"$f":"IF((O4-M4)<0,$C$8+$D$8,0)","v":{"$error":"#VALUE!"}},{"$f":"IF((P4-M4)<0,$C$8+$D$8+$E$8,0)","v":{"$error":"#VALUE!"}},{"$f":"IF((O4-N4)<0,$D$8,0)","v":{"$error":"#VALUE!"}},{"$f":"IF((P4-N4)<0,$D$8+$E$8,0)","v":{"$error":"#VALUE!"}},{"$f":"IF((P4-O4)<0,$E$8,0)","v":{"$error":"#VALUE!"}}]
[null,null,"Judge's Placings",null,null,null,null,null,{"$f":"IF(Results!C5=\"\",\"\",Results!B5)","v":""},null,{"$f":"IF($C$6=\"\",\"\",IF(I5=\"\",\"\",50-SUM(Q5:V5)))","v":""},null,{"$error":"#VALUE!"},{"$error":"#VALUE!"},{"$error":"#VALUE!"},{"$error":"#VALUE!"},{"$error":"#VALUE!"},{"$error":"#VALUE!"},{"$error":"#VALUE!"},{"$error":"#VALUE!"},{"$error":"#VALUE!"},{"$error":"#VALUE!"}]
[null,null,null,null,null,null,null,null,{"$f":"IF(Results!C6=\"\",\"\",Results!B6)","v":""},null,"",null,{"$error":"#VALUE!"},{"$error":"#VALUE!"},{"$error":"#VALUE!"},{"$error":"#VALUE!"},{"$error":"#VALUE!"},{"$error":"#VALUE!"},{"$error":"#VALUE!"},{"$error":"#VALUE!"},{"$error":"#VALUE!"},{"$error":"#VALUE!"}]
[null,null,"Judge's Cuts",null,null,null,null,null,{"$f":"IF(Results!C7=\"\",\"\",Results!B7)","v":""},null,"",null,{"$error":"#VALUE!"},{"$error":"#VALUE!"},{"$error":"#VALUE!"},{"$error":"#VALUE!"},{"$error":"#VALUE!"},{"$error":"#VALUE!"},{"$error":"#VALUE!"},{"$error":"#VALUE!"},{"$error":"#VALUE!"},{"$error":"#VALUE!"}]
[null,null,null,null,null,null,null,null,{"$f":"IF(Results!C8=\"\",\"\",Results!B8)","v":""},null,"",null,{"$error":"#VALUE!"},{"$error":"#VALUE!"},{"$error":"#VALUE!"},{"$error":"#VALUE!"},{"$error":"#VALUE!"},{"$error":"#VALUE!"},{"$error":"#VALUE!"},{"$error":"#VALUE!"},{"$error":"#VALUE!"},{"$error":"#VALUE!"}]
[null,null,null,null,null,null,null,null,{"$f":"IF(Results!C9=\"\",\"\",Results!B9)","v":""},null,"",null,{"$error":"#VALUE!"},{"$error":"#VALUE!"},{"$error":"#VALUE!"},{"$error":"#VALUE!"},{"$error":"#VALUE!"},{"$error":"#VALUE!"},{"$error":"#VALUE!"},{"$error":"#VALUE!"},{"$error":"#VALUE!"},{"$error":"#VALUE!"}]
[null,null,{"$f":"IF($C$8=\"\",\"\",IF(($C$8+$D$8+$E$8)<3,\"WARNING : Cuts total less than 3\",\"\"))","v":""},null,null,null,null,null,{"$f":"IF(Results!C10=\"\",\"\",Results!B10)","v":""},null,"",null,{"$error":"#VALUE!"},{"$error":"#VALUE!"},{"$error":"#VALUE!"},{"$error":"#VALUE!"},{"$error":"#VALUE!"},{"$error":"#VALUE!"},{"$error":"#VALUE!"},{"$error":"#VALUE!"},{"$error":"#VALUE!"},{"$error":"#VALUE!"}]
[null,null,{"$f":"IF(($C$8+$D$8+$E$8)>15,\"WARNING : Cuts total more than 15\",\"\")","v":""},null,null,null,null,null,{"$f":"IF(Results!C11=\"\",\"\",Results!B11)","v":""},null,"",null,{"$error":"#VALUE!"},{"$error":"#VALUE!"},{"$error":"#VALUE!"},{"$error":"#VALUE!"},{"$error":"#VALUE!"},{"$error":"#VALUE!"},{"$error":"#VALUE!"},{"$error":"#VALUE!"},{"$error":"#VALUE!"},{"$error":"#VALUE!"}]
[null,null,{"$f":"IF(AND(($C$8+$D$8+$E$8)>=15,$D$8>5),\"WARNING : Middle cut more than 5\",\"\")","v":""},null,null,null,null,null,{"$f":"IF(Results!C12=\"\",\"\",Results!B12)","v":""},null,"",null,{"$error":"#VALUE!"},{"$error":"#VALUE!"},{"$error":"#VALUE!"},{"$error":"#VALUE!"},{"$error":"#VALUE!"},{"$error":"#VALUE!"},{"$error":"#VALUE!"},{"$error":"#VALUE!"},{"$error":"#VALUE!"},{"$error":"#VALUE!"}]
[null,null,{"$f":"IF(AND(($C$8+$D$8+$E$8)=14,$D$8>8),\"WARNING : Middle cut more than 8\",\"\")","v":""},null,null,null,null,null,{"$f":"IF(Results!C13=\"\",\"\",Results!B13)","v":""},null,"",null,{"$error":"#VALUE!"},{"$error":"#VALUE!"},{"$error":"#VALUE!"},{"$error":"#VALUE!"},{"$error":"#VALUE!"},{"$error":"#VALUE!"},{"$error":"#VALUE!"},{"$error":"#VALUE!"},{"$error":"#VALUE!"},{"$error":"#VALUE!"}]
[null,null,{"$f":"IF(AND(C10=\"\",C11=\"\",C12=\"\",C13=\"\"),\"\",\"Please discuss with Judge\")","v":""},null,null,null,null,null,{"$f":"IF(Results!C14=\"\",\"\",Results!B14)","v":""},null,"",null,{"$error":"#VALUE!"},{"$error":"#VALUE!"},{"$error":"#VALUE!"},{"$error":"#VALUE!"},{"$error":"#VALUE!"},{"$error":"#VALUE!"},{"$error":"#VALUE!"},{"$error":"#VALUE!"},{"$error":"#VALUE!"},{"$error":"#VALUE!"}]
[null,null,null,null,null,null,null,null,{"$f":"IF(Results!C15=\"\",\"\",Results!B15)","v":""},null,"",null,{"$error":"#VALUE!"},{"$error":"#VALUE!"},{"$error":"#VALUE!"},{"$error":"#VALUE!"},{"$error":"#VALUE!"},{"$error":"#VALUE!"},{"$error":"#VALUE!"},{"$error":"#VALUE!"},{"$error":"#VALUE!"},{"$error":"#VALUE!"}]
[null,null,null,null,null,null,null,null,{"$f":"IF(Results!C16=\"\",\"\",Results!B16)","v":""},null,"",null,{"$error":"#VALUE!"},{"$error":"#VALUE!"},{"$error":"#VALUE!"},{"$error":"#VALUE!"},{"$error":"#VALUE!"},{"$error":"#VALUE!"},{"$error":"#VALUE!"},{"$error":"#VALUE!"},{"$error":"#VALUE!"},{"$error":"#VALUE!"}]
[null,null,null,null,null,null,null,null,{"$f":"IF(Results!C17=\"\",\"\",Results!B17)","v":""},null,"",null,{"$error":"#VALUE!"},{"$error":"#VALUE!"},{"$error":"#VALUE!"},{"$error":"#VALUE!"},{"$error":"#VALUE!"},{"$error":"#VALUE!"},{"$error":"#VALUE!"},{"$error":"#VALUE!"},{"$error":"#VALUE!"},{"$error":"#VALUE!"}]
[null,null,null,null,null,null,null,null,{"$f":"IF(Results!C18=\"\",\"\",Results!B18)","v":""},null,"",null,{"$error":"#VALUE!"},{"$error":"#VALUE!"},{"$error":"#VALUE!"},{"$error":"#VALUE!"},{"$error":"#VALUE!"},{"$error":"#VALUE!"},{"$error":"#VALUE!"},{"$error":"#VALUE!"},{"$error":"#VALUE!"},{"$error":"#VALUE!"}]
[null,null,null,null,null,null,null,null,{"$f":"IF(Results!C19=\"\",\"\",Results!B19)","v":""},null,"",null,{"$error":"#VALUE!"},{"$error":"#VALUE!"},{"$error":"#VALUE!"},{"$error":"#VALUE!"},{"$error":"#VALUE!"},{"$error":"#VALUE!"},{"$error":"#VALUE!"},{"$error":"#VALUE!"},{"$error":"#VALUE!"},{"$error":"#VALUE!"}]
[null,null,null,null,null,null,null,null,{"$f":"IF(Results!C20=\"\",\"\",Results!B20)","v":""},null,"",null,{"$error":"#VALUE!"},{"$error":"#VALUE!"},{"$error":"#VALUE!"},{"$error":"#VALUE!"},{"$error":"#VALUE!"},{"$error":"#VALUE!"},{"$error":"#VALUE!"},{"$error":"#VALUE!"},{"$error":"#VALUE!"},{"$error":"#VALUE!"}]
[null,null,null,null,null,null,null,null,{"$f":"IF(Results!C21=\"\",\"\",Results!B21)","v":""},null,"",null,{"$error":"#VALUE!"},{"$error":"#VALUE!"},{"$error":"#VALUE!"},{"$error":"#VALUE!"},{"$error":"#VALUE!"},{"$error":"#VALUE!"},{"$error":"#VALUE!"},{"$error":"#VALUE!"},{"$error":"#VALUE!"},{"$error":"#VALUE!"}]
[null,null,null,null,null,null,null,null,{"$f":"IF(Results!C22=\"\",\"\",Results!B22)","v":""},null,"",null,{"$error":"#VALUE!"},{"$error":"#VALUE!"},{"$error":"#VALUE!"},{"$error":"#VALUE!"},{"$error":"#VALUE!"},{"$error":"#VALUE!"},{"$error":"#VALUE!"},{"$error":"#VALUE!"},{"$error":"#VALUE!"},{"$error":"#VALUE!"}]
[null,null,null,null,null,null,null,null,{"$f":"IF(Results!C23=\"\",\"\",Results!B23)","v":""},null,"",null,{"$error":"#VALUE!"},{"$error":"#VALUE!"},{"$error":"#VALUE!"},{"$error":"#VALUE!"},{"$error":"#VALUE!"},{"$error":"#VALUE!"},{"$error":"#VALUE!"},{"$error":"#VALUE!"},{"$error":"#VALUE!"},{"$error":"#VALUE!"}]
[null,null,null,null,null,null,null,null,{"$f":"IF(Results!C24=\"\",\"\",Results!B24)","v":""},null,"",null,{"$f":"SEARCH($C$6,J24)","v":{"$error":"#VALUE!"}},{"$f":"SEARCH($D$6,J24)","v":{"$error":"#VALUE!"}},{"$f":"SEARCH($E$6,J24)","v":{"$error":"#VALUE!"}},{"$f":"SEARCH($F$6,J24)","v":{"$error":"#VALUE!"}},{"$f":"IF((N24-M24)<0,$C$8,0)","v":{"$error":"#VALUE!"}},{"$f":"IF((O24-M24)<0,$C$8+$D$8,0)","v":{"$error":"#VALUE!"}},{"$f":"IF((P24-M24)<0,$C$8+$D$8+$E$8,0)","v":{"$error":"#VALUE!"}},{"$f":"IF((O24-N24)<0,$D$8,0)","v":{"$error":"#VALUE!"}},{"$f":"IF((P24-N24)<0,$D$8+$E$8,0)","v":{"$error":"#VALUE!"}},{"$f":"IF((P24-O24)<0,$E$8,0)","v":{"$error":"#VALUE!"}}]
[null,null,null,null,null,null,null,null,{"$f":"IF(Results!C25=\"\",\"\",Results!B25)","v":""},null,"",null,{"$error":"#VALUE!"},{"$error":"#VALUE!"},{"$error":"#VALUE!"},{"$error":"#VALUE!"},{"$error":"#VALUE!"},{"$error":"#VALUE!"},{"$error":"#VALUE!"},{"$error":"#VALUE!"},{"$error":"#VALUE!"},{"$error":"#VALUE!"}]
[null,null,null,null,null,null,null,null,{"$f":"IF(Results!C26=\"\",\"\",Results!B26)","v":""},null,"",null,{"$error":"#VALUE!"},{"$error":"#VALUE!"},{"$error":"#VALUE!"},{"$error":"#VALUE!"},{"$error":"#VALUE!"},{"$error":"#VALUE!"},{"$error":"#VALUE!"},{"$error":"#VALUE!"},{"$error":"#VALUE!"},{"$error":"#VALUE!"}]
[null,null,null,null,null,null,null,null,{"$f":"IF(Results!C27=\"\",\"\",Results!B27)","v":""},null,"",null,{"$error":"#VALUE!"},{"$error":"#VALUE!"},{"$error":"#VALUE!"},{"$error":"#VALUE!"},{"$error":"#VALUE!"},{"$error":"#VALUE!"},{"$error":"#VALUE!"},{"$error":"#VALUE!"},{"$error":"#VALUE!"},{"$error":"#VALUE!"}]
[null,null,null,null,null,null,null,null,{"$f":"IF(Results!C28=\"\",\"\",Results!B28)","v":""},null,"",null,{"$error":"#VALUE!"},{"$error":"#VALUE!"},{"$error":"#VALUE!"},{"$error":"#VALUE!"},{"$error":"#VALUE!"},{"$error":"#VALUE!"},{"$error":"#VALUE!"},{"$error":"#VALUE!"},{"$error":"#VALUE!"},{"$error":"#VALUE!"}]
[null,null,null,null,null,null,null,null,{"$f":"IF(Results!C29=\"\",\"\",Results!B29)","v":""},null,"",null,{"$error":"#VALUE!"},{"$error":"#VALUE!"},{"$error":"#VALUE!"},{"$error":"#VALUE!"},{"$error":"#VALUE!"},{"$error":"#VALUE!"},{"$error":"#VALUE!"},{"$error":"#VALUE!"},{"$error":"#VALUE!"},{"$error":"#VALUE!"}]
[null,null,null,null,null,null,null,null,{"$f":"IF(Results!C30=\"\",\"\",Results!B30)","v":""},null,"",null,{"$error":"#VALUE!"},{"$error":"#VALUE!"},{"$error":"#VALUE!"},{"$error":"#VALUE!"},{"$error":"#VALUE!"},{"$error":"#VALUE!"},{"$error":"#VALUE!"},{"$error":"#VALUE!"},{"$error":"#VALUE!"},{"$error":"#VALUE!"}]
[null,null,null,null,null,null,null,null,{"$f":"IF(Results!C31=\"\",\"\",Results!B31)","v":""},null,"",null,{"$error":"#VALUE!"},{"$error":"#VALUE!"},{"$error":"#VALUE!"},{"$error":"#VALUE!"},{"$error":"#VALUE!"},{"$error":"#VALUE!"},{"$error":"#VALUE!"},{"$error":"#VALUE!"},{"$error":"#VALUE!"},{"$error":"#VALUE!"}]
[null,null,null,null,null,null,null,null,{"$f":"IF(Results!C32=\"\",\"\",Results!B32)","v":""},null,"",null,{"$error":"#VALUE!"},{"$error":"#VALUE!"},{"$error":"#VALUE!"},{"$error":"#VALUE!"},{"$error":"#VALUE!"},{"$error":"#VALUE!"},{"$error":"#VALUE!"},{"$error":"#VALUE!"},{"$error":"#VALUE!"},{"$error":"#VALUE!"}]
[null,null,null,null,null,null,null,null,{"$f":"IF(Results!C33=\"\",\"\",Results!B33)","v":""},null,"",null,{"$error":"#VALUE!"},{"$error":"#VALUE!"},{"$error":"#VALUE!"},{"$error":"#VALUE!"},{"$error":"#VALUE!"},{"$error":"#VALUE!"},{"$error":"#VALUE!"},{"$error":"#VALUE!"},{"$error":"#VALUE!"},{"$error":"#VALUE!"}]
[null,null,null,null,null,null,null,null,{"$f":"IF(Results!C34=\"\",\"\",Results!B34)","v":""},null,{"$f":"IF($C$6=\"\",\"\",IF(I34=\"\",\"\",50-SUM(Q34:V34)))","v":""},null,{"$f":"SEARCH($C$6,J34)","v":{"$error":"#VALUE!"}},{"$f":"SEARCH($D$6,J34)","v":{"$error":"#VALUE!"}},{"$f":"SEARCH($E$6,J34)","v":{"$error":"#VALUE!"}},{"$f":"SEARCH($F$6,J34)","v":{"$error":"#VALUE!"}},{"$f":"IF((N34-M34)<0,$C$8,0)","v":{"$error":"#VALUE!"}},{"$f":"IF((O34-M34)<0,$C$8+$D$8,0)","v":{"$error":"#VALUE!"}},{"$f":"IF((P34-M34)<0,$C$8+$D$8+$E$8,0)","v":{"$error":"#VALUE!"}},{"$f":"IF((O34-N34)<0,$D$8,0)","v":{"$error":"#VALUE!"}},{"$f":"IF((P34-N34)<0,$D$8+$E$8,0)","v":{"$error":"#VALUE!"}},{"$f":"IF((P34-O34)<0,$E$8,0)","v":{"$error":"#VALUE!"}}]
[null,null,null,null,null,null,null,null,{"$f":"IF(Results!C35=\"\",\"\",Results!B35)","v":""},null,"",null,{"$error":"#VALUE!"},{"$error":"#VALUE!"},{"$error":"#VALUE!"},{"$error":"#VALUE!"},{"$error":"#VALUE!"},{"$error":"#VALUE!"},{"$error":"#VALUE!"},{"$error":"#VALUE!"},{"$error":"#VALUE!"},{"$error":"#VALUE!"}]
[null,null,null,null,null,null,null,null,{"$f":"IF(Results!C36=\"\",\"\",Results!B36)","v":""},null,"",null,{"$error":"#VALUE!"},{"$error":"#VALUE!"},{"$error":"#VALUE!"},{"$error":"#VALUE!"},{"$error":"#VALUE!"},{"$error":"#VALUE!"},{"$error":"#VALUE!"},{"$error":"#VALUE!"},{"$error":"#VALUE!"},{"$error":"#VALUE!"}]
[null,null,null,null,null,null,null,null,{"$f":"IF(Results!C37=\"\",\"\",Results!B37)","v":""},null,"",null,{"$error":"#VALUE!"},{"$error":"#VALUE!"},{"$error":"#VALUE!"},{"$error":"#VALUE!"},{"$error":"#VALUE!"},{"$error":"#VALUE!"},{"$error":"#VALUE!"},{"$error":"#VALUE!"},{"$error":"#VALUE!"},{"$error":"#VALUE!"}]
[null,null,null,null,null,null,null,null,{"$f":"IF(Results!C38=\"\",\"\",Results!B38)","v":""},null,"",null,{"$error":"#VALUE!"},{"$error":"#VALUE!"},{"$error":"#VALUE!"},{"$error":"#VALUE!"},{"$error":"#VALUE!"},{"$error":"#VALUE!"},{"$error":"#VALUE!"},{"$error":"#VALUE!"},{"$error":"#VALUE!"},{"$error":"#VALUE!"}]
[null,null,null,null,null,null,null,null,{"$f":"IF(Results!C39=\"\",\"\",Results!B39)","v":""},null,"",null,{"$error":"#VALUE!"},{"$error":"#VALUE!"},{"$error":"#VALUE!"},{"$error":"#VALUE!"},{"$error":"#VALUE!"},{"$error":"#VALUE!"},{"$error":"#VALUE!"},{"$error":"#VALUE!"},{"$error":"#VALUE!"},{"$error":"#VALUE!"}]
[null,null,null,null,null,null,null,null,{"$f":"IF(Results!C40=\"\",\"\",Results!B40)","v":""},null,"",null,{"$error":"#VALUE!"},{"$error":"#VALUE!"},{"$error":"#VALUE!"},{"$error":"#VALUE!"},{"$error":"#VALUE!"},{"$error":"#VALUE!"},{"$error":"#VALUE!"},{"$error":"#VALUE!"},{"$error":"#VALUE!"},{"$error":"#VALUE!"}]
[null,null,null,null,null,null,null,null,{"$f":"IF(Results!C41=\"\",\"\",Results!B41)","v":""},null,"",null,{"$error":"#VALUE!"},{"$error":"#VALUE!"},{"$error":"#VALUE!"},{"$error":"#VALUE!"},{"$error":"#VALUE!"},{"$error":"#VALUE!"},{"$error":"#VALUE!"},{"$error":"#VALUE!"},{"$error":"#VALUE!"},{"$error":"#VALUE!"}]
[null,null,null,null,null,null,null,null,{"$f":"IF(Results!C42=\"\",\"\",Results!B42)","v":""},null,"",null,{"$error":"#VALUE!"},{"$error":"#VALUE!"},{"$error":"#VALUE!"},{"$error":"#VALUE!"},{"$error":"#VALUE!"},{"$error":"#VALUE!"},{"$error":"#VALUE!"},{"$error":"#VALUE!"},{"$error":"#VALUE!"},{"$error":"#VALUE!"}]
[null,null,null,null,null,null,null,null,{"$f":"IF(Results!C43=\"\",\"\",Results!B43)","v":""},null,"",null,{"$error":"#VALUE!"},{"$error":"#VALUE!"},{"$error":"#VALUE!"},{"$error":"#VALUE!"},{"$error":"#VALUE!"},{"$error":"#VALUE!"},{"$error":"#VALUE!"},{"$error":"#VALUE!"},{"$error":"#VALUE!"},{"$error":"#VALUE!"}]
[null,null,null,null,null,null,null,null,{"$f":"IF(Results!C44=\"\",\"\",Results!B44)","v":""},null,"",null,{"$error":"#VALUE!"},{"$error":"#VALUE!"},{"$error":"#VALUE!"},{"$error":"#VALUE!"},{"$error":"#VALUE!"},{"$error":"#VALUE!"},{"$error":"#VALUE!"},{"$error":"#VALUE!"},{"$error":"#VALUE!"},{"$error":"#VALUE!"}]
[null,null,null,null,null,null,null,null,{"$f":"IF(Results!C45=\"\",\"\",Results!B45)","v":""},null,"",null,{"$error":"#VALUE!"},{"$error":"#VALUE!"},{"$error":"#VALUE!"},{"$error":"#VALUE!"},{"$error":"#VALUE!"},{"$error":"#VALUE!"},{"$error":"#VALUE!"},{"$error":"#VALUE!"},{"$error":"#VALUE!"},{"$error":"#VALUE!"}]
[null,null,null,null,null,null,null,null,{"$f":"IF(Results!C46=\"\",\"\",Results!B46)","v":""},null,"",null,{"$error":"#VALUE!"},{"$error":"#VALUE!"},{"$error":"#VALUE!"},{"$error":"#VALUE!"},{"$error":"#VALUE!"},{"$error":"#VALUE!"},{"$error":"#VALUE!"},{"$error":"#VALUE!"},{"$error":"#VALUE!"},{"$error":"#VALUE!"}]
[null,null,null,null,null,null,null,null,{"$f":"IF(Results!C47=\"\",\"\",Results!B47)","v":""},null,"",null,{"$error":"#VALUE!"},{"$error":"#VALUE!"},{"$error":"#VALUE!"},{"$error":"#VALUE!"},{"$error":"#VALUE!"},{"$error":"#VALUE!"},{"$error":"#VALUE!"},{"$error":"#VALUE!"},{"$error":"#VALUE!"},{"$error":"#VALUE!"}]
[null,null,null,null,null,null,null,null,{"$f":"IF(Results!C48=\"\",\"\",Results!B48)","v":""},null,"",null,{"$error":"#VALUE!"},{"$error":"#VALUE!"},{"$error":"#VALUE!"},{"$error":"#VALUE!"},{"$error":"#VALUE!"},{"$error":"#VALUE!"},{"$error":"#VALUE!"},{"$error":"#VALUE!"},{"$error":"#VALUE!"},{"$error":"#VALUE!"}]
[null,null,null,null,null,null,null,null,{"$f":"IF(Results!C49=\"\",\"\",Results!B49)","v":""},null,"",null,{"$error":"#VALUE!"},{"$error":"#VALUE!"},{"$error":"#VALUE!"},{"$error":"#VALUE!"},{"$error":"#VALUE!"},{"$error":"#VALUE!"},{"$error":"#VALUE!"},{"$error":"#VALUE!"},{"$error":"#VALUE!"},{"$error":"#VALUE!"}]
[null,null,null,null,null,null,null,null,{"$f":"IF(Results!C50=\"\",\"\",Results!B50)","v":""},null,"",null,{"$error":"#VALUE!"},{"$error":"#VALUE!"},{"$error":"#VALUE!"},{"$error":"#VALUE!"},{"$error":"#VALUE!"},{"$error":"#VALUE!"},{"$error":"#VALUE!"},{"$error":"#VALUE!"},{"$error":"#VALUE!"},{"$error":"#VALUE!"}]
[null,null,null,null,null,null,null,null,{"$f":"IF(Results!C51=\"\",\"\",Results!B51)","v":""},null,"",null,{"$error":"#VALUE!"},{"$error":"#VALUE!"},{"$error":"#VALUE!"},{"$error":"#VALUE!"},{"$error":"#VALUE!"},{"$error":"#VALUE!"},{"$error":"#VALUE!"},{"$error":"#VALUE!"},{"$error":"#VALUE!"},{"$error":"#VALUE!"}]
[null,null,null,null,null,null,null,null,{"$f":"IF(Results!C52=\"\",\"\",Results!B52)","v":""},null,"",null,{"$error":"#VALUE!"},{"$error":"#VALUE!"},{"$error":"#VALUE!"},{"$error":"#VALUE!"},{"$error":"#VALUE!"},{"$error":"#VALUE!"},{"$error":"#VALUE!"},{"$error":"#VALUE!"},{"$error":"#VALUE!"},{"$error":"#VALUE!"}]
[null,null,null,null,null,null,null,null,{"$f":"IF(Results!C53=\"\",\"\",Results!B53)","v":""},null,"",null,{"$error":"#VALUE!"},{"$error":"#VALUE!"},{"$error":"#VALUE!"},{"$error":"#VALUE!"},{"$error":"#VALUE!"},{"$error":"#VALUE!"},{"$error":"#VALUE!"},{"$error":"#VALUE!"},{"$error":"#VALUE!"},{"$error":"#VALUE!"}]
[null,null,null,null,null,null,null,null,{"$f":"IF(Results!C54=\"\",\"\",Results!B54)","v":""},null,"",null,{"$error":"#VALUE!"},{"$error":"#VALUE!"},{"$error":"#VALUE!"},{"$error":"#VALUE!"},{"$error":"#VALUE!"},{"$error":"#VALUE!"},{"$error":"#VALUE!"},{"$error":"#VALUE!"},{"$error":"#VALUE!"},{"$error":"#VALUE!"}]
[null,null,null,null,null,null,null,null,{"$f":"IF(Results!C55=\"\",\"\",Results!B55)","v":""},null,"",null,{"$error":"#VALUE!"},{"$error":"#VALUE!"},{"$error":"#VALUE!"},{"$error":"#VALUE!"},{"$error":"#VALUE!"},{"$error":"#VALUE!"},{"$error":"#VALUE!"},{"$error":"#VALUE!"},{"$error":"#VALUE!"},{"$error":"#VALUE!"}]
[null,null,null,null,null,null,null,null,{"$f":"IF(Results!C56=\"\",\"\",Results!B56)","v":""},null,"",null,{"$error":"#VALUE!"},{"$error":"#VALUE!"},{"$error":"#VALUE!"},{"$error":"#VALUE!"},{"$error":"#VALUE!"},{"$error":"#VALUE!"},{"$error":"#VALUE!"},{"$error":"#VALUE!"},{"$error":"#VALUE!"},{"$error":"#VALUE!"}]
[null,null,null,null,null,null,null,null,{"$f":"IF(Results!C57=\"\",\"\",Results!B57)","v":""},null,"",null,{"$error":"#VALUE!"},{"$error":"#VALUE!"},{"$error":"#VALUE!"},{"$error":"#VALUE!"},{"$error":"#VALUE!"},{"$error":"#VALUE!"},{"$error":"#VALUE!"},{"$error":"#VALUE!"},{"$error":"#VALUE!"},{"$error":"#VALUE!"}]
[null,null,null,null,null,null,null,null,{"$f":"IF(Results!C58=\"\",\"\",Results!B58)","v":""},null,"",null,{"$error":"#VALUE!"},{"$error":"#VALUE!"},{"$error":"#VALUE!"},{"$error":"#VALUE!"},{"$error":"#VALUE!"},{"$error":"#VALUE!"},{"$error":"#VALUE!"},{"$error":"#VALUE!"},{"$error":"#VALUE!"},{"$error":"#VALUE!"}]
[null,null,null,null,null,null,null,null,{"$f":"IF(Results!C59=\"\",\"\",Results!B59)","v":""},null,"",null,{"$error":"#VALUE!"},{"$error":"#VALUE!"},{"$error":"#VALUE!"},{"$error":"#VALUE!"},{"$error":"#VALUE!"},{"$error":"#VALUE!"},{"$error":"#VALUE!"},{"$error":"#VALUE!"},{"$error":"#VALUE!"},{"$error":"#VALUE!"}]
[null,null,null,null,null,null,null,null,{"$f":"IF(Results!C60=\"\",\"\",Results!B60)","v":""},null,"",null,{"$error":"#VALUE!"},{"$error":"#VALUE!"},{"$error":"#VALUE!"},{"$error":"#VALUE!"},{"$error":"#VALUE!"},{"$error":"#VALUE!"},{"$error":"#VALUE!"},{"$error":"#VALUE!"},{"$error":"#VALUE!"},{"$error":"#VALUE!"}]
[null,null,null,null,null,null,null,null,{"$f":"IF(Results!C61=\"\",\"\",Results!B61)","v":""},null,"",null,{"$error":"#VALUE!"},{"$error":"#VALUE!"},{"$error":"#VALUE!"},{"$error":"#VALUE!"},{"$error":"#VALUE!"},{"$error":"#VALUE!"},{"$error":"#VALUE!"},{"$error":"#VALUE!"},{"$error":"#VALUE!"},{"$error":"#VALUE!"}]
[null,null,null,null,null,null,null,null,{"$f":"IF(Results!C62=\"\",\"\",Results!B62)","v":""},null,"",null,{"$error":"#VALUE!"},{"$error":"#VALUE!"},{"$error":"#VALUE!"},{"$error":"#VALUE!"},{"$error":"#VALUE!"},{"$error":"#VALUE!"},{"$error":"#VALUE!"},{"$error":"#VALUE!"},{"$error":"#VALUE!"},{"$error":"#VALUE!"}]
[null,null,null,null,null,null,null,null,{"$f":"IF(Results!C63=\"\",\"\",Results!B63)","v":""},null,"",null,{"$error":"#VALUE!"},{"$error":"#VALUE!"},{"$error":"#VALUE!"},{"$error":"#VALUE!"},{"$error":"#VALUE!"},{"$error":"#VALUE!"},{"$error":"#VALUE!"},{"$error":"#VALUE!"},{"$error":"#VALUE!"},{"$error":"#VALUE!"}]
[null,null,null,null,null,null,null,null,{"$f":"IF(Results!C64=\"\",\"\",Results!B64)","v":""},null,"",null,{"$error":"#VALUE!"},{"$error":"#VALUE!"},{"$error":"#VALUE!"},{"$error":"#VALUE!"},{"$error":"#VALUE!"},{"$error":"#VALUE!"},{"$error":"#VALUE!"},{"$error":"#VALUE!"},{"$error":"#VALUE!"},{"$error":"#VALUE!"}]
[null,null,null,null,null,null,null,null,{"$f":"IF(Results!C65=\"\",\"\",Results!B65)","v":""},null,"",null,{"$error":"#VALUE!"},{"$error":"#VALUE!"},{"$error":"#VALUE!"},{"$error":"#VALUE!"},{"$error":"#VALUE!"},{"$error":"#VALUE!"},{"$error":"#VALUE!"},{"$error":"#VALUE!"},{"$error":"#VALUE!"},{"$error":"#VALUE!"}]
[null,null,null,null,null,null,null,null,{"$f":"IF(Results!C66=\"\",\"\",Results!B66)","v":""},null,"",null,{"$error":"#VALUE!"},{"$error":"#VALUE!"},{"$error":"#VALUE!"},{"$error":"#VALUE!"},{"$error":"#VALUE!"},{"$error":"#VALUE!"},{"$error":"#VALUE!"},{"$error":"#VALUE!"},{"$error":"#VALUE!"},{"$error":"#VALUE!"}]
[null,null,null,null,null,null,null,null,{"$f":"IF(Results!C67=\"\",\"\",Results!B67)","v":""},null,"",null,{"$error":"#VALUE!"},{"$error":"#VALUE!"},{"$error":"#VALUE!"},{"$error":"#VALUE!"},{"$error":"#VALUE!"},{"$error":"#VALUE!"},{"$error":"#VALUE!"},{"$error":"#VALUE!"},{"$error":"#VALUE!"},{"$error":"#VALUE!"}]
[null,null,null,null,null,null,null,null,{"$f":"IF(Results!C68=\"\",\"\",Results!B68)","v":""},null,"",null,{"$error":"#VALUE!"},{"$error":"#VALUE!"},{"$error":"#VALUE!"},{"$error":"#VALUE!"},{"$error":"#VALUE!"},{"$error":"#VALUE!"},{"$error":"#VALUE!"},{"$error":"#VALUE!"},{"$error":"#VALUE!"},{"$error":"#VALUE!"}]
[null,null,null,null,null,null,null,null,{"$f":"IF(Results!C69=\"\",\"\",Results!B69)","v":""},null,"",null,{"$error":"#VALUE!"},{"$error":"#VALUE!"},{"$error":"#VALUE!"},{"$error":"#VALUE!"},{"$error":"#VALUE!"},{"$error":"#VALUE!"},{"$error":"#VALUE!"},{"$error":"#VALUE!"},{"$error":"#VALUE!"},{"$error":"#VALUE!"}]
[null,null,null,null,null,null,null,null,{"$f":"IF(Results!C70=\"\",\"\",Results!B70)","v":""},null,"",null,{"$error":"#VALUE!"},{"$error":"#VALUE!"},{"$error":"#VALUE!"},{"$error":"#VALUE!"},{"$error":"#VALUE!"},{"$error":"#VALUE!"},{"$error":"#VALUE!"},{"$error":"#VALUE!"},{"$error":"#VALUE!"},{"$error":"#VALUE!"}]
[null,null,null,null,null,null,null,null,{"$f":"IF(Results!C71=\"\",\"\",Results!B71)","v":""},null,"",null,{"$error":"#VALUE!"},{"$error":"#VALUE!"},{"$error":"#VALUE!"},{"$error":"#VALUE!"},{"$error":"#VALUE!"},{"$error":"#VALUE!"},{"$error":"#VALUE!"},{"$error":"#VALUE!"},{"$error":"#VALUE!"},{"$error":"#VALUE!"}]
[null,null,null,null,null,null,null,null,{"$f":"IF(Results!C72=\"\",\"\",Results!B72)","v":""},null,"",null,{"$error":"#VALUE!"},{"$error":"#VALUE!"},{"$error":"#VALUE!"},{"$error":"#VALUE!"},{"$error":"#VALUE!"},{"$error":"#VALUE!"},{"$error":"#VALUE!"},{"$error":"#VALUE!"},{"$error":"#VALUE!"},{"$error":"#VALUE!"}]
[null,null,null,null,null,null,null,null,{"$f":"IF(Results!C73=\"\",\"\",Results!B73)","v":""},null,"",null,{"$error":"#VALUE!"},{"$error":"#VALUE!"},{"$error":"#VALUE!"},{"$error":"#VALUE!"},{"$error":"#VALUE!"},{"$error":"#VALUE!"},{"$error":"#VALUE!"},{"$error":"#VALUE!"},{"$error":"#VALUE!"},{"$error":"#VALUE!"}]
[null,null,null,null,null,null,null,null,{"$f":"IF(Results!C74=\"\",\"\",Results!B74)","v":""},null,"",null,{"$error":"#VALUE!"},{"$error":"#VALUE!"},{"$error":"#VALUE!"},{"$error":"#VALUE!"},{"$error":"#VALUE!"},{"$error":"#VALUE!"},{"$error":"#VALUE!"},{"$error":"#VALUE!"},{"$error":"#VALUE!"},{"$error":"#VALUE!"}]
[null,null,null,null,null,null,null,null,{"$f":"IF(Results!C75=\"\",\"\",Results!B75)","v":""},null,"",null,{"$error":"#VALUE!"},{"$error":"#VALUE!"},{"$error":"#VALUE!"},{"$error":"#VALUE!"},{"$error":"#VALUE!"},{"$error":"#VALUE!"},{"$error":"#VALUE!"},{"$error":"#VALUE!"},{"$error":"#VALUE!"},{"$error":"#VALUE!"}]
[null,null,null,null,null,null,null,null,{"$f":"IF(Results!C76=\"\",\"\",Results!B76)","v":""},null,"",null,{"$error":"#VALUE!"},{"$error":"#VALUE!"},{"$error":"#VALUE!"},{"$error":"#VALUE!"},{"$error":"#VALUE!"},{"$error":"#VALUE!"},{"$error":"#VALUE!"},{"$error":"#VALUE!"},{"$error":"#VALUE!"},{"$error":"#VALUE!"}]
[null,null,null,null,null,null,null,null,{"$f":"IF(Results!C77=\"\",\"\",Results!B77)","v":""},null,"",null,{"$error":"#VALUE!"},{"$error":"#VALUE!"},{"$error":"#VALUE!"},{"$error":"#VALUE!"},{"$error":"#VALUE!"},{"$error":"#VALUE!"},{"$error":"#VALUE!"},{"$error":"#VALUE!"},{"$error":"#VALUE!"},{"$error":"#VALUE!"}]
[null,null,null,null,null,null,null,null,{"$f":"IF(Results!C78=\"\",\"\",Results!B78)","v":""},null,"",null,{"$error":"#VALUE!"},{"$error":"#VALUE!"},{"$error":"#VALUE!"},{"$error":"#VALUE!"},{"$error":"#VALUE!"},{"$error":"#VALUE!"},{"$error":"#VALUE!"},{"$error":"#VALUE!"},{"$error":"#VALUE!"},{"$error":"#VALUE!"}]
[null,null,null,null,null,null,null,null,{"$f":"IF(Results!C79=\"\",\"\",Results!B79)","v":""},null,"",null,{"$error":"#VALUE!"},{"$error":"#VALUE!"},{"$error":"#VALUE!"},{"$error":"#VALUE!"},{"$error":"#VALUE!"},{"$error":"#VALUE!"},{"$error":"#VALUE!"},{"$error":"#VALUE!"},{"$error":"#VALUE!"},{"$error":"#VALUE!"}]
[null,null,null,null,null,null,null,null,{"$f":"IF(Results!C80=\"\",\"\",Results!B80)","v":""},null,"",null,{"$error":"#VALUE!"},{"$error":"#VALUE!"},{"$error":"#VALUE!"},{"$error":"#VALUE!"},{"$error":"#VALUE!"},{"$error":"#VALUE!"},{"$error":"#VALUE!"},{"$error":"#VALUE!"},{"$error":"#VALUE!"},{"$error":"#VALUE!"}]
[null,null,null,null,null,null,null,null,{"$f":"IF(Results!C81=\"\",\"\",Results!B81)","v":""},null,"",null,{"$error":"#VALUE!"},{"$error":"#VALUE!"},{"$error":"#VALUE!"},{"$error":"#VALUE!"},{"$error":"#VALUE!"},{"$error":"#VALUE!"},{"$error":"#VALUE!"},{"$error":"#VALUE!"},{"$error":"#VALUE!"},{"$error":"#VALUE!"}]
[null,null,null,null,null,null,null,null,{"$f":"IF(Results!C82=\"\",\"\",Results!B82)","v":""},null,"",null,{"$error":"#VALUE!"},{"$error":"#VALUE!"},{"$error":"#VALUE!"},{"$error":"#VALUE!"},{"$error":"#VALUE!"},{"$error":"#VALUE!"},{"$error":"#VALUE!"},{"$error":"#VALUE!"},{"$error":"#VALUE!"},{"$error":"#VALUE!"}]
[null,null,null,null,null,null,null,null,{"$f":"IF(Results!C83=\"\",\"\",Results!B83)","v":""},null,"",null,{"$error":"#VALUE!"},{"$error":"#VALUE!"},{"$error":"#VALUE!"},{"$error":"#VALUE!"},{"$error":"#VALUE!"},{"$error":"#VALUE!"},{"$error":"#VALUE!"},{"$error":"#VALUE!"},{"$error":"#VALUE!"},{"$error":"#VALUE!"}]
[null,null,null,null,null,null,null,null,{"$f":"IF(Results!C84=\"\",\"\",Results!B84)","v":""},null,"",null,{"$error":"#VALUE!"},{"$error":"#VALUE!"},{"$error":"#VALUE!"},{"$error":"#VALUE!"},{"$error":"#VALUE!"},{"$error":"#VALUE!"},{"$error":"#VALUE!"},{"$error":"#VALUE!"},{"$error":"#VALUE!"},{"$error":"#VALUE!"}]
[null,null,null,null,null,null,null,null,{"$f":"IF(Results!C85=\"\",\"\",Results!B85)","v":""},null,"",null,{"$error":"#VALUE!"},{"$error":"#VALUE!"},{"$error":"#VALUE!"},{"$error":"#VALUE!"},{"$error":"#VALUE!"},{"$error":"#VALUE!"},{"$error":"#VALUE!"},{"$error":"#VALUE!"},{"$error":"#VALUE!"},{"$error":"#VALUE!"}]
[null,null,null,null,null,null,null,null,{"$f":"IF(Results!C86=\"\",\"\",Results!B86)","v":""},null,"",null,{"$error":"#VALUE!"},{"$error":"#VALUE!"},{"$error":"#VALUE!"},{"$error":"#VALUE!"},{"$error":"#VALUE!"},{"$error":"#VALUE!"},{"$error":"#VALUE!"},{"$error":"#VALUE!"},{"$error":"#VALUE!"},{"$error":"#VALUE!"}]
[null,null,null,null,null,null,null,null,{"$f":"IF(Results!C87=\"\",\"\",Results!B87)","v":""},null,"",null,{"$error":"#VALUE!"},{"$error":"#VALUE!"},{"$error":"#VALUE!"},{"$error":"#VALUE!"},{"$error":"#VALUE!"},{"$error":"#VALUE!"},{"$error":"#VALUE!"},{"$error":"#VALUE!"},{"$error":"#VALUE!"},{"$error":"#VALUE!"}]
[null,null,null,null,null,null,null,null,{"$f":"IF(Results!C88=\"\",\"\",Results!B88)","v":""},null,"",null,{"$error":"#VALUE!"},{"$error":"#VALUE!"},{"$error":"#VALUE!"},{"$error":"#VALUE!"},{"$error":"#VALUE!"},{"$error":"#VALUE!"},{"$error":"#VALUE!"},{"$error":"#VALUE!"},{"$error":"#VALUE!"},{"$error":"#VALUE!"}]
[null,null,null,null,null,null,null,null,{"$f":"IF(Results!C89=\"\",\"\",Results!B89)","v":""},null,"",null,{"$error":"#VALUE!"},{"$error":"#VALUE!"},{"$error":"#VALUE!"},{"$error":"#VALUE!"},{"$error":"#VALUE!"},{"$error":"#VALUE!"},{"$error":"#VALUE!"},{"$error":"#VALUE!"},{"$error":"#VALUE!"},{"$error":"#VALUE!"}]
[null,null,null,null,null,null,null,null,{"$f":"IF(Results!C90=\"\",\"\",Results!B90)","v":""},null,"",null,{"$error":"#VALUE!"},{"$error":"#VALUE!"},{"$error":"#VALUE!"},{"$error":"#VALUE!"},{"$error":"#VALUE!"},{"$error":"#VALUE!"},{"$error":"#VALUE!"},{"$error":"#VALUE!"},{"$error":"#VALUE!"},{"$error":"#VALUE!"}]
[null,null,null,null,null,null,null,null,{"$f":"IF(Results!C91=\"\",\"\",Results!B91)","v":""},null,"",null,{"$error":"#VALUE!"},{"$error":"#VALUE!"},{"$error":"#VALUE!"},{"$error":"#VALUE!"},{"$error":"#VALUE!"},{"$error":"#VALUE!"},{"$error":"#VALUE!"},{"$error":"#VALUE!"},{"$error":"#VALUE!"},{"$error":"#VALUE!"}]
[null,null,null,null,null,null,null,null,{"$f":"IF(Results!C92=\"\",\"\",Results!B92)","v":""},null,"",null,{"$error":"#VALUE!"},{"$error":"#VALUE!"},{"$error":"#VALUE!"},{"$error":"#VALUE!"},{"$error":"#VALUE!"},{"$error":"#VALUE!"},{"$error":"#VALUE!"},{"$error":"#VALUE!"},{"$error":"#VALUE!"},{"$error":"#VALUE!"}]
[null,null,null,null,null,null,null,null,{"$f":"IF(Results!C93=\"\",\"\",Results!B93)","v":""},null,"",null,{"$error":"#VALUE!"},{"$error":"#VALUE!"},{"$error":"#VALUE!"},{"$error":"#VALUE!"},{"$error":"#VALUE!"},{"$error":"#VALUE!"},{"$error":"#VALUE!"},{"$error":"#VALUE!"},{"$error":"#VALUE!"},{"$error":"#VALUE!"}]
[null,null,null,null,null,null,null,null,{"$f":"IF(Results!C94=\"\",\"\",Results!B94)","v":""},null,"",null,{"$error":"#VALUE!"},{"$error":"#VALUE!"},{"$error":"#VALUE!"},{"$error":"#VALUE!"},{"$error":"#VALUE!"},{"$error":"#VALUE!"},{"$error":"#VALUE!"},{"$error":"#VALUE!"},{"$error":"#VALUE!"},{"$error":"#VALUE!"}]
[null,null,null,null,null,null,null,null,{"$f":"IF(Results!C95=\"\",\"\",Results!B95)","v":""},null,"",null,{"$error":"#VALUE!"},{"$error":"#VALUE!"},{"$error":"#VALUE!"},{"$error":"#VALUE!"},{"$error":"#VALUE!"},{"$error":"#VALUE!"},{"$error":"#VALUE!"},{"$error":"#VALUE!"},{"$error":"#VALUE!"},{"$error":"#VALUE!"}]
[null,null,null,null,null,null,null,null,{"$f":"IF(Results!C96=\"\",\"\",Results!B96)","v":""},null,"",null,{"$error":"#VALUE!"},{"$error":"#VALUE!"},{"$error":"#VALUE!"},{"$error":"#VALUE!"},{"$error":"#VALUE!"},{"$error":"#VALUE!"},{"$error":"#VALUE!"},{"$error":"#VALUE!"},{"$error":"#VALUE!"},{"$error":"#VALUE!"}]
[null,null,null,null,null,null,null,null,{"$f":"IF(Results!C97=\"\",\"\",Results!B97)","v":""},null,"",null,{"$error":"#VALUE!"},{"$error":"#VALUE!"},{"$error":"#VALUE!"},{"$error":"#VALUE!"},{"$error":"#VALUE!"},{"$error":"#VALUE!"},{"$error":"#VALUE!"},{"$error":"#VALUE!"},{"$error":"#VALUE!"},{"$error":"#VALUE!"}]
[null,null,null,null,null,null,null,null,{"$f":"IF(Results!C98=\"\",\"\",Results!B98)","v":""},null,{"$f":"IF($C$6=\"\",\"\",IF(I98=\"\",\"\",50-SUM(Q98:V98)))","v":""},null,{"$f":"SEARCH($C$6,J98)","v":{"$error":"#VALUE!"}},{"$f":"SEARCH($D$6,J98)","v":{"$error":"#VALUE!"}},{"$f":"SEARCH($E$6,J98)","v":{"$error":"#VALUE!"}},{"$f":"SEARCH($F$6,J98)","v":{"$error":"#VALUE!"}},{"$f":"IF((N98-M98)<0,$C$8,0)","v":{"$error":"#VALUE!"}},{"$f":"IF((O98-M98)<0,$C$8+$D$8,0)","v":{"$error":"#VALUE!"}},{"$f":"IF((P98-M98)<0,$C$8+$D$8+$E$8,0)","v":{"$error":"#VALUE!"}},{"$f":"IF((O98-N98)<0,$D$8,0)","v":{"$error":"#VALUE!"}},{"$f":"IF((P98-N98)<0,$D$8+$E$8,0)","v":{"$error":"#VALUE!"}},{"$f":"IF((P98-O98)<0,$E$8,0)","v":{"$error":"#VALUE!"}}]
[null,null,null,null,null,null,null,null,{"$f":"IF(Results!C99=\"\",\"\",Results!B99)","v":""},null,"",null,{"$error":"#VALUE!"},{"$error":"#VALUE!"},{"$error":"#VALUE!"},{"$error":"#VALUE!"},{"$error":"#VALUE!"},{"$error":"#VALUE!"},{"$error":"#VALUE!"},{"$error":"#VALUE!"},{"$error":"#VALUE!"},{"$error":"#VALUE!"}]
[null,null,null,null,null,null,null,null,{"$f":"IF(Results!C100=\"\",\"\",Results!B100)","v":""},null,"",null,{"$error":"#VALUE!"},{"$error":"#VALUE!"},{"$error":"#VALUE!"},{"$error":"#VALUE!"},{"$error":"#VALUE!"},{"$error":"#VALUE!"},{"$error":"#VALUE!"},{"$error":"#VALUE!"},{"$error":"#VALUE!"},{"$error":"#VALUE!"}]
[null,null,null,null,null,null,null,null,{"$f":"IF(Results!C101=\"\",\"\",Results!B101)","v":""},null,"",null,{"$error":"#VALUE!"},{"$error":"#VALUE!"},{"$error":"#VALUE!"},{"$error":"#VALUE!"},{"$error":"#VALUE!"},{"$error":"#VALUE!"},{"$error":"#VALUE!"},{"$error":"#VALUE!"},{"$error":"#VALUE!"},{"$error":"#VALUE!"}]
[null,null,null,null,null,null,null,null,{"$f":"IF(Results!C102=\"\",\"\",Results!B102)","v":""},null,"",null,{"$error":"#VALUE!"},{"$error":"#VALUE!"},{"$error":"#VALUE!"},{"$error":"#VALUE!"},{"$error":"#VALUE!"},{"$error":"#VALUE!"},{"$error":"#VALUE!"},{"$error":"#VALUE!"},{"$error":"#VALUE!"},{"$error":"#VALUE!"}]
[null,null,null,null,null,null,null,null,{"$f":"IF(Results!C103=\"\",\"\",Results!B103)","v":""},null,"",null,{"$error":"#VALUE!"},{"$error":"#VALUE!"},{"$error":"#VALUE!"},{"$error":"#VALUE!"},{"$error":"#VALUE!"},{"$error":"#VALUE!"},{"$error":"#VALUE!"},{"$error":"#VALUE!"},{"$error":"#VALUE!"},{"$error":"#VALUE!"}]

{"sheet":"Group3","index":4,"n_rows":103,"n_cols":22,"rows_kept":103,"cut":false,"hidden":false,"merged":[[1,3,1,8]]}
[]
[null,null,"Group 3 :"]
[null,null,null,null,null,null,null,null,"Entrant No","Placings","Score",null,"J1","J2","J3","J4","PO","QO","RO","QP","RP","RQ"]
[null,null,null,null,null,null,null,null,{"$f":"IF(Results!C4=\"\",\"\",Results!B4)","v":""},null,{"$f":"IF($C$6=\"\",\"\",IF(I4=\"\",\"\",50-SUM(Q4:V4)))","v":""},null,{"$f":"SEARCH($C$6,J4)","v":{"$error":"#VALUE!"}},{"$f":"SEARCH($D$6,J4)","v":{"$error":"#VALUE!"}},{"$f":"SEARCH($E$6,J4)","v":{"$error":"#VALUE!"}},{"$f":"SEARCH($F$6,J4)","v":{"$error":"#VALUE!"}},{"$f":"IF((N4-M4)<0,$C$8,0)","v":{"$error":"#VALUE!"}},{"$f":"IF((O4-M4)<0,$C$8+$D$8,0)","v":{"$error":"#VALUE!"}},{"$f":"IF((P4-M4)<0,$C$8+$D$8+$E$8,0)","v":{"$error":"#VALUE!"}},{"$f":"IF((O4-N4)<0,$D$8,0)","v":{"$error":"#VALUE!"}},{"$f":"IF((P4-N4)<0,$D$8+$E$8,0)","v":{"$error":"#VALUE!"}},{"$f":"IF((P4-O4)<0,$E$8,0)","v":{"$error":"#VALUE!"}}]
[null,null,"Judge's Placings",null,null,null,null,null,{"$f":"IF(Results!C5=\"\",\"\",Results!B5)","v":""},null,{"$f":"IF($C$6=\"\",\"\",IF(I5=\"\",\"\",50-SUM(Q5:V5)))","v":""},null,{"$error":"#VALUE!"},{"$error":"#VALUE!"},{"$error":"#VALUE!"},{"$error":"#VALUE!"},{"$error":"#VALUE!"},{"$error":"#VALUE!"},{"$error":"#VALUE!"},{"$error":"#VALUE!"},{"$error":"#VALUE!"},{"$error":"#VALUE!"}]
[null,null,null,null,null,null,null,null,{"$f":"IF(Results!C6=\"\",\"\",Results!B6)","v":""},null,"",null,{"$error":"#VALUE!"},{"$error":"#VALUE!"},{"$error":"#VALUE!"},{"$error":"#VALUE!"},{"$error":"#VALUE!"},{"$error":"#VALUE!"},{"$error":"#VALUE!"},{"$error":"#VALUE!"},{"$error":"#VALUE!"},{"$error":"#VALUE!"}]
[null,null,"Judge's Cuts",null,null,null,null,null,{"$f":"IF(Results!C7=\"\",\"\",Results!B7)","v":""},null,"",null,{"$error":"#VALUE!"},{"$error":"#VALUE!"},{"$error":"#VALUE!"},{"$error":"#VALUE!"},{"$error":"#VALUE!"},{"$error":"#VALUE!"},{"$error":"#VALUE!"},{"$error":"#VALUE!"},{"$error":"#VALUE!"},{"$error":"#VALUE!"}]
[null,null,null,null,null,null,null,null,{"$f":"IF(Results!C8=\"\",\"\",Results!B8)","v":""},null,"",null,{"$error":"#VALUE!"},{"$error":"#VALUE!"},{"$error":"#VALUE!"},{"$error":"#VALUE!"},{"$error":"#VALUE!"},{"$error":"#VALUE!"},{"$error":"#VALUE!"},{"$error":"#VALUE!"},{"$error":"#VALUE!"},{"$error":"#VALUE!"}]
[null,null,null,null,null,null,null,null,{"$f":"IF(Results!C9=\"\",\"\",Results!B9)","v":""},null,"",null,{"$error":"#VALUE!"},{"$error":"#VALUE!"},{"$error":"#VALUE!"},{"$error":"#VALUE!"},{"$error":"#VALUE!"},{"$error":"#VALUE!"},{"$error":"#VALUE!"},{"$error":"#VALUE!"},{"$error":"#VALUE!"},{"$error":"#VALUE!"}]
[null,null,{"$f":"IF($C$8=\"\",\"\",IF(($C$8+$D$8+$E$8)<3,\"WARNING : Cuts total less than 3\",\"\"))","v":""},null,null,null,null,null,{"$f":"IF(Results!C10=\"\",\"\",Results!B10)","v":""},null,"",null,{"$error":"#VALUE!"},{"$error":"#VALUE!"},{"$error":"#VALUE!"},{"$error":"#VALUE!"},{"$error":"#VALUE!"},{"$error":"#VALUE!"},{"$error":"#VALUE!"},{"$error":"#VALUE!"},{"$error":"#VALUE!"},{"$error":"#VALUE!"}]
[null,null,{"$f":"IF(($C$8+$D$8+$E$8)>15,\"WARNING : Cuts total more than 15\",\"\")","v":""},null,null,null,null,null,{"$f":"IF(Results!C11=\"\",\"\",Results!B11)","v":""},null,"",null,{"$error":"#VALUE!"},{"$error":"#VALUE!"},{"$error":"#VALUE!"},{"$error":"#VALUE!"},{"$error":"#VALUE!"},{"$error":"#VALUE!"},{"$error":"#VALUE!"},{"$error":"#VALUE!"},{"$error":"#VALUE!"},{"$error":"#VALUE!"}]
[null,null,{"$f":"IF(AND(($C$8+$D$8+$E$8)>=15,$D$8>5),\"WARNING : Middle cut more than 5\",\"\")","v":""},null,null,null,null,null,{"$f":"IF(Results!C12=\"\",\"\",Results!B12)","v":""},null,"",null,{"$error":"#VALUE!"},{"$error":"#VALUE!"},{"$error":"#VALUE!"},{"$error":"#VALUE!"},{"$error":"#VALUE!"},{"$error":"#VALUE!"},{"$error":"#VALUE!"},{"$error":"#VALUE!"},{"$error":"#VALUE!"},{"$error":"#VALUE!"}]
[null,null,{"$f":"IF(AND(($C$8+$D$8+$E$8)=14,$D$8>8),\"WARNING : Middle cut more than 8\",\"\")","v":""},null,null,null,null,null,{"$f":"IF(Results!C13=\"\",\"\",Results!B13)","v":""},null,"",null,{"$error":"#VALUE!"},{"$error":"#VALUE!"},{"$error":"#VALUE!"},{"$error":"#VALUE!"},{"$error":"#VALUE!"},{"$error":"#VALUE!"},{"$error":"#VALUE!"},{"$error":"#VALUE!"},{"$error":"#VALUE!"},{"$error":"#VALUE!"}]
[null,null,{"$f":"IF(AND(C10=\"\",C11=\"\",C12=\"\",C13=\"\"),\"\",\"Please discuss with Judge\")","v":""},null,null,null,null,null,{"$f":"IF(Results!C14=\"\",\"\",Results!B14)","v":""},null,"",null,{"$error":"#VALUE!"},{"$error":"#VALUE!"},{"$error":"#VALUE!"},{"$error":"#VALUE!"},{"$error":"#VALUE!"},{"$error":"#VALUE!"},{"$error":"#VALUE!"},{"$error":"#VALUE!"},{"$error":"#VALUE!"},{"$error":"#VALUE!"}]
[null,null,null,null,null,null,null,null,{"$f":"IF(Results!C15=\"\",\"\",Results!B15)","v":""},null,"",null,{"$error":"#VALUE!"},{"$error":"#VALUE!"},{"$error":"#VALUE!"},{"$error":"#VALUE!"},{"$error":"#VALUE!"},{"$error":"#VALUE!"},{"$error":"#VALUE!"},{"$error":"#VALUE!"},{"$error":"#VALUE!"},{"$error":"#VALUE!"}]
[null,null,null,null,null,null,null,null,{"$f":"IF(Results!C16=\"\",\"\",Results!B16)","v":""},null,"",null,{"$error":"#VALUE!"},{"$error":"#VALUE!"},{"$error":"#VALUE!"},{"$error":"#VALUE!"},{"$error":"#VALUE!"},{"$error":"#VALUE!"},{"$error":"#VALUE!"},{"$error":"#VALUE!"},{"$error":"#VALUE!"},{"$error":"#VALUE!"}]
[null,null,null,null,null,null,null,null,{"$f":"IF(Results!C17=\"\",\"\",Results!B17)","v":""},null,"",null,{"$error":"#VALUE!"},{"$error":"#VALUE!"},{"$error":"#VALUE!"},{"$error":"#VALUE!"},{"$error":"#VALUE!"},{"$error":"#VALUE!"},{"$error":"#VALUE!"},{"$error":"#VALUE!"},{"$error":"#VALUE!"},{"$error":"#VALUE!"}]
[null,null,null,null,null,null,null,null,{"$f":"IF(Results!C18=\"\",\"\",Results!B18)","v":""},null,"",null,{"$error":"#VALUE!"},{"$error":"#VALUE!"},{"$error":"#VALUE!"},{"$error":"#VALUE!"},{"$error":"#VALUE!"},{"$error":"#VALUE!"},{"$error":"#VALUE!"},{"$error":"#VALUE!"},{"$error":"#VALUE!"},{"$error":"#VALUE!"}]
[null,null,null,null,null,null,null,null,{"$f":"IF(Results!C19=\"\",\"\",Results!B19)","v":""},null,"",null,{"$error":"#VALUE!"},{"$error":"#VALUE!"},{"$error":"#VALUE!"},{"$error":"#VALUE!"},{"$error":"#VALUE!"},{"$error":"#VALUE!"},{"$error":"#VALUE!"},{"$error":"#VALUE!"},{"$error":"#VALUE!"},{"$error":"#VALUE!"}]
[null,null,null,null,null,null,null,null,{"$f":"IF(Results!C20=\"\",\"\",Results!B20)","v":""},null,"",null,{"$error":"#VALUE!"},{"$error":"#VALUE!"},{"$error":"#VALUE!"},{"$error":"#VALUE!"},{"$error":"#VALUE!"},{"$error":"#VALUE!"},{"$error":"#VALUE!"},{"$error":"#VALUE!"},{"$error":"#VALUE!"},{"$error":"#VALUE!"}]
[null,null,null,null,null,null,null,null,{"$f":"IF(Results!C21=\"\",\"\",Results!B21)","v":""},null,"",null,{"$error":"#VALUE!"},{"$error":"#VALUE!"},{"$error":"#VALUE!"},{"$error":"#VALUE!"},{"$error":"#VALUE!"},{"$error":"#VALUE!"},{"$error":"#VALUE!"},{"$error":"#VALUE!"},{"$error":"#VALUE!"},{"$error":"#VALUE!"}]
[null,null,null,null,null,null,null,null,{"$f":"IF(Results!C22=\"\",\"\",Results!B22)","v":""},null,"",null,{"$error":"#VALUE!"},{"$error":"#VALUE!"},{"$error":"#VALUE!"},{"$error":"#VALUE!"},{"$error":"#VALUE!"},{"$error":"#VALUE!"},{"$error":"#VALUE!"},{"$error":"#VALUE!"},{"$error":"#VALUE!"},{"$error":"#VALUE!"}]
[null,null,null,null,null,null,null,null,{"$f":"IF(Results!C23=\"\",\"\",Results!B23)","v":""},null,"",null,{"$error":"#VALUE!"},{"$error":"#VALUE!"},{"$error":"#VALUE!"},{"$error":"#VALUE!"},{"$error":"#VALUE!"},{"$error":"#VALUE!"},{"$error":"#VALUE!"},{"$error":"#VALUE!"},{"$error":"#VALUE!"},{"$error":"#VALUE!"}]
[null,null,null,null,null,null,null,null,{"$f":"IF(Results!C24=\"\",\"\",Results!B24)","v":""},null,"",null,{"$f":"SEARCH($C$6,J24)","v":{"$error":"#VALUE!"}},{"$f":"SEARCH($D$6,J24)","v":{"$error":"#VALUE!"}},{"$f":"SEARCH($E$6,J24)","v":{"$error":"#VALUE!"}},{"$f":"SEARCH($F$6,J24)","v":{"$error":"#VALUE!"}},{"$f":"IF((N24-M24)<0,$C$8,0)","v":{"$error":"#VALUE!"}},{"$f":"IF((O24-M24)<0,$C$8+$D$8,0)","v":{"$error":"#VALUE!"}},{"$f":"IF((P24-M24)<0,$C$8+$D$8+$E$8,0)","v":{"$error":"#VALUE!"}},{"$f":"IF((O24-N24)<0,$D$8,0)","v":{"$error":"#VALUE!"}},{"$f":"IF((P24-N24)<0,$D$8+$E$8,0)","v":{"$error":"#VALUE!"}},{"$f":"IF((P24-O24)<0,$E$8,0)","v":{"$error":"#VALUE!"}}]
[null,null,null,null,null,null,null,null,{"$f":"IF(Results!C25=\"\",\"\",Results!B25)","v":""},null,"",null,{"$error":"#VALUE!"},{"$error":"#VALUE!"},{"$error":"#VALUE!"},{"$error":"#VALUE!"},{"$error":"#VALUE!"},{"$error":"#VALUE!"},{"$error":"#VALUE!"},{"$error":"#VALUE!"},{"$error":"#VALUE!"},{"$error":"#VALUE!"}]
[null,null,null,null,null,null,null,null,{"$f":"IF(Results!C26=\"\",\"\",Results!B26)","v":""},null,"",null,{"$error":"#VALUE!"},{"$error":"#VALUE!"},{"$error":"#VALUE!"},{"$error":"#VALUE!"},{"$error":"#VALUE!"},{"$error":"#VALUE!"},{"$error":"#VALUE!"},{"$error":"#VALUE!"},{"$error":"#VALUE!"},{"$error":"#VALUE!"}]
[null,null,null,null,null,null,null,null,{"$f":"IF(Results!C27=\"\",\"\",Results!B27)","v":""},null,"",null,{"$error":"#VALUE!"},{"$error":"#VALUE!"},{"$error":"#VALUE!"},{"$error":"#VALUE!"},{"$error":"#VALUE!"},{"$error":"#VALUE!"},{"$error":"#VALUE!"},{"$error":"#VALUE!"},{"$error":"#VALUE!"},{"$error":"#VALUE!"}]
[null,null,null,null,null,null,null,null,{"$f":"IF(Results!C28=\"\",\"\",Results!B28)","v":""},null,"",null,{"$error":"#VALUE!"},{"$error":"#VALUE!"},{"$error":"#VALUE!"},{"$error":"#VALUE!"},{"$error":"#VALUE!"},{"$error":"#VALUE!"},{"$error":"#VALUE!"},{"$error":"#VALUE!"},{"$error":"#VALUE!"},{"$error":"#VALUE!"}]
[null,null,null,null,null,null,null,null,{"$f":"IF(Results!C29=\"\",\"\",Results!B29)","v":""},null,"",null,{"$error":"#VALUE!"},{"$error":"#VALUE!"},{"$error":"#VALUE!"},{"$error":"#VALUE!"},{"$error":"#VALUE!"},{"$error":"#VALUE!"},{"$error":"#VALUE!"},{"$error":"#VALUE!"},{"$error":"#VALUE!"},{"$error":"#VALUE!"}]
[null,null,null,null,null,null,null,null,{"$f":"IF(Results!C30=\"\",\"\",Results!B30)","v":""},null,"",null,{"$error":"#VALUE!"},{"$error":"#VALUE!"},{"$error":"#VALUE!"},{"$error":"#VALUE!"},{"$error":"#VALUE!"},{"$error":"#VALUE!"},{"$error":"#VALUE!"},{"$error":"#VALUE!"},{"$error":"#VALUE!"},{"$error":"#VALUE!"}]
[null,null,null,null,null,null,null,null,{"$f":"IF(Results!C31=\"\",\"\",Results!B31)","v":""},null,"",null,{"$error":"#VALUE!"},{"$error":"#VALUE!"},{"$error":"#VALUE!"},{"$error":"#VALUE!"},{"$error":"#VALUE!"},{"$error":"#VALUE!"},{"$error":"#VALUE!"},{"$error":"#VALUE!"},{"$error":"#VALUE!"},{"$error":"#VALUE!"}]
[null,null,null,null,null,null,null,null,{"$f":"IF(Results!C32=\"\",\"\",Results!B32)","v":""},null,"",null,{"$error":"#VALUE!"},{"$error":"#VALUE!"},{"$error":"#VALUE!"},{"$error":"#VALUE!"},{"$error":"#VALUE!"},{"$error":"#VALUE!"},{"$error":"#VALUE!"},{"$error":"#VALUE!"},{"$error":"#VALUE!"},{"$error":"#VALUE!"}]
[null,null,null,null,null,null,null,null,{"$f":"IF(Results!C33=\"\",\"\",Results!B33)","v":""},null,"",null,{"$error":"#VALUE!"},{"$error":"#VALUE!"},{"$error":"#VALUE!"},{"$error":"#VALUE!"},{"$error":"#VALUE!"},{"$error":"#VALUE!"},{"$error":"#VALUE!"},{"$error":"#VALUE!"},{"$error":"#VALUE!"},{"$error":"#VALUE!"}]
[null,null,null,null,null,null,null,null,{"$f":"IF(Results!C34=\"\",\"\",Results!B34)","v":""},null,{"$f":"IF($C$6=\"\",\"\",IF(I34=\"\",\"\",50-SUM(Q34:V34)))","v":""},null,{"$f":"SEARCH($C$6,J34)","v":{"$error":"#VALUE!"}},{"$f":"SEARCH($D$6,J34)","v":{"$error":"#VALUE!"}},{"$f":"SEARCH($E$6,J34)","v":{"$error":"#VALUE!"}},{"$f":"SEARCH($F$6,J34)","v":{"$error":"#VALUE!"}},{"$f":"IF((N34-M34)<0,$C$8,0)","v":{"$error":"#VALUE!"}},{"$f":"IF((O34-M34)<0,$C$8+$D$8,0)","v":{"$error":"#VALUE!"}},{"$f":"IF((P34-M34)<0,$C$8+$D$8+$E$8,0)","v":{"$error":"#VALUE!"}},{"$f":"IF((O34-N34)<0,$D$8,0)","v":{"$error":"#VALUE!"}},{"$f":"IF((P34-N34)<0,$D$8+$E$8,0)","v":{"$error":"#VALUE!"}},{"$f":"IF((P34-O34)<0,$E$8,0)","v":{"$error":"#VALUE!"}}]
[null,null,null,null,null,null,null,null,{"$f":"IF(Results!C35=\"\",\"\",Results!B35)","v":""},null,"",null,{"$error":"#VALUE!"},{"$error":"#VALUE!"},{"$error":"#VALUE!"},{"$error":"#VALUE!"},{"$error":"#VALUE!"},{"$error":"#VALUE!"},{"$error":"#VALUE!"},{"$error":"#VALUE!"},{"$error":"#VALUE!"},{"$error":"#VALUE!"}]
[null,null,null,null,null,null,null,null,{"$f":"IF(Results!C36=\"\",\"\",Results!B36)","v":""},null,"",null,{"$error":"#VALUE!"},{"$error":"#VALUE!"},{"$error":"#VALUE!"},{"$error":"#VALUE!"},{"$error":"#VALUE!"},{"$error":"#VALUE!"},{"$error":"#VALUE!"},{"$error":"#VALUE!"},{"$error":"#VALUE!"},{"$error":"#VALUE!"}]
[null,null,null,null,null,null,null,null,{"$f":"IF(Results!C37=\"\",\"\",Results!B37)","v":""},null,"",null,{"$error":"#VALUE!"},{"$error":"#VALUE!"},{"$error":"#VALUE!"},{"$error":"#VALUE!"},{"$error":"#VALUE!"},{"$error":"#VALUE!"},{"$error":"#VALUE!"},{"$error":"#VALUE!"},{"$error":"#VALUE!"},{"$error":"#VALUE!"}]
[null,null,null,null,null,null,null,null,{"$f":"IF(Results!C38=\"\",\"\",Results!B38)","v":""},null,"",null,{"$error":"#VALUE!"},{"$error":"#VALUE!"},{"$error":"#VALUE!"},{"$error":"#VALUE!"},{"$error":"#VALUE!"},{"$error":"#VALUE!"},{"$error":"#VALUE!"},{"$error":"#VALUE!"},{"$error":"#VALUE!"},{"$error":"#VALUE!"}]
[null,null,null,null,null,null,null,null,{"$f":"IF(Results!C39=\"\",\"\",Results!B39)","v":""},null,"",null,{"$error":"#VALUE!"},{"$error":"#VALUE!"},{"$error":"#VALUE!"},{"$error":"#VALUE!"},{"$error":"#VALUE!"},{"$error":"#VALUE!"},{"$error":"#VALUE!"},{"$error":"#VALUE!"},{"$error":"#VALUE!"},{"$error":"#VALUE!"}]
[null,null,null,null,null,null,null,null,{"$f":"IF(Results!C40=\"\",\"\",Results!B40)","v":""},null,"",null,{"$error":"#VALUE!"},{"$error":"#VALUE!"},{"$error":"#VALUE!"},{"$error":"#VALUE!"},{"$error":"#VALUE!"},{"$error":"#VALUE!"},{"$error":"#VALUE!"},{"$error":"#VALUE!"},{"$error":"#VALUE!"},{"$error":"#VALUE!"}]
[null,null,null,null,null,null,null,null,{"$f":"IF(Results!C41=\"\",\"\",Results!B41)","v":""},null,"",null,{"$error":"#VALUE!"},{"$error":"#VALUE!"},{"$error":"#VALUE!"},{"$error":"#VALUE!"},{"$error":"#VALUE!"},{"$error":"#VALUE!"},{"$error":"#VALUE!"},{"$error":"#VALUE!"},{"$error":"#VALUE!"},{"$error":"#VALUE!"}]
[null,null,null,null,null,null,null,null,{"$f":"IF(Results!C42=\"\",\"\",Results!B42)","v":""},null,"",null,{"$error":"#VALUE!"},{"$error":"#VALUE!"},{"$error":"#VALUE!"},{"$error":"#VALUE!"},{"$error":"#VALUE!"},{"$error":"#VALUE!"},{"$error":"#VALUE!"},{"$error":"#VALUE!"},{"$error":"#VALUE!"},{"$error":"#VALUE!"}]
[null,null,null,null,null,null,null,null,{"$f":"IF(Results!C43=\"\",\"\",Results!B43)","v":""},null,"",null,{"$error":"#VALUE!"},{"$error":"#VALUE!"},{"$error":"#VALUE!"},{"$error":"#VALUE!"},{"$error":"#VALUE!"},{"$error":"#VALUE!"},{"$error":"#VALUE!"},{"$error":"#VALUE!"},{"$error":"#VALUE!"},{"$error":"#VALUE!"}]
[null,null,null,null,null,null,null,null,{"$f":"IF(Results!C44=\"\",\"\",Results!B44)","v":""},null,"",null,{"$error":"#VALUE!"},{"$error":"#VALUE!"},{"$error":"#VALUE!"},{"$error":"#VALUE!"},{"$error":"#VALUE!"},{"$error":"#VALUE!"},{"$error":"#VALUE!"},{"$error":"#VALUE!"},{"$error":"#VALUE!"},{"$error":"#VALUE!"}]
[null,null,null,null,null,null,null,null,{"$f":"IF(Results!C45=\"\",\"\",Results!B45)","v":""},null,"",null,{"$error":"#VALUE!"},{"$error":"#VALUE!"},{"$error":"#VALUE!"},{"$error":"#VALUE!"},{"$error":"#VALUE!"},{"$error":"#VALUE!"},{"$error":"#VALUE!"},{"$error":"#VALUE!"},{"$error":"#VALUE!"},{"$error":"#VALUE!"}]
[null,null,null,null,null,null,null,null,{"$f":"IF(Results!C46=\"\",\"\",Results!B46)","v":""},null,"",null,{"$error":"#VALUE!"},{"$error":"#VALUE!"},{"$error":"#VALUE!"},{"$error":"#VALUE!"},{"$error":"#VALUE!"},{"$error":"#VALUE!"},{"$error":"#VALUE!"},{"$error":"#VALUE!"},{"$error":"#VALUE!"},{"$error":"#VALUE!"}]
[null,null,null,null,null,null,null,null,{"$f":"IF(Results!C47=\"\",\"\",Results!B47)","v":""},null,"",null,{"$error":"#VALUE!"},{"$error":"#VALUE!"},{"$error":"#VALUE!"},{"$error":"#VALUE!"},{"$error":"#VALUE!"},{"$error":"#VALUE!"},{"$error":"#VALUE!"},{"$error":"#VALUE!"},{"$error":"#VALUE!"},{"$error":"#VALUE!"}]
[null,null,null,null,null,null,null,null,{"$f":"IF(Results!C48=\"\",\"\",Results!B48)","v":""},null,"",null,{"$error":"#VALUE!"},{"$error":"#VALUE!"},{"$error":"#VALUE!"},{"$error":"#VALUE!"},{"$error":"#VALUE!"},{"$error":"#VALUE!"},{"$error":"#VALUE!"},{"$error":"#VALUE!"},{"$error":"#VALUE!"},{"$error":"#VALUE!"}]
[null,null,null,null,null,null,null,null,{"$f":"IF(Results!C49=\"\",\"\",Results!B49)","v":""},null,"",null,{"$error":"#VALUE!"},{"$error":"#VALUE!"},{"$error":"#VALUE!"},{"$error":"#VALUE!"},{"$error":"#VALUE!"},{"$error":"#VALUE!"},{"$error":"#VALUE!"},{"$error":"#VALUE!"},{"$error":"#VALUE!"},{"$error":"#VALUE!"}]
[null,null,null,null,null,null,null,null,{"$f":"IF(Results!C50=\"\",\"\",Results!B50)","v":""},null,"",null,{"$error":"#VALUE!"},{"$error":"#VALUE!"},{"$error":"#VALUE!"},{"$error":"#VALUE!"},{"$error":"#VALUE!"},{"$error":"#VALUE!"},{"$error":"#VALUE!"},{"$error":"#VALUE!"},{"$error":"#VALUE!"},{"$error":"#VALUE!"}]
[null,null,null,null,null,null,null,null,{"$f":"IF(Results!C51=\"\",\"\",Results!B51)","v":""},null,"",null,{"$error":"#VALUE!"},{"$error":"#VALUE!"},{"$error":"#VALUE!"},{"$error":"#VALUE!"},{"$error":"#VALUE!"},{"$error":"#VALUE!"},{"$error":"#VALUE!"},{"$error":"#VALUE!"},{"$error":"#VALUE!"},{"$error":"#VALUE!"}]
[null,null,null,null,null,null,null,null,{"$f":"IF(Results!C52=\"\",\"\",Results!B52)","v":""},null,"",null,{"$error":"#VALUE!"},{"$error":"#VALUE!"},{"$error":"#VALUE!"},{"$error":"#VALUE!"},{"$error":"#VALUE!"},{"$error":"#VALUE!"},{"$error":"#VALUE!"},{"$error":"#VALUE!"},{"$error":"#VALUE!"},{"$error":"#VALUE!"}]
[null,null,null,null,null,null,null,null,{"$f":"IF(Results!C53=\"\",\"\",Results!B53)","v":""},null,"",null,{"$error":"#VALUE!"},{"$error":"#VALUE!"},{"$error":"#VALUE!"},{"$error":"#VALUE!"},{"$error":"#VALUE!"},{"$error":"#VALUE!"},{"$error":"#VALUE!"},{"$error":"#VALUE!"},{"$error":"#VALUE!"},{"$error":"#VALUE!"}]
[null,null,null,null,null,null,null,null,{"$f":"IF(Results!C54=\"\",\"\",Results!B54)","v":""},null,"",null,{"$error":"#VALUE!"},{"$error":"#VALUE!"},{"$error":"#VALUE!"},{"$error":"#VALUE!"},{"$error":"#VALUE!"},{"$error":"#VALUE!"},{"$error":"#VALUE!"},{"$error":"#VALUE!"},{"$error":"#VALUE!"},{"$error":"#VALUE!"}]
[null,null,null,null,null,null,null,null,{"$f":"IF(Results!C55=\"\",\"\",Results!B55)","v":""},null,"",null,{"$error":"#VALUE!"},{"$error":"#VALUE!"},{"$error":"#VALUE!"},{"$error":"#VALUE!"},{"$error":"#VALUE!"},{"$error":"#VALUE!"},{"$error":"#VALUE!"},{"$error":"#VALUE!"},{"$error":"#VALUE!"},{"$error":"#VALUE!"}]
[null,null,null,null,null,null,null,null,{"$f":"IF(Results!C56=\"\",\"\",Results!B56)","v":""},null,"",null,{"$error":"#VALUE!"},{"$error":"#VALUE!"},{"$error":"#VALUE!"},{"$error":"#VALUE!"},{"$error":"#VALUE!"},{"$error":"#VALUE!"},{"$error":"#VALUE!"},{"$error":"#VALUE!"},{"$error":"#VALUE!"},{"$error":"#VALUE!"}]
[null,null,null,null,null,null,null,null,{"$f":"IF(Results!C57=\"\",\"\",Results!B57)","v":""},null,"",null,{"$error":"#VALUE!"},{"$error":"#VALUE!"},{"$error":"#VALUE!"},{"$error":"#VALUE!"},{"$error":"#VALUE!"},{"$error":"#VALUE!"},{"$error":"#VALUE!"},{"$error":"#VALUE!"},{"$error":"#VALUE!"},{"$error":"#VALUE!"}]
[null,null,null,null,null,null,null,null,{"$f":"IF(Results!C58=\"\",\"\",Results!B58)","v":""},null,"",null,{"$error":"#VALUE!"},{"$error":"#VALUE!"},{"$error":"#VALUE!"},{"$error":"#VALUE!"},{"$error":"#VALUE!"},{"$error":"#VALUE!"},{"$error":"#VALUE!"},{"$error":"#VALUE!"},{"$error":"#VALUE!"},{"$error":"#VALUE!"}]
[null,null,null,null,null,null,null,null,{"$f":"IF(Results!C59=\"\",\"\",Results!B59)","v":""},null,"",null,{"$error":"#VALUE!"},{"$error":"#VALUE!"},{"$error":"#VALUE!"},{"$error":"#VALUE!"},{"$error":"#VALUE!"},{"$error":"#VALUE!"},{"$error":"#VALUE!"},{"$error":"#VALUE!"},{"$error":"#VALUE!"},{"$error":"#VALUE!"}]
[null,null,null,null,null,null,null,null,{"$f":"IF(Results!C60=\"\",\"\",Results!B60)","v":""},null,"",null,{"$error":"#VALUE!"},{"$error":"#VALUE!"},{"$error":"#VALUE!"},{"$error":"#VALUE!"},{"$error":"#VALUE!"},{"$error":"#VALUE!"},{"$error":"#VALUE!"},{"$error":"#VALUE!"},{"$error":"#VALUE!"},{"$error":"#VALUE!"}]
[null,null,null,null,null,null,null,null,{"$f":"IF(Results!C61=\"\",\"\",Results!B61)","v":""},null,"",null,{"$error":"#VALUE!"},{"$error":"#VALUE!"},{"$error":"#VALUE!"},{"$error":"#VALUE!"},{"$error":"#VALUE!"},{"$error":"#VALUE!"},{"$error":"#VALUE!"},{"$error":"#VALUE!"},{"$error":"#VALUE!"},{"$error":"#VALUE!"}]
[null,null,null,null,null,null,null,null,{"$f":"IF(Results!C62=\"\",\"\",Results!B62)","v":""},null,"",null,{"$error":"#VALUE!"},{"$error":"#VALUE!"},{"$error":"#VALUE!"},{"$error":"#VALUE!"},{"$error":"#VALUE!"},{"$error":"#VALUE!"},{"$error":"#VALUE!"},{"$error":"#VALUE!"},{"$error":"#VALUE!"},{"$error":"#VALUE!"}]
[null,null,null,null,null,null,null,null,{"$f":"IF(Results!C63=\"\",\"\",Results!B63)","v":""},null,"",null,{"$error":"#VALUE!"},{"$error":"#VALUE!"},{"$error":"#VALUE!"},{"$error":"#VALUE!"},{"$error":"#VALUE!"},{"$error":"#VALUE!"},{"$error":"#VALUE!"},{"$error":"#VALUE!"},{"$error":"#VALUE!"},{"$error":"#VALUE!"}]
[null,null,null,null,null,null,null,null,{"$f":"IF(Results!C64=\"\",\"\",Results!B64)","v":""},null,"",null,{"$error":"#VALUE!"},{"$error":"#VALUE!"},{"$error":"#VALUE!"},{"$error":"#VALUE!"},{"$error":"#VALUE!"},{"$error":"#VALUE!"},{"$error":"#VALUE!"},{"$error":"#VALUE!"},{"$error":"#VALUE!"},{"$error":"#VALUE!"}]
[null,null,null,null,null,null,null,null,{"$f":"IF(Results!C65=\"\",\"\",Results!B65)","v":""},null,"",null,{"$error":"#VALUE!"},{"$error":"#VALUE!"},{"$error":"#VALUE!"},{"$error":"#VALUE!"},{"$error":"#VALUE!"},{"$error":"#VALUE!"},{"$error":"#VALUE!"},{"$error":"#VALUE!"},{"$error":"#VALUE!"},{"$error":"#VALUE!"}]
[null,null,null,null,null,null,null,null,{"$f":"IF(Results!C66=\"\",\"\",Results!B66)","v":""},null,"",null,{"$error":"#VALUE!"},{"$error":"#VALUE!"},{"$error":"#VALUE!"},{"$error":"#VALUE!"},{"$error":"#VALUE!"},{"$error":"#VALUE!"},{"$error":"#VALUE!"},{"$error":"#VALUE!"},{"$error":"#VALUE!"},{"$error":"#VALUE!"}]
[null,null,null,null,null,null,null,null,{"$f":"IF(Results!C67=\"\",\"\",Results!B67)","v":""},null,"",null,{"$error":"#VALUE!"},{"$error":"#VALUE!"},{"$error":"#VALUE!"},{"$error":"#VALUE!"},{"$error":"#VALUE!"},{"$error":"#VALUE!"},{"$error":"#VALUE!"},{"$error":"#VALUE!"},{"$error":"#VALUE!"},{"$error":"#VALUE!"}]
[null,null,null,null,null,null,null,null,{"$f":"IF(Results!C68=\"\",\"\",Results!B68)","v":""},null,"",null,{"$error":"#VALUE!"},{"$error":"#VALUE!"},{"$error":"#VALUE!"},{"$error":"#VALUE!"},{"$error":"#VALUE!"},{"$error":"#VALUE!"},{"$error":"#VALUE!"},{"$error":"#VALUE!"},{"$error":"#VALUE!"},{"$error":"#VALUE!"}]
[null,null,null,null,null,null,null,null,{"$f":"IF(Results!C69=\"\",\"\",Results!B69)","v":""},null,"",null,{"$error":"#VALUE!"},{"$error":"#VALUE!"},{"$error":"#VALUE!"},{"$error":"#VALUE!"},{"$error":"#VALUE!"},{"$error":"#VALUE!"},{"$error":"#VALUE!"},{"$error":"#VALUE!"},{"$error":"#VALUE!"},{"$error":"#VALUE!"}]
[null,null,null,null,null,null,null,null,{"$f":"IF(Results!C70=\"\",\"\",Results!B70)","v":""},null,"",null,{"$error":"#VALUE!"},{"$error":"#VALUE!"},{"$error":"#VALUE!"},{"$error":"#VALUE!"},{"$error":"#VALUE!"},{"$error":"#VALUE!"},{"$error":"#VALUE!"},{"$error":"#VALUE!"},{"$error":"#VALUE!"},{"$error":"#VALUE!"}]
[null,null,null,null,null,null,null,null,{"$f":"IF(Results!C71=\"\",\"\",Results!B71)","v":""},null,"",null,{"$error":"#VALUE!"},{"$error":"#VALUE!"},{"$error":"#VALUE!"},{"$error":"#VALUE!"},{"$error":"#VALUE!"},{"$error":"#VALUE!"},{"$error":"#VALUE!"},{"$error":"#VALUE!"},{"$error":"#VALUE!"},{"$error":"#VALUE!"}]
[null,null,null,null,null,null,null,null,{"$f":"IF(Results!C72=\"\",\"\",Results!B72)","v":""},null,"",null,{"$error":"#VALUE!"},{"$error":"#VALUE!"},{"$error":"#VALUE!"},{"$error":"#VALUE!"},{"$error":"#VALUE!"},{"$error":"#VALUE!"},{"$error":"#VALUE!"},{"$error":"#VALUE!"},{"$error":"#VALUE!"},{"$error":"#VALUE!"}]
[null,null,null,null,null,null,null,null,{"$f":"IF(Results!C73=\"\",\"\",Results!B73)","v":""},null,"",null,{"$error":"#VALUE!"},{"$error":"#VALUE!"},{"$error":"#VALUE!"},{"$error":"#VALUE!"},{"$error":"#VALUE!"},{"$error":"#VALUE!"},{"$error":"#VALUE!"},{"$error":"#VALUE!"},{"$error":"#VALUE!"},{"$error":"#VALUE!"}]
[null,null,null,null,null,null,null,null,{"$f":"IF(Results!C74=\"\",\"\",Results!B74)","v":""},null,"",null,{"$error":"#VALUE!"},{"$error":"#VALUE!"},{"$error":"#VALUE!"},{"$error":"#VALUE!"},{"$error":"#VALUE!"},{"$error":"#VALUE!"},{"$error":"#VALUE!"},{"$error":"#VALUE!"},{"$error":"#VALUE!"},{"$error":"#VALUE!"}]
[null,null,null,null,null,null,null,null,{"$f":"IF(Results!C75=\"\",\"\",Results!B75)","v":""},null,"",null,{"$error":"#VALUE!"},{"$error":"#VALUE!"},{"$error":"#VALUE!"},{"$error":"#VALUE!"},{"$error":"#VALUE!"},{"$error":"#VALUE!"},{"$error":"#VALUE!"},{"$error":"#VALUE!"},{"$error":"#VALUE!"},{"$error":"#VALUE!"}]
[null,null,null,null,null,null,null,null,{"$f":"IF(Results!C76=\"\",\"\",Results!B76)","v":""},null,"",null,{"$error":"#VALUE!"},{"$error":"#VALUE!"},{"$error":"#VALUE!"},{"$error":"#VALUE!"},{"$error":"#VALUE!"},{"$error":"#VALUE!"},{"$error":"#VALUE!"},{"$error":"#VALUE!"},{"$error":"#VALUE!"},{"$error":"#VALUE!"}]
[null,null,null,null,null,null,null,null,{"$f":"IF(Results!C77=\"\",\"\",Results!B77)","v":""},null,"",null,{"$error":"#VALUE!"},{"$error":"#VALUE!"},{"$error":"#VALUE!"},{"$error":"#VALUE!"},{"$error":"#VALUE!"},{"$error":"#VALUE!"},{"$error":"#VALUE!"},{"$error":"#VALUE!"},{"$error":"#VALUE!"},{"$error":"#VALUE!"}]
[null,null,null,null,null,null,null,null,{"$f":"IF(Results!C78=\"\",\"\",Results!B78)","v":""},null,"",null,{"$error":"#VALUE!"},{"$error":"#VALUE!"},{"$error":"#VALUE!"},{"$error":"#VALUE!"},{"$error":"#VALUE!"},{"$error":"#VALUE!"},{"$error":"#VALUE!"},{"$error":"#VALUE!"},{"$error":"#VALUE!"},{"$error":"#VALUE!"}]
[null,null,null,null,null,null,null,null,{"$f":"IF(Results!C79=\"\",\"\",Results!B79)","v":""},null,"",null,{"$error":"#VALUE!"},{"$error":"#VALUE!"},{"$error":"#VALUE!"},{"$error":"#VALUE!"},{"$error":"#VALUE!"},{"$error":"#VALUE!"},{"$error":"#VALUE!"},{"$error":"#VALUE!"},{"$error":"#VALUE!"},{"$error":"#VALUE!"}]
[null,null,null,null,null,null,null,null,{"$f":"IF(Results!C80=\"\",\"\",Results!B80)","v":""},null,"",null,{"$error":"#VALUE!"},{"$error":"#VALUE!"},{"$error":"#VALUE!"},{"$error":"#VALUE!"},{"$error":"#VALUE!"},{"$error":"#VALUE!"},{"$error":"#VALUE!"},{"$error":"#VALUE!"},{"$error":"#VALUE!"},{"$error":"#VALUE!"}]
[null,null,null,null,null,null,null,null,{"$f":"IF(Results!C81=\"\",\"\",Results!B81)","v":""},null,"",null,{"$error":"#VALUE!"},{"$error":"#VALUE!"},{"$error":"#VALUE!"},{"$error":"#VALUE!"},{"$error":"#VALUE!"},{"$error":"#VALUE!"},{"$error":"#VALUE!"},{"$error":"#VALUE!"},{"$error":"#VALUE!"},{"$error":"#VALUE!"}]
[null,null,null,null,null,null,null,null,{"$f":"IF(Results!C82=\"\",\"\",Results!B82)","v":""},null,"",null,{"$error":"#VALUE!"},{"$error":"#VALUE!"},{"$error":"#VALUE!"},{"$error":"#VALUE!"},{"$error":"#VALUE!"},{"$error":"#VALUE!"},{"$error":"#VALUE!"},{"$error":"#VALUE!"},{"$error":"#VALUE!"},{"$error":"#VALUE!"}]
[null,null,null,null,null,null,null,null,{"$f":"IF(Results!C83=\"\",\"\",Results!B83)","v":""},null,"",null,{"$error":"#VALUE!"},{"$error":"#VALUE!"},{"$error":"#VALUE!"},{"$error":"#VALUE!"},{"$error":"#VALUE!"},{"$error":"#VALUE!"},{"$error":"#VALUE!"},{"$error":"#VALUE!"},{"$error":"#VALUE!"},{"$error":"#VALUE!"}]
[null,null,null,null,null,null,null,null,{"$f":"IF(Results!C84=\"\",\"\",Results!B84)","v":""},null,"",null,{"$error":"#VALUE!"},{"$error":"#VALUE!"},{"$error":"#VALUE!"},{"$error":"#VALUE!"},{"$error":"#VALUE!"},{"$error":"#VALUE!"},{"$error":"#VALUE!"},{"$error":"#VALUE!"},{"$error":"#VALUE!"},{"$error":"#VALUE!"}]
[null,null,null,null,null,null,null,null,{"$f":"IF(Results!C85=\"\",\"\",Results!B85)","v":""},null,"",null,{"$error":"#VALUE!"},{"$error":"#VALUE!"},{"$error":"#VALUE!"},{"$error":"#VALUE!"},{"$error":"#VALUE!"},{"$error":"#VALUE!"},{"$error":"#VALUE!"},{"$error":"#VALUE!"},{"$error":"#VALUE!"},{"$error":"#VALUE!"}]
[null,null,null,null,null,null,null,null,{"$f":"IF(Results!C86=\"\",\"\",Results!B86)","v":""},null,"",null,{"$error":"#VALUE!"},{"$error":"#VALUE!"},{"$error":"#VALUE!"},{"$error":"#VALUE!"},{"$error":"#VALUE!"},{"$error":"#VALUE!"},{"$error":"#VALUE!"},{"$error":"#VALUE!"},{"$error":"#VALUE!"},{"$error":"#VALUE!"}]
[null,null,null,null,null,null,null,null,{"$f":"IF(Results!C87=\"\",\"\",Results!B87)","v":""},null,"",null,{"$error":"#VALUE!"},{"$error":"#VALUE!"},{"$error":"#VALUE!"},{"$error":"#VALUE!"},{"$error":"#VALUE!"},{"$error":"#VALUE!"},{"$error":"#VALUE!"},{"$error":"#VALUE!"},{"$error":"#VALUE!"},{"$error":"#VALUE!"}]
[null,null,null,null,null,null,null,null,{"$f":"IF(Results!C88=\"\",\"\",Results!B88)","v":""},null,"",null,{"$error":"#VALUE!"},{"$error":"#VALUE!"},{"$error":"#VALUE!"},{"$error":"#VALUE!"},{"$error":"#VALUE!"},{"$error":"#VALUE!"},{"$error":"#VALUE!"},{"$error":"#VALUE!"},{"$error":"#VALUE!"},{"$error":"#VALUE!"}]
[null,null,null,null,null,null,null,null,{"$f":"IF(Results!C89=\"\",\"\",Results!B89)","v":""},null,"",null,{"$error":"#VALUE!"},{"$error":"#VALUE!"},{"$error":"#VALUE!"},{"$error":"#VALUE!"},{"$error":"#VALUE!"},{"$error":"#VALUE!"},{"$error":"#VALUE!"},{"$error":"#VALUE!"},{"$error":"#VALUE!"},{"$error":"#VALUE!"}]
[null,null,null,null,null,null,null,null,{"$f":"IF(Results!C90=\"\",\"\",Results!B90)","v":""},null,"",null,{"$error":"#VALUE!"},{"$error":"#VALUE!"},{"$error":"#VALUE!"},{"$error":"#VALUE!"},{"$error":"#VALUE!"},{"$error":"#VALUE!"},{"$error":"#VALUE!"},{"$error":"#VALUE!"},{"$error":"#VALUE!"},{"$error":"#VALUE!"}]
[null,null,null,null,null,null,null,null,{"$f":"IF(Results!C91=\"\",\"\",Results!B91)","v":""},null,"",null,{"$error":"#VALUE!"},{"$error":"#VALUE!"},{"$error":"#VALUE!"},{"$error":"#VALUE!"},{"$error":"#VALUE!"},{"$error":"#VALUE!"},{"$error":"#VALUE!"},{"$error":"#VALUE!"},{"$error":"#VALUE!"},{"$error":"#VALUE!"}]
[null,null,null,null,null,null,null,null,{"$f":"IF(Results!C92=\"\",\"\",Results!B92)","v":""},null,"",null,{"$error":"#VALUE!"},{"$error":"#VALUE!"},{"$error":"#VALUE!"},{"$error":"#VALUE!"},{"$error":"#VALUE!"},{"$error":"#VALUE!"},{"$error":"#VALUE!"},{"$error":"#VALUE!"},{"$error":"#VALUE!"},{"$error":"#VALUE!"}]
[null,null,null,null,null,null,null,null,{"$f":"IF(Results!C93=\"\",\"\",Results!B93)","v":""},null,"",null,{"$error":"#VALUE!"},{"$error":"#VALUE!"},{"$error":"#VALUE!"},{"$error":"#VALUE!"},{"$error":"#VALUE!"},{"$error":"#VALUE!"},{"$error":"#VALUE!"},{"$error":"#VALUE!"},{"$error":"#VALUE!"},{"$error":"#VALUE!"}]
[null,null,null,null,null,null,null,null,{"$f":"IF(Results!C94=\"\",\"\",Results!B94)","v":""},null,"",null,{"$error":"#VALUE!"},{"$error":"#VALUE!"},{"$error":"#VALUE!"},{"$error":"#VALUE!"},{"$error":"#VALUE!"},{"$error":"#VALUE!"},{"$error":"#VALUE!"},{"$error":"#VALUE!"},{"$error":"#VALUE!"},{"$error":"#VALUE!"}]
[null,null,null,null,null,null,null,null,{"$f":"IF(Results!C95=\"\",\"\",Results!B95)","v":""},null,"",null,{"$error":"#VALUE!"},{"$error":"#VALUE!"},{"$error":"#VALUE!"},{"$error":"#VALUE!"},{"$error":"#VALUE!"},{"$error":"#VALUE!"},{"$error":"#VALUE!"},{"$error":"#VALUE!"},{"$error":"#VALUE!"},{"$error":"#VALUE!"}]
[null,null,null,null,null,null,null,null,{"$f":"IF(Results!C96=\"\",\"\",Results!B96)","v":""},null,"",null,{"$error":"#VALUE!"},{"$error":"#VALUE!"},{"$error":"#VALUE!"},{"$error":"#VALUE!"},{"$error":"#VALUE!"},{"$error":"#VALUE!"},{"$error":"#VALUE!"},{"$error":"#VALUE!"},{"$error":"#VALUE!"},{"$error":"#VALUE!"}]
[null,null,null,null,null,null,null,null,{"$f":"IF(Results!C97=\"\",\"\",Results!B97)","v":""},null,"",null,{"$error":"#VALUE!"},{"$error":"#VALUE!"},{"$error":"#VALUE!"},{"$error":"#VALUE!"},{"$error":"#VALUE!"},{"$error":"#VALUE!"},{"$error":"#VALUE!"},{"$error":"#VALUE!"},{"$error":"#VALUE!"},{"$error":"#VALUE!"}]
[null,null,null,null,null,null,null,null,{"$f":"IF(Results!C98=\"\",\"\",Results!B98)","v":""},null,{"$f":"IF($C$6=\"\",\"\",IF(I98=\"\",\"\",50-SUM(Q98:V98)))","v":""},null,{"$f":"SEARCH($C$6,J98)","v":{"$error":"#VALUE!"}},{"$f":"SEARCH($D$6,J98)","v":{"$error":"#VALUE!"}},{"$f":"SEARCH($E$6,J98)","v":{"$error":"#VALUE!"}},{"$f":"SEARCH($F$6,J98)","v":{"$error":"#VALUE!"}},{"$f":"IF((N98-M98)<0,$C$8,0)","v":{"$error":"#VALUE!"}},{"$f":"IF((O98-M98)<0,$C$8+$D$8,0)","v":{"$error":"#VALUE!"}},{"$f":"IF((P98-M98)<0,$C$8+$D$8+$E$8,0)","v":{"$error":"#VALUE!"}},{"$f":"IF((O98-N98)<0,$D$8,0)","v":{"$error":"#VALUE!"}},{"$f":"IF((P98-N98)<0,$D$8+$E$8,0)","v":{"$error":"#VALUE!"}},{"$f":"IF((P98-O98)<0,$E$8,0)","v":{"$error":"#VALUE!"}}]
[null,null,null,null,null,null,null,null,{"$f":"IF(Results!C99=\"\",\"\",Results!B99)","v":""},null,"",null,{"$error":"#VALUE!"},{"$error":"#VALUE!"},{"$error":"#VALUE!"},{"$error":"#VALUE!"},{"$error":"#VALUE!"},{"$error":"#VALUE!"},{"$error":"#VALUE!"},{"$error":"#VALUE!"},{"$error":"#VALUE!"},{"$error":"#VALUE!"}]
[null,null,null,null,null,null,null,null,{"$f":"IF(Results!C100=\"\",\"\",Results!B100)","v":""},null,"",null,{"$error":"#VALUE!"},{"$error":"#VALUE!"},{"$error":"#VALUE!"},{"$error":"#VALUE!"},{"$error":"#VALUE!"},{"$error":"#VALUE!"},{"$error":"#VALUE!"},{"$error":"#VALUE!"},{"$error":"#VALUE!"},{"$error":"#VALUE!"}]
[null,null,null,null,null,null,null,null,{"$f":"IF(Results!C101=\"\",\"\",Results!B101)","v":""},null,"",null,{"$error":"#VALUE!"},{"$error":"#VALUE!"},{"$error":"#VALUE!"},{"$error":"#VALUE!"},{"$error":"#VALUE!"},{"$error":"#VALUE!"},{"$error":"#VALUE!"},{"$error":"#VALUE!"},{"$error":"#VALUE!"},{"$error":"#VALUE!"}]
[null,null,null,null,null,null,null,null,{"$f":"IF(Results!C102=\"\",\"\",Results!B102)","v":""},null,"",null,{"$error":"#VALUE!"},{"$error":"#VALUE!"},{"$error":"#VALUE!"},{"$error":"#VALUE!"},{"$error":"#VALUE!"},{"$error":"#VALUE!"},{"$error":"#VALUE!"},{"$error":"#VALUE!"},{"$error":"#VALUE!"},{"$error":"#VALUE!"}]
[null,null,null,null,null,null,null,null,{"$f":"IF(Results!C103=\"\",\"\",Results!B103)","v":""},null,"",null,{"$error":"#VALUE!"},{"$error":"#VALUE!"},{"$error":"#VALUE!"},{"$error":"#VALUE!"},{"$error":"#VALUE!"},{"$error":"#VALUE!"},{"$error":"#VALUE!"},{"$error":"#VALUE!"},{"$error":"#VALUE!"},{"$error":"#VALUE!"}]

{"sheet":"Group4","index":5,"n_rows":103,"n_cols":22,"rows_kept":103,"cut":false,"hidden":false,"merged":[[1,3,1,8]]}
[]
[null,null,"Group 4 :"]
[null,null,null,null,null,null,null,null,"Entrant No","Placings","Score",null,"J1","J2","J3","J4","PO","QO","RO","QP","RP","RQ"]
[null,null,null,null,null,null,null,null,{"$f":"IF(Results!C4=\"\",\"\",Results!B4)","v":""},null,{"$f":"IF($C$6=\"\",\"\",IF(I4=\"\",\"\",50-SUM(Q4:V4)))","v":""},null,{"$f":"SEARCH($C$6,J4)","v":{"$error":"#VALUE!"}},{"$f":"SEARCH($D$6,J4)","v":{"$error":"#VALUE!"}},{"$f":"SEARCH($E$6,J4)","v":{"$error":"#VALUE!"}},{"$f":"SEARCH($F$6,J4)","v":{"$error":"#VALUE!"}},{"$f":"IF((N4-M4)<0,$C$8,0)","v":{"$error":"#VALUE!"}},{"$f":"IF((O4-M4)<0,$C$8+$D$8,0)","v":{"$error":"#VALUE!"}},{"$f":"IF((P4-M4)<0,$C$8+$D$8+$E$8,0)","v":{"$error":"#VALUE!"}},{"$f":"IF((O4-N4)<0,$D$8,0)","v":{"$error":"#VALUE!"}},{"$f":"IF((P4-N4)<0,$D$8+$E$8,0)","v":{"$error":"#VALUE!"}},{"$f":"IF((P4-O4)<0,$E$8,0)","v":{"$error":"#VALUE!"}}]
[null,null,"Judge's Placings",null,null,null,null,null,{"$f":"IF(Results!C5=\"\",\"\",Results!B5)","v":""},null,{"$f":"IF($C$6=\"\",\"\",IF(I5=\"\",\"\",50-SUM(Q5:V5)))","v":""},null,{"$error":"#VALUE!"},{"$error":"#VALUE!"},{"$error":"#VALUE!"},{"$error":"#VALUE!"},{"$error":"#VALUE!"},{"$error":"#VALUE!"},{"$error":"#VALUE!"},{"$error":"#VALUE!"},{"$error":"#VALUE!"},{"$error":"#VALUE!"}]
[null,null,null,null,null,null,null,null,{"$f":"IF(Results!C6=\"\",\"\",Results!B6)","v":""},null,"",null,{"$error":"#VALUE!"},{"$error":"#VALUE!"},{"$error":"#VALUE!"},{"$error":"#VALUE!"},{"$error":"#VALUE!"},{"$error":"#VALUE!"},{"$error":"#VALUE!"},{"$error":"#VALUE!"},{"$error":"#VALUE!"},{"$error":"#VALUE!"}]
[null,null,"Judge's Cuts",null,null,null,null,null,{"$f":"IF(Results!C7=\"\",\"\",Results!B7)","v":""},null,"",null,{"$error":"#VALUE!"},{"$error":"#VALUE!"},{"$error":"#VALUE!"},{"$error":"#VALUE!"},{"$error":"#VALUE!"},{"$error":"#VALUE!"},{"$error":"#VALUE!"},{"$error":"#VALUE!"},{"$error":"#VALUE!"},{"$error":"#VALUE!"}]
[null,null,null,null,null,null,null,null,{"$f":"IF(Results!C8=\"\",\"\",Results!B8)","v":""},null,"",null,{"$error":"#VALUE!"},{"$error":"#VALUE!"},{"$error":"#VALUE!"},{"$error":"#VALUE!"},{"$error":"#VALUE!"},{"$error":"#VALUE!"},{"$error":"#VALUE!"},{"$error":"#VALUE!"},{"$error":"#VALUE!"},{"$error":"#VALUE!"}]
[null,null,null,null,null,null,null,null,{"$f":"IF(Results!C9=\"\",\"\",Results!B9)","v":""},null,"",null,{"$error":"#VALUE!"},{"$error":"#VALUE!"},{"$error":"#VALUE!"},{"$error":"#VALUE!"},{"$error":"#VALUE!"},{"$error":"#VALUE!"},{"$error":"#VALUE!"},{"$error":"#VALUE!"},{"$error":"#VALUE!"},{"$error":"#VALUE!"}]
[null,null,{"$f":"IF($C$8=\"\",\"\",IF(($C$8+$D$8+$E$8)<3,\"WARNING : Cuts total less than 3\",\"\"))","v":""},null,null,null,null,null,{"$f":"IF(Results!C10=\"\",\"\",Results!B10)","v":""},null,"",null,{"$error":"#VALUE!"},{"$error":"#VALUE!"},{"$error":"#VALUE!"},{"$error":"#VALUE!"},{"$error":"#VALUE!"},{"$error":"#VALUE!"},{"$error":"#VALUE!"},{"$error":"#VALUE!"},{"$error":"#VALUE!"},{"$error":"#VALUE!"}]
[null,null,{"$f":"IF(($C$8+$D$8+$E$8)>15,\"WARNING : Cuts total more than 15\",\"\")","v":""},null,null,null,null,null,{"$f":"IF(Results!C11=\"\",\"\",Results!B11)","v":""},null,"",null,{"$error":"#VALUE!"},{"$error":"#VALUE!"},{"$error":"#VALUE!"},{"$error":"#VALUE!"},{"$error":"#VALUE!"},{"$error":"#VALUE!"},{"$error":"#VALUE!"},{"$error":"#VALUE!"},{"$error":"#VALUE!"},{"$error":"#VALUE!"}]
[null,null,{"$f":"IF(AND(($C$8+$D$8+$E$8)>=15,$D$8>5),\"WARNING : Middle cut more than 5\",\"\")","v":""},null,null,null,null,null,{"$f":"IF(Results!C12=\"\",\"\",Results!B12)","v":""},null,"",null,{"$error":"#VALUE!"},{"$error":"#VALUE!"},{"$error":"#VALUE!"},{"$error":"#VALUE!"},{"$error":"#VALUE!"},{"$error":"#VALUE!"},{"$error":"#VALUE!"},{"$error":"#VALUE!"},{"$error":"#VALUE!"},{"$error":"#VALUE!"}]
[null,null,{"$f":"IF(AND(($C$8+$D$8+$E$8)=14,$D$8>8),\"WARNING : Middle cut more than 8\",\"\")","v":""},null,null,null,null,null,{"$f":"IF(Results!C13=\"\",\"\",Results!B13)","v":""},null,"",null,{"$error":"#VALUE!"},{"$error":"#VALUE!"},{"$error":"#VALUE!"},{"$error":"#VALUE!"},{"$error":"#VALUE!"},{"$error":"#VALUE!"},{"$error":"#VALUE!"},{"$error":"#VALUE!"},{"$error":"#VALUE!"},{"$error":"#VALUE!"}]
[null,null,{"$f":"IF(AND(C10=\"\",C11=\"\",C12=\"\",C13=\"\"),\"\",\"Please discuss with Judge\")","v":""},null,null,null,null,null,{"$f":"IF(Results!C14=\"\",\"\",Results!B14)","v":""},null,"",null,{"$error":"#VALUE!"},{"$error":"#VALUE!"},{"$error":"#VALUE!"},{"$error":"#VALUE!"},{"$error":"#VALUE!"},{"$error":"#VALUE!"},{"$error":"#VALUE!"},{"$error":"#VALUE!"},{"$error":"#VALUE!"},{"$error":"#VALUE!"}]
[null,null,null,null,null,null,null,null,{"$f":"IF(Results!C15=\"\",\"\",Results!B15)","v":""},null,"",null,{"$error":"#VALUE!"},{"$error":"#VALUE!"},{"$error":"#VALUE!"},{"$error":"#VALUE!"},{"$error":"#VALUE!"},{"$error":"#VALUE!"},{"$error":"#VALUE!"},{"$error":"#VALUE!"},{"$error":"#VALUE!"},{"$error":"#VALUE!"}]
[null,null,null,null,null,null,null,null,{"$f":"IF(Results!C16=\"\",\"\",Results!B16)","v":""},null,"",null,{"$error":"#VALUE!"},{"$error":"#VALUE!"},{"$error":"#VALUE!"},{"$error":"#VALUE!"},{"$error":"#VALUE!"},{"$error":"#VALUE!"},{"$error":"#VALUE!"},{"$error":"#VALUE!"},{"$error":"#VALUE!"},{"$error":"#VALUE!"}]
[null,null,null,null,null,null,null,null,{"$f":"IF(Results!C17=\"\",\"\",Results!B17)","v":""},null,"",null,{"$error":"#VALUE!"},{"$error":"#VALUE!"},{"$error":"#VALUE!"},{"$error":"#VALUE!"},{"$error":"#VALUE!"},{"$error":"#VALUE!"},{"$error":"#VALUE!"},{"$error":"#VALUE!"},{"$error":"#VALUE!"},{"$error":"#VALUE!"}]
[null,null,null,null,null,null,null,null,{"$f":"IF(Results!C18=\"\",\"\",Results!B18)","v":""},null,"",null,{"$error":"#VALUE!"},{"$error":"#VALUE!"},{"$error":"#VALUE!"},{"$error":"#VALUE!"},{"$error":"#VALUE!"},{"$error":"#VALUE!"},{"$error":"#VALUE!"},{"$error":"#VALUE!"},{"$error":"#VALUE!"},{"$error":"#VALUE!"}]
[null,null,null,null,null,null,null,null,{"$f":"IF(Results!C19=\"\",\"\",Results!B19)","v":""},null,"",null,{"$error":"#VALUE!"},{"$error":"#VALUE!"},{"$error":"#VALUE!"},{"$error":"#VALUE!"},{"$error":"#VALUE!"},{"$error":"#VALUE!"},{"$error":"#VALUE!"},{"$error":"#VALUE!"},{"$error":"#VALUE!"},{"$error":"#VALUE!"}]
[null,null,null,null,null,null,null,null,{"$f":"IF(Results!C20=\"\",\"\",Results!B20)","v":""},null,"",null,{"$error":"#VALUE!"},{"$error":"#VALUE!"},{"$error":"#VALUE!"},{"$error":"#VALUE!"},{"$error":"#VALUE!"},{"$error":"#VALUE!"},{"$error":"#VALUE!"},{"$error":"#VALUE!"},{"$error":"#VALUE!"},{"$error":"#VALUE!"}]
[null,null,null,null,null,null,null,null,{"$f":"IF(Results!C21=\"\",\"\",Results!B21)","v":""},null,"",null,{"$error":"#VALUE!"},{"$error":"#VALUE!"},{"$error":"#VALUE!"},{"$error":"#VALUE!"},{"$error":"#VALUE!"},{"$error":"#VALUE!"},{"$error":"#VALUE!"},{"$error":"#VALUE!"},{"$error":"#VALUE!"},{"$error":"#VALUE!"}]
[null,null,null,null,null,null,null,null,{"$f":"IF(Results!C22=\"\",\"\",Results!B22)","v":""},null,"",null,{"$error":"#VALUE!"},{"$error":"#VALUE!"},{"$error":"#VALUE!"},{"$error":"#VALUE!"},{"$error":"#VALUE!"},{"$error":"#VALUE!"},{"$error":"#VALUE!"},{"$error":"#VALUE!"},{"$error":"#VALUE!"},{"$error":"#VALUE!"}]
[null,null,null,null,null,null,null,null,{"$f":"IF(Results!C23=\"\",\"\",Results!B23)","v":""},null,"",null,{"$error":"#VALUE!"},{"$error":"#VALUE!"},{"$error":"#VALUE!"},{"$error":"#VALUE!"},{"$error":"#VALUE!"},{"$error":"#VALUE!"},{"$error":"#VALUE!"},{"$error":"#VALUE!"},{"$error":"#VALUE!"},{"$error":"#VALUE!"}]
[null,null,null,null,null,null,null,null,{"$f":"IF(Results!C24=\"\",\"\",Results!B24)","v":""},null,"",null,{"$error":"#VALUE!"},{"$error":"#VALUE!"},{"$error":"#VALUE!"},{"$error":"#VALUE!"},{"$error":"#VALUE!"},{"$error":"#VALUE!"},{"$error":"#VALUE!"},{"$error":"#VALUE!"},{"$error":"#VALUE!"},{"$error":"#VALUE!"}]
[null,null,null,null,null,null,null,null,{"$f":"IF(Results!C25=\"\",\"\",Results!B25)","v":""},null,"",null,{"$error":"#VALUE!"},{"$error":"#VALUE!"},{"$error":"#VALUE!"},{"$error":"#VALUE!"},{"$error":"#VALUE!"},{"$error":"#VALUE!"},{"$error":"#VALUE!"},{"$error":"#VALUE!"},{"$error":"#VALUE!"},{"$error":"#VALUE!"}]
[null,null,null,null,null,null,null,null,{"$f":"IF(Results!C26=\"\",\"\",Results!B26)","v":""},null,"",null,{"$error":"#VALUE!"},{"$error":"#VALUE!"},{"$error":"#VALUE!"},{"$error":"#VALUE!"},{"$error":"#VALUE!"},{"$error":"#VALUE!"},{"$error":"#VALUE!"},{"$error":"#VALUE!"},{"$error":"#VALUE!"},{"$error":"#VALUE!"}]
[null,null,null,null,null,null,null,null,{"$f":"IF(Results!C27=\"\",\"\",Results!B27)","v":""},null,"",null,{"$error":"#VALUE!"},{"$error":"#VALUE!"},{"$error":"#VALUE!"},{"$error":"#VALUE!"},{"$error":"#VALUE!"},{"$error":"#VALUE!"},{"$error":"#VALUE!"},{"$error":"#VALUE!"},{"$error":"#VALUE!"},{"$error":"#VALUE!"}]
[null,null,null,null,null,null,null,null,{"$f":"IF(Results!C28=\"\",\"\",Results!B28)","v":""},null,"",null,{"$error":"#VALUE!"},{"$error":"#VALUE!"},{"$error":"#VALUE!"},{"$error":"#VALUE!"},{"$error":"#VALUE!"},{"$error":"#VALUE!"},{"$error":"#VALUE!"},{"$error":"#VALUE!"},{"$error":"#VALUE!"},{"$error":"#VALUE!"}]
[null,null,null,null,null,null,null,null,{"$f":"IF(Results!C29=\"\",\"\",Results!B29)","v":""},null,"",null,{"$error":"#VALUE!"},{"$error":"#VALUE!"},{"$error":"#VALUE!"},{"$error":"#VALUE!"},{"$error":"#VALUE!"},{"$error":"#VALUE!"},{"$error":"#VALUE!"},{"$error":"#VALUE!"},{"$error":"#VALUE!"},{"$error":"#VALUE!"}]
[null,null,null,null,null,null,null,null,{"$f":"IF(Results!C30=\"\",\"\",Results!B30)","v":""},null,"",null,{"$error":"#VALUE!"},{"$error":"#VALUE!"},{"$error":"#VALUE!"},{"$error":"#VALUE!"},{"$error":"#VALUE!"},{"$error":"#VALUE!"},{"$error":"#VALUE!"},{"$error":"#VALUE!"},{"$error":"#VALUE!"},{"$error":"#VALUE!"}]
[null,null,null,null,null,null,null,null,{"$f":"IF(Results!C31=\"\",\"\",Results!B31)","v":""},null,"",null,{"$error":"#VALUE!"},{"$error":"#VALUE!"},{"$error":"#VALUE!"},{"$error":"#VALUE!"},{"$error":"#VALUE!"},{"$error":"#VALUE!"},{"$error":"#VALUE!"},{"$error":"#VALUE!"},{"$error":"#VALUE!"},{"$error":"#VALUE!"}]
[null,null,null,null,null,null,null,null,{"$f":"IF(Results!C32=\"\",\"\",Results!B32)","v":""},null,"",null,{"$error":"#VALUE!"},{"$error":"#VALUE!"},{"$error":"#VALUE!"},{"$error":"#VALUE!"},{"$error":"#VALUE!"},{"$error":"#VALUE!"},{"$error":"#VALUE!"},{"$error":"#VALUE!"},{"$error":"#VALUE!"},{"$error":"#VALUE!"}]
[null,null,null,null,null,null,null,null,{"$f":"IF(Results!C33=\"\",\"\",Results!B33)","v":""},null,"",null,{"$error":"#VALUE!"},{"$error":"#VALUE!"},{"$error":"#VALUE!"},{"$error":"#VALUE!"},{"$error":"#VALUE!"},{"$error":"#VALUE!"},{"$error":"#VALUE!"},{"$error":"#VALUE!"},{"$error":"#VALUE!"},{"$error":"#VALUE!"}]
[null,null,null,null,null,null,null,null,{"$f":"IF(Results!C34=\"\",\"\",Results!B34)","v":""},null,{"$f":"IF($C$6=\"\",\"\",IF(I34=\"\",\"\",50-SUM(Q34:V34)))","v":""},null,{"$f":"SEARCH($C$6,J34)","v":{"$error":"#VALUE!"}},{"$f":"SEARCH($D$6,J34)","v":{"$error":"#VALUE!"}},{"$f":"SEARCH($E$6,J34)","v":{"$error":"#VALUE!"}},{"$f":"SEARCH($F$6,J34)","v":{"$error":"#VALUE!"}},{"$f":"IF((N34-M34)<0,$C$8,0)","v":{"$error":"#VALUE!"}},{"$f":"IF((O34-M34)<0,$C$8+$D$8,0)","v":{"$error":"#VALUE!"}},{"$f":"IF((P34-M34)<0,$C$8+$D$8+$E$8,0)","v":{"$error":"#VALUE!"}},{"$f":"IF((O34-N34)<0,$D$8,0)","v":{"$error":"#VALUE!"}},{"$f":"IF((P34-N34)<0,$D$8+$E$8,0)","v":{"$error":"#VALUE!"}},{"$f":"IF((P34-O34)<0,$E$8,0)","v":{"$error":"#VALUE!"}}]
[null,null,null,null,null,null,null,null,{"$f":"IF(Results!C35=\"\",\"\",Results!B35)","v":""},null,"",null,{"$error":"#VALUE!"},{"$error":"#VALUE!"},{"$error":"#VALUE!"},{"$error":"#VALUE!"},{"$error":"#VALUE!"},{"$error":"#VALUE!"},{"$error":"#VALUE!"},{"$error":"#VALUE!"},{"$error":"#VALUE!"},{"$error":"#VALUE!"}]
[null,null,null,null,null,null,null,null,{"$f":"IF(Results!C36=\"\",\"\",Results!B36)","v":""},null,"",null,{"$error":"#VALUE!"},{"$error":"#VALUE!"},{"$error":"#VALUE!"},{"$error":"#VALUE!"},{"$error":"#VALUE!"},{"$error":"#VALUE!"},{"$error":"#VALUE!"},{"$error":"#VALUE!"},{"$error":"#VALUE!"},{"$error":"#VALUE!"}]
[null,null,null,null,null,null,null,null,{"$f":"IF(Results!C37=\"\",\"\",Results!B37)","v":""},null,"",null,{"$error":"#VALUE!"},{"$error":"#VALUE!"},{"$error":"#VALUE!"},{"$error":"#VALUE!"},{"$error":"#VALUE!"},{"$error":"#VALUE!"},{"$error":"#VALUE!"},{"$error":"#VALUE!"},{"$error":"#VALUE!"},{"$error":"#VALUE!"}]
[null,null,null,null,null,null,null,null,{"$f":"IF(Results!C38=\"\",\"\",Results!B38)","v":""},null,"",null,{"$error":"#VALUE!"},{"$error":"#VALUE!"},{"$error":"#VALUE!"},{"$error":"#VALUE!"},{"$error":"#VALUE!"},{"$error":"#VALUE!"},{"$error":"#VALUE!"},{"$error":"#VALUE!"},{"$error":"#VALUE!"},{"$error":"#VALUE!"}]
[null,null,null,null,null,null,null,null,{"$f":"IF(Results!C39=\"\",\"\",Results!B39)","v":""},null,"",null,{"$error":"#VALUE!"},{"$error":"#VALUE!"},{"$error":"#VALUE!"},{"$error":"#VALUE!"},{"$error":"#VALUE!"},{"$error":"#VALUE!"},{"$error":"#VALUE!"},{"$error":"#VALUE!"},{"$error":"#VALUE!"},{"$error":"#VALUE!"}]
[null,null,null,null,null,null,null,null,{"$f":"IF(Results!C40=\"\",\"\",Results!B40)","v":""},null,"",null,{"$error":"#VALUE!"},{"$error":"#VALUE!"},{"$error":"#VALUE!"},{"$error":"#VALUE!"},{"$error":"#VALUE!"},{"$error":"#VALUE!"},{"$error":"#VALUE!"},{"$error":"#VALUE!"},{"$error":"#VALUE!"},{"$error":"#VALUE!"}]
[null,null,null,null,null,null,null,null,{"$f":"IF(Results!C41=\"\",\"\",Results!B41)","v":""},null,"",null,{"$error":"#VALUE!"},{"$error":"#VALUE!"},{"$error":"#VALUE!"},{"$error":"#VALUE!"},{"$error":"#VALUE!"},{"$error":"#VALUE!"},{"$error":"#VALUE!"},{"$error":"#VALUE!"},{"$error":"#VALUE!"},{"$error":"#VALUE!"}]
[null,null,null,null,null,null,null,null,{"$f":"IF(Results!C42=\"\",\"\",Results!B42)","v":""},null,"",null,{"$error":"#VALUE!"},{"$error":"#VALUE!"},{"$error":"#VALUE!"},{"$error":"#VALUE!"},{"$error":"#VALUE!"},{"$error":"#VALUE!"},{"$error":"#VALUE!"},{"$error":"#VALUE!"},{"$error":"#VALUE!"},{"$error":"#VALUE!"}]
[null,null,null,null,null,null,null,null,{"$f":"IF(Results!C43=\"\",\"\",Results!B43)","v":""},null,"",null,{"$error":"#VALUE!"},{"$error":"#VALUE!"},{"$error":"#VALUE!"},{"$error":"#VALUE!"},{"$error":"#VALUE!"},{"$error":"#VALUE!"},{"$error":"#VALUE!"},{"$error":"#VALUE!"},{"$error":"#VALUE!"},{"$error":"#VALUE!"}]
[null,null,null,null,null,null,null,null,{"$f":"IF(Results!C44=\"\",\"\",Results!B44)","v":""},null,"",null,{"$error":"#VALUE!"},{"$error":"#VALUE!"},{"$error":"#VALUE!"},{"$error":"#VALUE!"},{"$error":"#VALUE!"},{"$error":"#VALUE!"},{"$error":"#VALUE!"},{"$error":"#VALUE!"},{"$error":"#VALUE!"},{"$error":"#VALUE!"}]
[null,null,null,null,null,null,null,null,{"$f":"IF(Results!C45=\"\",\"\",Results!B45)","v":""},null,"",null,{"$error":"#VALUE!"},{"$error":"#VALUE!"},{"$error":"#VALUE!"},{"$error":"#VALUE!"},{"$error":"#VALUE!"},{"$error":"#VALUE!"},{"$error":"#VALUE!"},{"$error":"#VALUE!"},{"$error":"#VALUE!"},{"$error":"#VALUE!"}]
[null,null,null,null,null,null,null,null,{"$f":"IF(Results!C46=\"\",\"\",Results!B46)","v":""},null,"",null,{"$error":"#VALUE!"},{"$error":"#VALUE!"},{"$error":"#VALUE!"},{"$error":"#VALUE!"},{"$error":"#VALUE!"},{"$error":"#VALUE!"},{"$error":"#VALUE!"},{"$error":"#VALUE!"},{"$error":"#VALUE!"},{"$error":"#VALUE!"}]
[null,null,null,null,null,null,null,null,{"$f":"IF(Results!C47=\"\",\"\",Results!B47)","v":""},null,"",null,{"$error":"#VALUE!"},{"$error":"#VALUE!"},{"$error":"#VALUE!"},{"$error":"#VALUE!"},{"$error":"#VALUE!"},{"$error":"#VALUE!"},{"$error":"#VALUE!"},{"$error":"#VALUE!"},{"$error":"#VALUE!"},{"$error":"#VALUE!"}]
[null,null,null,null,null,null,null,null,{"$f":"IF(Results!C48=\"\",\"\",Results!B48)","v":""},null,"",null,{"$error":"#VALUE!"},{"$error":"#VALUE!"},{"$error":"#VALUE!"},{"$error":"#VALUE!"},{"$error":"#VALUE!"},{"$error":"#VALUE!"},{"$error":"#VALUE!"},{"$error":"#VALUE!"},{"$error":"#VALUE!"},{"$error":"#VALUE!"}]
[null,null,null,null,null,null,null,null,{"$f":"IF(Results!C49=\"\",\"\",Results!B49)","v":""},null,"",null,{"$error":"#VALUE!"},{"$error":"#VALUE!"},{"$error":"#VALUE!"},{"$error":"#VALUE!"},{"$error":"#VALUE!"},{"$error":"#VALUE!"},{"$error":"#VALUE!"},{"$error":"#VALUE!"},{"$error":"#VALUE!"},{"$error":"#VALUE!"}]
[null,null,null,null,null,null,null,null,{"$f":"IF(Results!C50=\"\",\"\",Results!B50)","v":""},null,"",null,{"$error":"#VALUE!"},{"$error":"#VALUE!"},{"$error":"#VALUE!"},{"$error":"#VALUE!"},{"$error":"#VALUE!"},{"$error":"#VALUE!"},{"$error":"#VALUE!"},{"$error":"#VALUE!"},{"$error":"#VALUE!"},{"$error":"#VALUE!"}]
[null,null,null,null,null,null,null,null,{"$f":"IF(Results!C51=\"\",\"\",Results!B51)","v":""},null,"",null,{"$error":"#VALUE!"},{"$error":"#VALUE!"},{"$error":"#VALUE!"},{"$error":"#VALUE!"},{"$error":"#VALUE!"},{"$error":"#VALUE!"},{"$error":"#VALUE!"},{"$error":"#VALUE!"},{"$error":"#VALUE!"},{"$error":"#VALUE!"}]
[null,null,null,null,null,null,null,null,{"$f":"IF(Results!C52=\"\",\"\",Results!B52)","v":""},null,"",null,{"$error":"#VALUE!"},{"$error":"#VALUE!"},{"$error":"#VALUE!"},{"$error":"#VALUE!"},{"$error":"#VALUE!"},{"$error":"#VALUE!"},{"$error":"#VALUE!"},{"$error":"#VALUE!"},{"$error":"#VALUE!"},{"$error":"#VALUE!"}]
[null,null,null,null,null,null,null,null,{"$f":"IF(Results!C53=\"\",\"\",Results!B53)","v":""},null,"",null,{"$error":"#VALUE!"},{"$error":"#VALUE!"},{"$error":"#VALUE!"},{"$error":"#VALUE!"},{"$error":"#VALUE!"},{"$error":"#VALUE!"},{"$error":"#VALUE!"},{"$error":"#VALUE!"},{"$error":"#VALUE!"},{"$error":"#VALUE!"}]
[null,null,null,null,null,null,null,null,{"$f":"IF(Results!C54=\"\",\"\",Results!B54)","v":""},null,"",null,{"$error":"#VALUE!"},{"$error":"#VALUE!"},{"$error":"#VALUE!"},{"$error":"#VALUE!"},{"$error":"#VALUE!"},{"$error":"#VALUE!"},{"$error":"#VALUE!"},{"$error":"#VALUE!"},{"$error":"#VALUE!"},{"$error":"#VALUE!"}]
[null,null,null,null,null,null,null,null,{"$f":"IF(Results!C55=\"\",\"\",Results!B55)","v":""},null,"",null,{"$error":"#VALUE!"},{"$error":"#VALUE!"},{"$error":"#VALUE!"},{"$error":"#VALUE!"},{"$error":"#VALUE!"},{"$error":"#VALUE!"},{"$error":"#VALUE!"},{"$error":"#VALUE!"},{"$error":"#VALUE!"},{"$error":"#VALUE!"}]
[null,null,null,null,null,null,null,null,{"$f":"IF(Results!C56=\"\",\"\",Results!B56)","v":""},null,"",null,{"$error":"#VALUE!"},{"$error":"#VALUE!"},{"$error":"#VALUE!"},{"$error":"#VALUE!"},{"$error":"#VALUE!"},{"$error":"#VALUE!"},{"$error":"#VALUE!"},{"$error":"#VALUE!"},{"$error":"#VALUE!"},{"$error":"#VALUE!"}]
[null,null,null,null,null,null,null,null,{"$f":"IF(Results!C57=\"\",\"\",Results!B57)","v":""},null,"",null,{"$error":"#VALUE!"},{"$error":"#VALUE!"},{"$error":"#VALUE!"},{"$error":"#VALUE!"},{"$error":"#VALUE!"},{"$error":"#VALUE!"},{"$error":"#VALUE!"},{"$error":"#VALUE!"},{"$error":"#VALUE!"},{"$error":"#VALUE!"}]
[null,null,null,null,null,null,null,null,{"$f":"IF(Results!C58=\"\",\"\",Results!B58)","v":""},null,"",null,{"$error":"#VALUE!"},{"$error":"#VALUE!"},{"$error":"#VALUE!"},{"$error":"#VALUE!"},{"$error":"#VALUE!"},{"$error":"#VALUE!"},{"$error":"#VALUE!"},{"$error":"#VALUE!"},{"$error":"#VALUE!"},{"$error":"#VALUE!"}]
[null,null,null,null,null,null,null,null,{"$f":"IF(Results!C59=\"\",\"\",Results!B59)","v":""},null,"",null,{"$error":"#VALUE!"},{"$error":"#VALUE!"},{"$error":"#VALUE!"},{"$error":"#VALUE!"},{"$error":"#VALUE!"},{"$error":"#VALUE!"},{"$error":"#VALUE!"},{"$error":"#VALUE!"},{"$error":"#VALUE!"},{"$error":"#VALUE!"}]
[null,null,null,null,null,null,null,null,{"$f":"IF(Results!C60=\"\",\"\",Results!B60)","v":""},null,"",null,{"$error":"#VALUE!"},{"$error":"#VALUE!"},{"$error":"#VALUE!"},{"$error":"#VALUE!"},{"$error":"#VALUE!"},{"$error":"#VALUE!"},{"$error":"#VALUE!"},{"$error":"#VALUE!"},{"$error":"#VALUE!"},{"$error":"#VALUE!"}]
[null,null,null,null,null,null,null,null,{"$f":"IF(Results!C61=\"\",\"\",Results!B61)","v":""},null,"",null,{"$error":"#VALUE!"},{"$error":"#VALUE!"},{"$error":"#VALUE!"},{"$error":"#VALUE!"},{"$error":"#VALUE!"},{"$error":"#VALUE!"},{"$error":"#VALUE!"},{"$error":"#VALUE!"},{"$error":"#VALUE!"},{"$error":"#VALUE!"}]
[null,null,null,null,null,null,null,null,{"$f":"IF(Results!C62=\"\",\"\",Results!B62)","v":""},null,"",null,{"$error":"#VALUE!"},{"$error":"#VALUE!"},{"$error":"#VALUE!"},{"$error":"#VALUE!"},{"$error":"#VALUE!"},{"$error":"#VALUE!"},{"$error":"#VALUE!"},{"$error":"#VALUE!"},{"$error":"#VALUE!"},{"$error":"#VALUE!"}]
[null,null,null,null,null,null,null,null,{"$f":"IF(Results!C63=\"\",\"\",Results!B63)","v":""},null,"",null,{"$error":"#VALUE!"},{"$error":"#VALUE!"},{"$error":"#VALUE!"},{"$error":"#VALUE!"},{"$error":"#VALUE!"},{"$error":"#VALUE!"},{"$error":"#VALUE!"},{"$error":"#VALUE!"},{"$error":"#VALUE!"},{"$error":"#VALUE!"}]
[null,null,null,null,null,null,null,null,{"$f":"IF(Results!C64=\"\",\"\",Results!B64)","v":""},null,"",null,{"$error":"#VALUE!"},{"$error":"#VALUE!"},{"$error":"#VALUE!"},{"$error":"#VALUE!"},{"$error":"#VALUE!"},{"$error":"#VALUE!"},{"$error":"#VALUE!"},{"$error":"#VALUE!"},{"$error":"#VALUE!"},{"$error":"#VALUE!"}]
[null,null,null,null,null,null,null,null,{"$f":"IF(Results!C65=\"\",\"\",Results!B65)","v":""},null,"",null,{"$error":"#VALUE!"},{"$error":"#VALUE!"},{"$error":"#VALUE!"},{"$error":"#VALUE!"},{"$error":"#VALUE!"},{"$error":"#VALUE!"},{"$error":"#VALUE!"},{"$error":"#VALUE!"},{"$error":"#VALUE!"},{"$error":"#VALUE!"}]
[null,null,null,null,null,null,null,null,{"$f":"IF(Results!C66=\"\",\"\",Results!B66)","v":""},null,"",null,{"$error":"#VALUE!"},{"$error":"#VALUE!"},{"$error":"#VALUE!"},{"$error":"#VALUE!"},{"$error":"#VALUE!"},{"$error":"#VALUE!"},{"$error":"#VALUE!"},{"$error":"#VALUE!"},{"$error":"#VALUE!"},{"$error":"#VALUE!"}]
[null,null,null,null,null,null,null,null,{"$f":"IF(Results!C67=\"\",\"\",Results!B67)","v":""},null,"",null,{"$error":"#VALUE!"},{"$error":"#VALUE!"},{"$error":"#VALUE!"},{"$error":"#VALUE!"},{"$error":"#VALUE!"},{"$error":"#VALUE!"},{"$error":"#VALUE!"},{"$error":"#VALUE!"},{"$error":"#VALUE!"},{"$error":"#VALUE!"}]
[null,null,null,null,null,null,null,null,{"$f":"IF(Results!C68=\"\",\"\",Results!B68)","v":""},null,"",null,{"$error":"#VALUE!"},{"$error":"#VALUE!"},{"$error":"#VALUE!"},{"$error":"#VALUE!"},{"$error":"#VALUE!"},{"$error":"#VALUE!"},{"$error":"#VALUE!"},{"$error":"#VALUE!"},{"$error":"#VALUE!"},{"$error":"#VALUE!"}]
[null,null,null,null,null,null,null,null,{"$f":"IF(Results!C69=\"\",\"\",Results!B69)","v":""},null,"",null,{"$error":"#VALUE!"},{"$error":"#VALUE!"},{"$error":"#VALUE!"},{"$error":"#VALUE!"},{"$error":"#VALUE!"},{"$error":"#VALUE!"},{"$error":"#VALUE!"},{"$error":"#VALUE!"},{"$error":"#VALUE!"},{"$error":"#VALUE!"}]
[null,null,null,null,null,null,null,null,{"$f":"IF(Results!C70=\"\",\"\",Results!B70)","v":""},null,"",null,{"$error":"#VALUE!"},{"$error":"#VALUE!"},{"$error":"#VALUE!"},{"$error":"#VALUE!"},{"$error":"#VALUE!"},{"$error":"#VALUE!"},{"$error":"#VALUE!"},{"$error":"#VALUE!"},{"$error":"#VALUE!"},{"$error":"#VALUE!"}]
[null,null,null,null,null,null,null,null,{"$f":"IF(Results!C71=\"\",\"\",Results!B71)","v":""},null,"",null,{"$error":"#VALUE!"},{"$error":"#VALUE!"},{"$error":"#VALUE!"},{"$error":"#VALUE!"},{"$error":"#VALUE!"},{"$error":"#VALUE!"},{"$error":"#VALUE!"},{"$error":"#VALUE!"},{"$error":"#VALUE!"},{"$error":"#VALUE!"}]
[null,null,null,null,null,null,null,null,{"$f":"IF(Results!C72=\"\",\"\",Results!B72)","v":""},null,"",null,{"$error":"#VALUE!"},{"$error":"#VALUE!"},{"$error":"#VALUE!"},{"$error":"#VALUE!"},{"$error":"#VALUE!"},{"$error":"#VALUE!"},{"$error":"#VALUE!"},{"$error":"#VALUE!"},{"$error":"#VALUE!"},{"$error":"#VALUE!"}]
[null,null,null,null,null,null,null,null,{"$f":"IF(Results!C73=\"\",\"\",Results!B73)","v":""},null,"",null,{"$error":"#VALUE!"},{"$error":"#VALUE!"},{"$error":"#VALUE!"},{"$error":"#VALUE!"},{"$error":"#VALUE!"},{"$error":"#VALUE!"},{"$error":"#VALUE!"},{"$error":"#VALUE!"},{"$error":"#VALUE!"},{"$error":"#VALUE!"}]
[null,null,null,null,null,null,null,null,{"$f":"IF(Results!C74=\"\",\"\",Results!B74)","v":""},null,"",null,{"$error":"#VALUE!"},{"$error":"#VALUE!"},{"$error":"#VALUE!"},{"$error":"#VALUE!"},{"$error":"#VALUE!"},{"$error":"#VALUE!"},{"$error":"#VALUE!"},{"$error":"#VALUE!"},{"$error":"#VALUE!"},{"$error":"#VALUE!"}]
[null,null,null,null,null,null,null,null,{"$f":"IF(Results!C75=\"\",\"\",Results!B75)","v":""},null,"",null,{"$error":"#VALUE!"},{"$error":"#VALUE!"},{"$error":"#VALUE!"},{"$error":"#VALUE!"},{"$error":"#VALUE!"},{"$error":"#VALUE!"},{"$error":"#VALUE!"},{"$error":"#VALUE!"},{"$error":"#VALUE!"},{"$error":"#VALUE!"}]
[null,null,null,null,null,null,null,null,{"$f":"IF(Results!C76=\"\",\"\",Results!B76)","v":""},null,"",null,{"$error":"#VALUE!"},{"$error":"#VALUE!"},{"$error":"#VALUE!"},{"$error":"#VALUE!"},{"$error":"#VALUE!"},{"$error":"#VALUE!"},{"$error":"#VALUE!"},{"$error":"#VALUE!"},{"$error":"#VALUE!"},{"$error":"#VALUE!"}]
[null,null,null,null,null,null,null,null,{"$f":"IF(Results!C77=\"\",\"\",Results!B77)","v":""},null,"",null,{"$error":"#VALUE!"},{"$error":"#VALUE!"},{"$error":"#VALUE!"},{"$error":"#VALUE!"},{"$error":"#VALUE!"},{"$error":"#VALUE!"},{"$error":"#VALUE!"},{"$error":"#VALUE!"},{"$error":"#VALUE!"},{"$error":"#VALUE!"}]
[null,null,null,null,null,null,null,null,{"$f":"IF(Results!C78=\"\",\"\",Results!B78)","v":""},null,"",null,{"$error":"#VALUE!"},{"$error":"#VALUE!"},{"$error":"#VALUE!"},{"$error":"#VALUE!"},{"$error":"#VALUE!"},{"$error":"#VALUE!"},{"$error":"#VALUE!"},{"$error":"#VALUE!"},{"$error":"#VALUE!"},{"$error":"#VALUE!"}]
[null,null,null,null,null,null,null,null,{"$f":"IF(Results!C79=\"\",\"\",Results!B79)","v":""},null,"",null,{"$error":"#VALUE!"},{"$error":"#VALUE!"},{"$error":"#VALUE!"},{"$error":"#VALUE!"},{"$error":"#VALUE!"},{"$error":"#VALUE!"},{"$error":"#VALUE!"},{"$error":"#VALUE!"},{"$error":"#VALUE!"},{"$error":"#VALUE!"}]
[null,null,null,null,null,null,null,null,{"$f":"IF(Results!C80=\"\",\"\",Results!B80)","v":""},null,"",null,{"$error":"#VALUE!"},{"$error":"#VALUE!"},{"$error":"#VALUE!"},{"$error":"#VALUE!"},{"$error":"#VALUE!"},{"$error":"#VALUE!"},{"$error":"#VALUE!"},{"$error":"#VALUE!"},{"$error":"#VALUE!"},{"$error":"#VALUE!"}]
[null,null,null,null,null,null,null,null,{"$f":"IF(Results!C81=\"\",\"\",Results!B81)","v":""},null,"",null,{"$error":"#VALUE!"},{"$error":"#VALUE!"},{"$error":"#VALUE!"},{"$error":"#VALUE!"},{"$error":"#VALUE!"},{"$error":"#VALUE!"},{"$error":"#VALUE!"},{"$error":"#VALUE!"},{"$error":"#VALUE!"},{"$error":"#VALUE!"}]
[null,null,null,null,null,null,null,null,{"$f":"IF(Results!C82=\"\",\"\",Results!B82)","v":""},null,"",null,{"$error":"#VALUE!"},{"$error":"#VALUE!"},{"$error":"#VALUE!"},{"$error":"#VALUE!"},{"$error":"#VALUE!"},{"$error":"#VALUE!"},{"$error":"#VALUE!"},{"$error":"#VALUE!"},{"$error":"#VALUE!"},{"$error":"#VALUE!"}]
[null,null,null,null,null,null,null,null,{"$f":"IF(Results!C83=\"\",\"\",Results!B83)","v":""},null,"",null,{"$error":"#VALUE!"},{"$error":"#VALUE!"},{"$error":"#VALUE!"},{"$error":"#VALUE!"},{"$error":"#VALUE!"},{"$error":"#VALUE!"},{"$error":"#VALUE!"},{"$error":"#VALUE!"},{"$error":"#VALUE!"},{"$error":"#VALUE!"}]
[null,null,null,null,null,null,null,null,{"$f":"IF(Results!C84=\"\",\"\",Results!B84)","v":""},null,"",null,{"$error":"#VALUE!"},{"$error":"#VALUE!"},{"$error":"#VALUE!"},{"$error":"#VALUE!"},{"$error":"#VALUE!"},{"$error":"#VALUE!"},{"$error":"#VALUE!"},{"$error":"#VALUE!"},{"$error":"#VALUE!"},{"$error":"#VALUE!"}]
[null,null,null,null,null,null,null,null,{"$f":"IF(Results!C85=\"\",\"\",Results!B85)","v":""},null,"",null,{"$error":"#VALUE!"},{"$error":"#VALUE!"},{"$error":"#VALUE!"},{"$error":"#VALUE!"},{"$error":"#VALUE!"},{"$error":"#VALUE!"},{"$error":"#VALUE!"},{"$error":"#VALUE!"},{"$error":"#VALUE!"},{"$error":"#VALUE!"}]
[null,null,null,null,null,null,null,null,{"$f":"IF(Results!C86=\"\",\"\",Results!B86)","v":""},null,"",null,{"$error":"#VALUE!"},{"$error":"#VALUE!"},{"$error":"#VALUE!"},{"$error":"#VALUE!"},{"$error":"#VALUE!"},{"$error":"#VALUE!"},{"$error":"#VALUE!"},{"$error":"#VALUE!"},{"$error":"#VALUE!"},{"$error":"#VALUE!"}]
[null,null,null,null,null,null,null,null,{"$f":"IF(Results!C87=\"\",\"\",Results!B87)","v":""},null,"",null,{"$error":"#VALUE!"},{"$error":"#VALUE!"},{"$error":"#VALUE!"},{"$error":"#VALUE!"},{"$error":"#VALUE!"},{"$error":"#VALUE!"},{"$error":"#VALUE!"},{"$error":"#VALUE!"},{"$error":"#VALUE!"},{"$error":"#VALUE!"}]
[null,null,null,null,null,null,null,null,{"$f":"IF(Results!C88=\"\",\"\",Results!B88)","v":""},null,"",null,{"$error":"#VALUE!"},{"$error":"#VALUE!"},{"$error":"#VALUE!"},{"$error":"#VALUE!"},{"$error":"#VALUE!"},{"$error":"#VALUE!"},{"$error":"#VALUE!"},{"$error":"#VALUE!"},{"$error":"#VALUE!"},{"$error":"#VALUE!"}]
[null,null,null,null,null,null,null,null,{"$f":"IF(Results!C89=\"\",\"\",Results!B89)","v":""},null,"",null,{"$error":"#VALUE!"},{"$error":"#VALUE!"},{"$error":"#VALUE!"},{"$error":"#VALUE!"},{"$error":"#VALUE!"},{"$error":"#VALUE!"},{"$error":"#VALUE!"},{"$error":"#VALUE!"},{"$error":"#VALUE!"},{"$error":"#VALUE!"}]
[null,null,null,null,null,null,null,null,{"$f":"IF(Results!C90=\"\",\"\",Results!B90)","v":""},null,"",null,{"$error":"#VALUE!"},{"$error":"#VALUE!"},{"$error":"#VALUE!"},{"$error":"#VALUE!"},{"$error":"#VALUE!"},{"$error":"#VALUE!"},{"$error":"#VALUE!"},{"$error":"#VALUE!"},{"$error":"#VALUE!"},{"$error":"#VALUE!"}]
[null,null,null,null,null,null,null,null,{"$f":"IF(Results!C91=\"\",\"\",Results!B91)","v":""},null,"",null,{"$error":"#VALUE!"},{"$error":"#VALUE!"},{"$error":"#VALUE!"},{"$error":"#VALUE!"},{"$error":"#VALUE!"},{"$error":"#VALUE!"},{"$error":"#VALUE!"},{"$error":"#VALUE!"},{"$error":"#VALUE!"},{"$error":"#VALUE!"}]
[null,null,null,null,null,null,null,null,{"$f":"IF(Results!C92=\"\",\"\",Results!B92)","v":""},null,"",null,{"$error":"#VALUE!"},{"$error":"#VALUE!"},{"$error":"#VALUE!"},{"$error":"#VALUE!"},{"$error":"#VALUE!"},{"$error":"#VALUE!"},{"$error":"#VALUE!"},{"$error":"#VALUE!"},{"$error":"#VALUE!"},{"$error":"#VALUE!"}]
[null,null,null,null,null,null,null,null,{"$f":"IF(Results!C93=\"\",\"\",Results!B93)","v":""},null,"",null,{"$error":"#VALUE!"},{"$error":"#VALUE!"},{"$error":"#VALUE!"},{"$error":"#VALUE!"},{"$error":"#VALUE!"},{"$error":"#VALUE!"},{"$error":"#VALUE!"},{"$error":"#VALUE!"},{"$error":"#VALUE!"},{"$error":"#VALUE!"}]
[null,null,null,null,null,null,null,null,{"$f":"IF(Results!C94=\"\",\"\",Results!B94)","v":""},null,"",null,{"$error":"#VALUE!"},{"$error":"#VALUE!"},{"$error":"#VALUE!"},{"$error":"#VALUE!"},{"$error":"#VALUE!"},{"$error":"#VALUE!"},{"$error":"#VALUE!"},{"$error":"#VALUE!"},{"$error":"#VALUE!"},{"$error":"#VALUE!"}]
[null,null,null,null,null,null,null,null,{"$f":"IF(Results!C95=\"\",\"\",Results!B95)","v":""},null,"",null,{"$error":"#VALUE!"},{"$error":"#VALUE!"},{"$error":"#VALUE!"},{"$error":"#VALUE!"},{"$error":"#VALUE!"},{"$error":"#VALUE!"},{"$error":"#VALUE!"},{"$error":"#VALUE!"},{"$error":"#VALUE!"},{"$error":"#VALUE!"}]
[null,null,null,null,null,null,null,null,{"$f":"IF(Results!C96=\"\",\"\",Results!B96)","v":""},null,"",null,{"$error":"#VALUE!"},{"$error":"#VALUE!"},{"$error":"#VALUE!"},{"$error":"#VALUE!"},{"$error":"#VALUE!"},{"$error":"#VALUE!"},{"$error":"#VALUE!"},{"$error":"#VALUE!"},{"$error":"#VALUE!"},{"$error":"#VALUE!"}]
[null,null,null,null,null,null,null,null,{"$f":"IF(Results!C97=\"\",\"\",Results!B97)","v":""},null,"",null,{"$error":"#VALUE!"},{"$error":"#VALUE!"},{"$error":"#VALUE!"},{"$error":"#VALUE!"},{"$error":"#VALUE!"},{"$error":"#VALUE!"},{"$error":"#VALUE!"},{"$error":"#VALUE!"},{"$error":"#VALUE!"},{"$error":"#VALUE!"}]
[null,null,null,null,null,null,null,null,{"$f":"IF(Results!C98=\"\",\"\",Results!B98)","v":""},null,{"$f":"IF($C$6=\"\",\"\",IF(I98=\"\",\"\",50-SUM(Q98:V98)))","v":""},null,{"$f":"SEARCH($C$6,J98)","v":{"$error":"#VALUE!"}},{"$f":"SEARCH($D$6,J98)","v":{"$error":"#VALUE!"}},{"$f":"SEARCH($E$6,J98)","v":{"$error":"#VALUE!"}},{"$f":"SEARCH($F$6,J98)","v":{"$error":"#VALUE!"}},{"$f":"IF((N98-M98)<0,$C$8,0)","v":{"$error":"#VALUE!"}},{"$f":"IF((O98-M98)<0,$C$8+$D$8,0)","v":{"$error":"#VALUE!"}},{"$f":"IF((P98-M98)<0,$C$8+$D$8+$E$8,0)","v":{"$error":"#VALUE!"}},{"$f":"IF((O98-N98)<0,$D$8,0)","v":{"$error":"#VALUE!"}},{"$f":"IF((P98-N98)<0,$D$8+$E$8,0)","v":{"$error":"#VALUE!"}},{"$f":"IF((P98-O98)<0,$E$8,0)","v":{"$error":"#VALUE!"}}]
[null,null,null,null,null,null,null,null,{"$f":"IF(Results!C99=\"\",\"\",Results!B99)","v":""},null,"",null,{"$error":"#VALUE!"},{"$error":"#VALUE!"},{"$error":"#VALUE!"},{"$error":"#VALUE!"},{"$error":"#VALUE!"},{"$error":"#VALUE!"},{"$error":"#VALUE!"},{"$error":"#VALUE!"},{"$error":"#VALUE!"},{"$error":"#VALUE!"}]
[null,null,null,null,null,null,null,null,{"$f":"IF(Results!C100=\"\",\"\",Results!B100)","v":""},null,"",null,{"$error":"#VALUE!"},{"$error":"#VALUE!"},{"$error":"#VALUE!"},{"$error":"#VALUE!"},{"$error":"#VALUE!"},{"$error":"#VALUE!"},{"$error":"#VALUE!"},{"$error":"#VALUE!"},{"$error":"#VALUE!"},{"$error":"#VALUE!"}]
[null,null,null,null,null,null,null,null,{"$f":"IF(Results!C101=\"\",\"\",Results!B101)","v":""},null,"",null,{"$error":"#VALUE!"},{"$error":"#VALUE!"},{"$error":"#VALUE!"},{"$error":"#VALUE!"},{"$error":"#VALUE!"},{"$error":"#VALUE!"},{"$error":"#VALUE!"},{"$error":"#VALUE!"},{"$error":"#VALUE!"},{"$error":"#VALUE!"}]
[null,null,null,null,null,null,null,null,{"$f":"IF(Results!C102=\"\",\"\",Results!B102)","v":""},null,"",null,{"$error":"#VALUE!"},{"$error":"#VALUE!"},{"$error":"#VALUE!"},{"$error":"#VALUE!"},{"$error":"#VALUE!"},{"$error":"#VALUE!"},{"$error":"#VALUE!"},{"$error":"#VALUE!"},{"$error":"#VALUE!"},{"$error":"#VALUE!"}]
[null,null,null,null,null,null,null,null,{"$f":"IF(Results!C103=\"\",\"\",Results!B103)","v":""},null,"",null,{"$error":"#VALUE!"},{"$error":"#VALUE!"},{"$error":"#VALUE!"},{"$error":"#VALUE!"},{"$error":"#VALUE!"},{"$error":"#VALUE!"},{"$error":"#VALUE!"},{"$error":"#VALUE!"},{"$error":"#VALUE!"},{"$error":"#VALUE!"}]

{"sheet":"Oral","index":6,"n_rows":103,"n_cols":7,"rows_kept":103,"cut":false,"hidden":false,"merged":[]}
[null,"SORTING ENTRANTS FOR ORAL PARTICIPATION"]
[]
[null,"NO","NAME","VISUAL TOTAL","HANDLING SCORE","PRE-ORAL SCORE","RANK"]
[null,1,{"$f":"IF(Results!C4=\"\",\"\",Results!C4)","v":""},{"$f":"IF(Results!D4=\"\",\"\",Results!D4)","v":""},{"$f":"IF(Results!E4=\"\",\"\",Results!E4)","v":""},{"$f":"IF(C4=\"\",\"\",SUM(D4:E4))","v":""},{"$f":"IF(F4=\"\",\"\",RANK($F4,$F$4:$F$103))","v":""}]
[null,2,{"$f":"IF(Results!C5=\"\",\"\",Results!C5)","v":""},{"$f":"IF(Results!D5=\"\",\"\",Results!D5)","v":""},{"$f":"IF(Results!E5=\"\",\"\",Results!E5)","v":""},{"$f":"IF(C5=\"\",\"\",SUM(D5:E5))","v":""},{"$f":"IF(F5=\"\",\"\",RANK($F5,$F$4:$F$103))","v":""}]
[null,3,{"$f":"IF(Results!C6=\"\",\"\",Results!C6)","v":""},{"$f":"IF(Results!D6=\"\",\"\",Results!D6)","v":""},{"$f":"IF(Results!E6=\"\",\"\",Results!E6)","v":""},{"$f":"IF(C6=\"\",\"\",SUM(D6:E6))","v":""},{"$f":"IF(F6=\"\",\"\",RANK($F6,$F$4:$F$103))","v":""}]
[null,4,{"$f":"IF(Results!C7=\"\",\"\",Results!C7)","v":""},{"$f":"IF(Results!D7=\"\",\"\",Results!D7)","v":""},{"$f":"IF(Results!E7=\"\",\"\",Results!E7)","v":""},{"$f":"IF(C7=\"\",\"\",SUM(D7:E7))","v":""},{"$f":"IF(F7=\"\",\"\",RANK($F7,$F$4:$F$103))","v":""}]
[null,5,{"$f":"IF(Results!C8=\"\",\"\",Results!C8)","v":""},{"$f":"IF(Results!D8=\"\",\"\",Results!D8)","v":""},{"$f":"IF(Results!E8=\"\",\"\",Results!E8)","v":""},{"$f":"IF(C8=\"\",\"\",SUM(D8:E8))","v":""},{"$f":"IF(F8=\"\",\"\",RANK($F8,$F$4:$F$103))","v":""}]
[null,6,{"$f":"IF(Results!C9=\"\",\"\",Results!C9)","v":""},{"$f":"IF(Results!D9=\"\",\"\",Results!D9)","v":""},{"$f":"IF(Results!E9=\"\",\"\",Results!E9)","v":""},{"$f":"IF(C9=\"\",\"\",SUM(D9:E9))","v":""},{"$f":"IF(F9=\"\",\"\",RANK($F9,$F$4:$F$103))","v":""}]
[null,7,{"$f":"IF(Results!C10=\"\",\"\",Results!C10)","v":""},{"$f":"IF(Results!D10=\"\",\"\",Results!D10)","v":""},{"$f":"IF(Results!E10=\"\",\"\",Results!E10)","v":""},{"$f":"IF(C10=\"\",\"\",SUM(D10:E10))","v":""},{"$f":"IF(F10=\"\",\"\",RANK($F10,$F$4:$F$103))","v":""}]
[null,8,{"$f":"IF(Results!C11=\"\",\"\",Results!C11)","v":""},{"$f":"IF(Results!D11=\"\",\"\",Results!D11)","v":""},{"$f":"IF(Results!E11=\"\",\"\",Results!E11)","v":""},{"$f":"IF(C11=\"\",\"\",SUM(D11:E11))","v":""},{"$f":"IF(F11=\"\",\"\",RANK($F11,$F$4:$F$103))","v":""}]
[null,9,{"$f":"IF(Results!C12=\"\",\"\",Results!C12)","v":""},{"$f":"IF(Results!D12=\"\",\"\",Results!D12)","v":""},{"$f":"IF(Results!E12=\"\",\"\",Results!E12)","v":""},{"$f":"IF(C12=\"\",\"\",SUM(D12:E12))","v":""},{"$f":"IF(F12=\"\",\"\",RANK($F12,$F$4:$F$103))","v":""}]
[null,10,{"$f":"IF(Results!C13=\"\",\"\",Results!C13)","v":""},{"$f":"IF(Results!D13=\"\",\"\",Results!D13)","v":""},{"$f":"IF(Results!E13=\"\",\"\",Results!E13)","v":""},{"$f":"IF(C13=\"\",\"\",SUM(D13:E13))","v":""},{"$f":"IF(F13=\"\",\"\",RANK($F13,$F$4:$F$103))","v":""}]
[null,11,{"$f":"IF(Results!C14=\"\",\"\",Results!C14)","v":""},{"$f":"IF(Results!D14=\"\",\"\",Results!D14)","v":""},{"$f":"IF(Results!E14=\"\",\"\",Results!E14)","v":""},{"$f":"IF(C14=\"\",\"\",SUM(D14:E14))","v":""},{"$f":"IF(F14=\"\",\"\",RANK($F14,$F$4:$F$103))","v":""}]
[null,12,{"$f":"IF(Results!C15=\"\",\"\",Results!C15)","v":""},{"$f":"IF(Results!D15=\"\",\"\",Results!D15)","v":""},{"$f":"IF(Results!E15=\"\",\"\",Results!E15)","v":""},{"$f":"IF(C15=\"\",\"\",SUM(D15:E15))","v":""},{"$f":"IF(F15=\"\",\"\",RANK($F15,$F$4:$F$103))","v":""}]
[null,13,{"$f":"IF(Results!C16=\"\",\"\",Results!C16)","v":""},{"$f":"IF(Results!D16=\"\",\"\",Results!D16)","v":""},{"$f":"IF(Results!E16=\"\",\"\",Results!E16)","v":""},{"$f":"IF(C16=\"\",\"\",SUM(D16:E16))","v":""},{"$f":"IF(F16=\"\",\"\",RANK($F16,$F$4:$F$103))","v":""}]
[null,14,{"$f":"IF(Results!C17=\"\",\"\",Results!C17)","v":""},{"$f":"IF(Results!D17=\"\",\"\",Results!D17)","v":""},{"$f":"IF(Results!E17=\"\",\"\",Results!E17)","v":""},{"$f":"IF(C17=\"\",\"\",SUM(D17:E17))","v":""},{"$f":"IF(F17=\"\",\"\",RANK($F17,$F$4:$F$103))","v":""}]
[null,15,{"$f":"IF(Results!C18=\"\",\"\",Results!C18)","v":""},{"$f":"IF(Results!D18=\"\",\"\",Results!D18)","v":""},{"$f":"IF(Results!E18=\"\",\"\",Results!E18)","v":""},{"$f":"IF(C18=\"\",\"\",SUM(D18:E18))","v":""},{"$f":"IF(F18=\"\",\"\",RANK($F18,$F$4:$F$103))","v":""}]
[null,16,{"$f":"IF(Results!C19=\"\",\"\",Results!C19)","v":""},{"$f":"IF(Results!D19=\"\",\"\",Results!D19)","v":""},{"$f":"IF(Results!E19=\"\",\"\",Results!E19)","v":""},{"$f":"IF(C19=\"\",\"\",SUM(D19:E19))","v":""},{"$f":"IF(F19=\"\",\"\",RANK($F19,$F$4:$F$103))","v":""}]
[null,17,{"$f":"IF(Results!C20=\"\",\"\",Results!C20)","v":""},{"$f":"IF(Results!D20=\"\",\"\",Results!D20)","v":""},{"$f":"IF(Results!E20=\"\",\"\",Results!E20)","v":""},{"$f":"IF(C20=\"\",\"\",SUM(D20:E20))","v":""},{"$f":"IF(F20=\"\",\"\",RANK($F20,$F$4:$F$103))","v":""}]
[null,18,{"$f":"IF(Results!C21=\"\",\"\",Results!C21)","v":""},{"$f":"IF(Results!D21=\"\",\"\",Results!D21)","v":""},{"$f":"IF(Results!E21=\"\",\"\",Results!E21)","v":""},{"$f":"IF(C21=\"\",\"\",SUM(D21:E21))","v":""},{"$f":"IF(F21=\"\",\"\",RANK($F21,$F$4:$F$103))","v":""}]
[null,19,{"$f":"IF(Results!C22=\"\",\"\",Results!C22)","v":""},{"$f":"IF(Results!D22=\"\",\"\",Results!D22)","v":""},{"$f":"IF(Results!E22=\"\",\"\",Results!E22)","v":""},{"$f":"IF(C22=\"\",\"\",SUM(D22:E22))","v":""},{"$f":"IF(F22=\"\",\"\",RANK($F22,$F$4:$F$103))","v":""}]
[null,20,{"$f":"IF(Results!C23=\"\",\"\",Results!C23)","v":""},{"$f":"IF(Results!D23=\"\",\"\",Results!D23)","v":""},{"$f":"IF(Results!E23=\"\",\"\",Results!E23)","v":""},{"$f":"IF(C23=\"\",\"\",SUM(D23:E23))","v":""},{"$f":"IF(F23=\"\",\"\",RANK($F23,$F$4:$F$103))","v":""}]
[null,21,{"$f":"IF(Results!C24=\"\",\"\",Results!C24)","v":""},{"$f":"IF(Results!D24=\"\",\"\",Results!D24)","v":""},{"$f":"IF(Results!E24=\"\",\"\",Results!E24)","v":""},{"$f":"IF(C24=\"\",\"\",SUM(D24:E24))","v":""},{"$f":"IF(F24=\"\",\"\",RANK($F24,$F$4:$F$103))","v":""}]
[null,22,{"$f":"IF(Results!C25=\"\",\"\",Results!C25)","v":""},{"$f":"IF(Results!D25=\"\",\"\",Results!D25)","v":""},{"$f":"IF(Results!E25=\"\",\"\",Results!E25)","v":""},{"$f":"IF(C25=\"\",\"\",SUM(D25:E25))","v":""},{"$f":"IF(F25=\"\",\"\",RANK($F25,$F$4:$F$103))","v":""}]
[null,23,{"$f":"IF(Results!C26=\"\",\"\",Results!C26)","v":""},{"$f":"IF(Results!D26=\"\",\"\",Results!D26)","v":""},{"$f":"IF(Results!E26=\"\",\"\",Results!E26)","v":""},{"$f":"IF(C26=\"\",\"\",SUM(D26:E26))","v":""},{"$f":"IF(F26=\"\",\"\",RANK($F26,$F$4:$F$103))","v":""}]
[null,24,{"$f":"IF(Results!C27=\"\",\"\",Results!C27)","v":""},{"$f":"IF(Results!D27=\"\",\"\",Results!D27)","v":""},{"$f":"IF(Results!E27=\"\",\"\",Results!E27)","v":""},{"$f":"IF(C27=\"\",\"\",SUM(D27:E27))","v":""},{"$f":"IF(F27=\"\",\"\",RANK($F27,$F$4:$F$103))","v":""}]
[null,25,{"$f":"IF(Results!C28=\"\",\"\",Results!C28)","v":""},{"$f":"IF(Results!D28=\"\",\"\",Results!D28)","v":""},{"$f":"IF(Results!E28=\"\",\"\",Results!E28)","v":""},{"$f":"IF(C28=\"\",\"\",SUM(D28:E28))","v":""},{"$f":"IF(F28=\"\",\"\",RANK($F28,$F$4:$F$103))","v":""}]
[null,26,{"$f":"IF(Results!C29=\"\",\"\",Results!C29)","v":""},{"$f":"IF(Results!D29=\"\",\"\",Results!D29)","v":""},{"$f":"IF(Results!E29=\"\",\"\",Results!E29)","v":""},{"$f":"IF(C29=\"\",\"\",SUM(D29:E29))","v":""},{"$f":"IF(F29=\"\",\"\",RANK($F29,$F$4:$F$103))","v":""}]
[null,27,{"$f":"IF(Results!C30=\"\",\"\",Results!C30)","v":""},{"$f":"IF(Results!D30=\"\",\"\",Results!D30)","v":""},{"$f":"IF(Results!E30=\"\",\"\",Results!E30)","v":""},{"$f":"IF(C30=\"\",\"\",SUM(D30:E30))","v":""},{"$f":"IF(F30=\"\",\"\",RANK($F30,$F$4:$F$103))","v":""}]
[null,28,{"$f":"IF(Results!C31=\"\",\"\",Results!C31)","v":""},{"$f":"IF(Results!D31=\"\",\"\",Results!D31)","v":""},{"$f":"IF(Results!E31=\"\",\"\",Results!E31)","v":""},{"$f":"IF(C31=\"\",\"\",SUM(D31:E31))","v":""},{"$f":"IF(F31=\"\",\"\",RANK($F31,$F$4:$F$103))","v":""}]
[null,29,{"$f":"IF(Results!C32=\"\",\"\",Results!C32)","v":""},{"$f":"IF(Results!D32=\"\",\"\",Results!D32)","v":""},{"$f":"IF(Results!E32=\"\",\"\",Results!E32)","v":""},{"$f":"IF(C32=\"\",\"\",SUM(D32:E32))","v":""},{"$f":"IF(F32=\"\",\"\",RANK($F32,$F$4:$F$103))","v":""}]
[null,30,{"$f":"IF(Results!C33=\"\",\"\",Results!C33)","v":""},{"$f":"IF(Results!D33=\"\",\"\",Results!D33)","v":""},{"$f":"IF(Results!E33=\"\",\"\",Results!E33)","v":""},{"$f":"IF(C33=\"\",\"\",SUM(D33:E33))","v":""},{"$f":"IF(F33=\"\",\"\",RANK($F33,$F$4:$F$103))","v":""}]
[null,31,{"$f":"IF(Results!C34=\"\",\"\",Results!C34)","v":""},{"$f":"IF(Results!D34=\"\",\"\",Results!D34)","v":""},{"$f":"IF(Results!E34=\"\",\"\",Results!E34)","v":""},{"$f":"IF(C34=\"\",\"\",SUM(D34:E34))","v":""},{"$f":"IF(F34=\"\",\"\",RANK($F34,$F$4:$F$103))","v":""}]
[null,32,{"$f":"IF(Results!C35=\"\",\"\",Results!C35)","v":""},{"$f":"IF(Results!D35=\"\",\"\",Results!D35)","v":""},{"$f":"IF(Results!E35=\"\",\"\",Results!E35)","v":""},{"$f":"IF(C35=\"\",\"\",SUM(D35:E35))","v":""},{"$f":"IF(F35=\"\",\"\",RANK($F35,$F$4:$F$103))","v":""}]
[null,33,{"$f":"IF(Results!C36=\"\",\"\",Results!C36)","v":""},{"$f":"IF(Results!D36=\"\",\"\",Results!D36)","v":""},{"$f":"IF(Results!E36=\"\",\"\",Results!E36)","v":""},{"$f":"IF(C36=\"\",\"\",SUM(D36:E36))","v":""},{"$f":"IF(F36=\"\",\"\",RANK($F36,$F$4:$F$103))","v":""}]
[null,34,{"$f":"IF(Results!C37=\"\",\"\",Results!C37)","v":""},{"$f":"IF(Results!D37=\"\",\"\",Results!D37)","v":""},{"$f":"IF(Results!E37=\"\",\"\",Results!E37)","v":""},{"$f":"IF(C37=\"\",\"\",SUM(D37:E37))","v":""},{"$f":"IF(F37=\"\",\"\",RANK($F37,$F$4:$F$103))","v":""}]
[null,35,{"$f":"IF(Results!C38=\"\",\"\",Results!C38)","v":""},{"$f":"IF(Results!D38=\"\",\"\",Results!D38)","v":""},{"$f":"IF(Results!E38=\"\",\"\",Results!E38)","v":""},{"$f":"IF(C38=\"\",\"\",SUM(D38:E38))","v":""},{"$f":"IF(F38=\"\",\"\",RANK($F38,$F$4:$F$103))","v":""}]
[null,36,{"$f":"IF(Results!C39=\"\",\"\",Results!C39)","v":""},{"$f":"IF(Results!D39=\"\",\"\",Results!D39)","v":""},{"$f":"IF(Results!E39=\"\",\"\",Results!E39)","v":""},{"$f":"IF(C39=\"\",\"\",SUM(D39:E39))","v":""},{"$f":"IF(F39=\"\",\"\",RANK($F39,$F$4:$F$103))","v":""}]
[null,37,{"$f":"IF(Results!C40=\"\",\"\",Results!C40)","v":""},{"$f":"IF(Results!D40=\"\",\"\",Results!D40)","v":""},{"$f":"IF(Results!E40=\"\",\"\",Results!E40)","v":""},{"$f":"IF(C40=\"\",\"\",SUM(D40:E40))","v":""},{"$f":"IF(F40=\"\",\"\",RANK($F40,$F$4:$F$103))","v":""}]
[null,38,{"$f":"IF(Results!C41=\"\",\"\",Results!C41)","v":""},{"$f":"IF(Results!D41=\"\",\"\",Results!D41)","v":""},{"$f":"IF(Results!E41=\"\",\"\",Results!E41)","v":""},{"$f":"IF(C41=\"\",\"\",SUM(D41:E41))","v":""},{"$f":"IF(F41=\"\",\"\",RANK($F41,$F$4:$F$103))","v":""}]
[null,39,{"$f":"IF(Results!C42=\"\",\"\",Results!C42)","v":""},{"$f":"IF(Results!D42=\"\",\"\",Results!D42)","v":""},{"$f":"IF(Results!E42=\"\",\"\",Results!E42)","v":""},{"$f":"IF(C42=\"\",\"\",SUM(D42:E42))","v":""},{"$f":"IF(F42=\"\",\"\",RANK($F42,$F$4:$F$103))","v":""}]
[null,40,{"$f":"IF(Results!C43=\"\",\"\",Results!C43)","v":""},{"$f":"IF(Results!D43=\"\",\"\",Results!D43)","v":""},{"$f":"IF(Results!E43=\"\",\"\",Results!E43)","v":""},{"$f":"IF(C43=\"\",\"\",SUM(D43:E43))","v":""},{"$f":"IF(F43=\"\",\"\",RANK($F43,$F$4:$F$103))","v":""}]
[null,41,{"$f":"IF(Results!C44=\"\",\"\",Results!C44)","v":""},{"$f":"IF(Results!D44=\"\",\"\",Results!D44)","v":""},{"$f":"IF(Results!E44=\"\",\"\",Results!E44)","v":""},{"$f":"IF(C44=\"\",\"\",SUM(D44:E44))","v":""},{"$f":"IF(F44=\"\",\"\",RANK($F44,$F$4:$F$103))","v":""}]
[null,42,{"$f":"IF(Results!C45=\"\",\"\",Results!C45)","v":""},{"$f":"IF(Results!D45=\"\",\"\",Results!D45)","v":""},{"$f":"IF(Results!E45=\"\",\"\",Results!E45)","v":""},{"$f":"IF(C45=\"\",\"\",SUM(D45:E45))","v":""},{"$f":"IF(F45=\"\",\"\",RANK($F45,$F$4:$F$103))","v":""}]
[null,43,{"$f":"IF(Results!C46=\"\",\"\",Results!C46)","v":""},{"$f":"IF(Results!D46=\"\",\"\",Results!D46)","v":""},{"$f":"IF(Results!E46=\"\",\"\",Results!E46)","v":""},{"$f":"IF(C46=\"\",\"\",SUM(D46:E46))","v":""},{"$f":"IF(F46=\"\",\"\",RANK($F46,$F$4:$F$103))","v":""}]
[null,44,{"$f":"IF(Results!C47=\"\",\"\",Results!C47)","v":""},{"$f":"IF(Results!D47=\"\",\"\",Results!D47)","v":""},{"$f":"IF(Results!E47=\"\",\"\",Results!E47)","v":""},{"$f":"IF(C47=\"\",\"\",SUM(D47:E47))","v":""},{"$f":"IF(F47=\"\",\"\",RANK($F47,$F$4:$F$103))","v":""}]
[null,45,{"$f":"IF(Results!C48=\"\",\"\",Results!C48)","v":""},{"$f":"IF(Results!D48=\"\",\"\",Results!D48)","v":""},{"$f":"IF(Results!E48=\"\",\"\",Results!E48)","v":""},{"$f":"IF(C48=\"\",\"\",SUM(D48:E48))","v":""},{"$f":"IF(F48=\"\",\"\",RANK($F48,$F$4:$F$103))","v":""}]
[null,46,{"$f":"IF(Results!C49=\"\",\"\",Results!C49)","v":""},{"$f":"IF(Results!D49=\"\",\"\",Results!D49)","v":""},{"$f":"IF(Results!E49=\"\",\"\",Results!E49)","v":""},{"$f":"IF(C49=\"\",\"\",SUM(D49:E49))","v":""},{"$f":"IF(F49=\"\",\"\",RANK($F49,$F$4:$F$103))","v":""}]
[null,47,{"$f":"IF(Results!C50=\"\",\"\",Results!C50)","v":""},{"$f":"IF(Results!D50=\"\",\"\",Results!D50)","v":""},{"$f":"IF(Results!E50=\"\",\"\",Results!E50)","v":""},{"$f":"IF(C50=\"\",\"\",SUM(D50:E50))","v":""},{"$f":"IF(F50=\"\",\"\",RANK($F50,$F$4:$F$103))","v":""}]
[null,48,{"$f":"IF(Results!C51=\"\",\"\",Results!C51)","v":""},{"$f":"IF(Results!D51=\"\",\"\",Results!D51)","v":""},{"$f":"IF(Results!E51=\"\",\"\",Results!E51)","v":""},{"$f":"IF(C51=\"\",\"\",SUM(D51:E51))","v":""},{"$f":"IF(F51=\"\",\"\",RANK($F51,$F$4:$F$103))","v":""}]
[null,49,{"$f":"IF(Results!C52=\"\",\"\",Results!C52)","v":""},{"$f":"IF(Results!D52=\"\",\"\",Results!D52)","v":""},{"$f":"IF(Results!E52=\"\",\"\",Results!E52)","v":""},{"$f":"IF(C52=\"\",\"\",SUM(D52:E52))","v":""},{"$f":"IF(F52=\"\",\"\",RANK($F52,$F$4:$F$103))","v":""}]
[null,50,{"$f":"IF(Results!C53=\"\",\"\",Results!C53)","v":""},{"$f":"IF(Results!D53=\"\",\"\",Results!D53)","v":""},{"$f":"IF(Results!E53=\"\",\"\",Results!E53)","v":""},{"$f":"IF(C53=\"\",\"\",SUM(D53:E53))","v":""},{"$f":"IF(F53=\"\",\"\",RANK($F53,$F$4:$F$103))","v":""}]
[null,51,{"$f":"IF(Results!C54=\"\",\"\",Results!C54)","v":""},{"$f":"IF(Results!D54=\"\",\"\",Results!D54)","v":""},{"$f":"IF(Results!E54=\"\",\"\",Results!E54)","v":""},{"$f":"IF(C54=\"\",\"\",SUM(D54:E54))","v":""},{"$f":"IF(F54=\"\",\"\",RANK($F54,$F$4:$F$103))","v":""}]
[null,52,{"$f":"IF(Results!C55=\"\",\"\",Results!C55)","v":""},{"$f":"IF(Results!D55=\"\",\"\",Results!D55)","v":""},{"$f":"IF(Results!E55=\"\",\"\",Results!E55)","v":""},{"$f":"IF(C55=\"\",\"\",SUM(D55:E55))","v":""},{"$f":"IF(F55=\"\",\"\",RANK($F55,$F$4:$F$103))","v":""}]
[null,53,{"$f":"IF(Results!C56=\"\",\"\",Results!C56)","v":""},{"$f":"IF(Results!D56=\"\",\"\",Results!D56)","v":""},{"$f":"IF(Results!E56=\"\",\"\",Results!E56)","v":""},{"$f":"IF(C56=\"\",\"\",SUM(D56:E56))","v":""},{"$f":"IF(F56=\"\",\"\",RANK($F56,$F$4:$F$103))","v":""}]
[null,54,{"$f":"IF(Results!C57=\"\",\"\",Results!C57)","v":""},{"$f":"IF(Results!D57=\"\",\"\",Results!D57)","v":""},{"$f":"IF(Results!E57=\"\",\"\",Results!E57)","v":""},{"$f":"IF(C57=\"\",\"\",SUM(D57:E57))","v":""},{"$f":"IF(F57=\"\",\"\",RANK($F57,$F$4:$F$103))","v":""}]
[null,55,{"$f":"IF(Results!C58=\"\",\"\",Results!C58)","v":""},{"$f":"IF(Results!D58=\"\",\"\",Results!D58)","v":""},{"$f":"IF(Results!E58=\"\",\"\",Results!E58)","v":""},{"$f":"IF(C58=\"\",\"\",SUM(D58:E58))","v":""},{"$f":"IF(F58=\"\",\"\",RANK($F58,$F$4:$F$103))","v":""}]
[null,56,{"$f":"IF(Results!C59=\"\",\"\",Results!C59)","v":""},{"$f":"IF(Results!D59=\"\",\"\",Results!D59)","v":""},{"$f":"IF(Results!E59=\"\",\"\",Results!E59)","v":""},{"$f":"IF(C59=\"\",\"\",SUM(D59:E59))","v":""},{"$f":"IF(F59=\"\",\"\",RANK($F59,$F$4:$F$103))","v":""}]
[null,57,{"$f":"IF(Results!C60=\"\",\"\",Results!C60)","v":""},{"$f":"IF(Results!D60=\"\",\"\",Results!D60)","v":""},{"$f":"IF(Results!E60=\"\",\"\",Results!E60)","v":""},{"$f":"IF(C60=\"\",\"\",SUM(D60:E60))","v":""},{"$f":"IF(F60=\"\",\"\",RANK($F60,$F$4:$F$103))","v":""}]
[null,58,{"$f":"IF(Results!C61=\"\",\"\",Results!C61)","v":""},{"$f":"IF(Results!D61=\"\",\"\",Results!D61)","v":""},{"$f":"IF(Results!E61=\"\",\"\",Results!E61)","v":""},{"$f":"IF(C61=\"\",\"\",SUM(D61:E61))","v":""},{"$f":"IF(F61=\"\",\"\",RANK($F61,$F$4:$F$103))","v":""}]
[null,59,{"$f":"IF(Results!C62=\"\",\"\",Results!C62)","v":""},{"$f":"IF(Results!D62=\"\",\"\",Results!D62)","v":""},{"$f":"IF(Results!E62=\"\",\"\",Results!E62)","v":""},{"$f":"IF(C62=\"\",\"\",SUM(D62:E62))","v":""},{"$f":"IF(F62=\"\",\"\",RANK($F62,$F$4:$F$103))","v":""}]
[null,60,{"$f":"IF(Results!C63=\"\",\"\",Results!C63)","v":""},{"$f":"IF(Results!D63=\"\",\"\",Results!D63)","v":""},{"$f":"IF(Results!E63=\"\",\"\",Results!E63)","v":""},{"$f":"IF(C63=\"\",\"\",SUM(D63:E63))","v":""},{"$f":"IF(F63=\"\",\"\",RANK($F63,$F$4:$F$103))","v":""}]
[null,61,{"$f":"IF(Results!C64=\"\",\"\",Results!C64)","v":""},{"$f":"IF(Results!D64=\"\",\"\",Results!D64)","v":""},{"$f":"IF(Results!E64=\"\",\"\",Results!E64)","v":""},{"$f":"IF(C64=\"\",\"\",SUM(D64:E64))","v":""},{"$f":"IF(F64=\"\",\"\",RANK($F64,$F$4:$F$103))","v":""}]
[null,62,{"$f":"IF(Results!C65=\"\",\"\",Results!C65)","v":""},{"$f":"IF(Results!D65=\"\",\"\",Results!D65)","v":""},{"$f":"IF(Results!E65=\"\",\"\",Results!E65)","v":""},{"$f":"IF(C65=\"\",\"\",SUM(D65:E65))","v":""},{"$f":"IF(F65=\"\",\"\",RANK($F65,$F$4:$F$103))","v":""}]
[null,63,{"$f":"IF(Results!C66=\"\",\"\",Results!C66)","v":""},{"$f":"IF(Results!D66=\"\",\"\",Results!D66)","v":""},{"$f":"IF(Results!E66=\"\",\"\",Results!E66)","v":""},{"$f":"IF(C66=\"\",\"\",SUM(D66:E66))","v":""},{"$f":"IF(F66=\"\",\"\",RANK($F66,$F$4:$F$103))","v":""}]
[null,64,{"$f":"IF(Results!C67=\"\",\"\",Results!C67)","v":""},{"$f":"IF(Results!D67=\"\",\"\",Results!D67)","v":""},{"$f":"IF(Results!E67=\"\",\"\",Results!E67)","v":""},{"$f":"IF(C67=\"\",\"\",SUM(D67:E67))","v":""},{"$f":"IF(F67=\"\",\"\",RANK($F67,$F$4:$F$103))","v":""}]
[null,65,{"$f":"IF(Results!C68=\"\",\"\",Results!C68)","v":""},{"$f":"IF(Results!D68=\"\",\"\",Results!D68)","v":""},{"$f":"IF(Results!E68=\"\",\"\",Results!E68)","v":""},{"$f":"IF(C68=\"\",\"\",SUM(D68:E68))","v":""},{"$f":"IF(F68=\"\",\"\",RANK($F68,$F$4:$F$103))","v":""}]
[null,66,{"$f":"IF(Results!C69=\"\",\"\",Results!C69)","v":""},{"$f":"IF(Results!D69=\"\",\"\",Results!D69)","v":""},{"$f":"IF(Results!E69=\"\",\"\",Results!E69)","v":""},{"$f":"IF(C69=\"\",\"\",SUM(D69:E69))","v":""},{"$f":"IF(F69=\"\",\"\",RANK($F69,$F$4:$F$103))","v":""}]
[null,67,{"$f":"IF(Results!C70=\"\",\"\",Results!C70)","v":""},{"$f":"IF(Results!D70=\"\",\"\",Results!D70)","v":""},{"$f":"IF(Results!E70=\"\",\"\",Results!E70)","v":""},{"$f":"IF(C70=\"\",\"\",SUM(D70:E70))","v":""},{"$f":"IF(F70=\"\",\"\",RANK($F70,$F$4:$F$103))","v":""}]
[null,68,{"$f":"IF(Results!C71=\"\",\"\",Results!C71)","v":""},{"$f":"IF(Results!D71=\"\",\"\",Results!D71)","v":""},{"$f":"IF(Results!E71=\"\",\"\",Results!E71)","v":""},{"$f":"IF(C71=\"\",\"\",SUM(D71:E71))","v":""},{"$f":"IF(F71=\"\",\"\",RANK($F71,$F$4:$F$103))","v":""}]
[null,69,{"$f":"IF(Results!C72=\"\",\"\",Results!C72)","v":""},{"$f":"IF(Results!D72=\"\",\"\",Results!D72)","v":""},{"$f":"IF(Results!E72=\"\",\"\",Results!E72)","v":""},{"$f":"IF(C72=\"\",\"\",SUM(D72:E72))","v":""},{"$f":"IF(F72=\"\",\"\",RANK($F72,$F$4:$F$103))","v":""}]
[null,70,{"$f":"IF(Results!C73=\"\",\"\",Results!C73)","v":""},{"$f":"IF(Results!D73=\"\",\"\",Results!D73)","v":""},{"$f":"IF(Results!E73=\"\",\"\",Results!E73)","v":""},{"$f":"IF(C73=\"\",\"\",SUM(D73:E73))","v":""},{"$f":"IF(F73=\"\",\"\",RANK($F73,$F$4:$F$103))","v":""}]
[null,71,{"$f":"IF(Results!C74=\"\",\"\",Results!C74)","v":""},{"$f":"IF(Results!D74=\"\",\"\",Results!D74)","v":""},{"$f":"IF(Results!E74=\"\",\"\",Results!E74)","v":""},{"$f":"IF(C74=\"\",\"\",SUM(D74:E74))","v":""},{"$f":"IF(F74=\"\",\"\",RANK($F74,$F$4:$F$103))","v":""}]
[null,72,{"$f":"IF(Results!C75=\"\",\"\",Results!C75)","v":""},{"$f":"IF(Results!D75=\"\",\"\",Results!D75)","v":""},{"$f":"IF(Results!E75=\"\",\"\",Results!E75)","v":""},{"$f":"IF(C75=\"\",\"\",SUM(D75:E75))","v":""},{"$f":"IF(F75=\"\",\"\",RANK($F75,$F$4:$F$103))","v":""}]
[null,73,{"$f":"IF(Results!C76=\"\",\"\",Results!C76)","v":""},{"$f":"IF(Results!D76=\"\",\"\",Results!D76)","v":""},{"$f":"IF(Results!E76=\"\",\"\",Results!E76)","v":""},{"$f":"IF(C76=\"\",\"\",SUM(D76:E76))","v":""},{"$f":"IF(F76=\"\",\"\",RANK($F76,$F$4:$F$103))","v":""}]
[null,74,{"$f":"IF(Results!C77=\"\",\"\",Results!C77)","v":""},{"$f":"IF(Results!D77=\"\",\"\",Results!D77)","v":""},{"$f":"IF(Results!E77=\"\",\"\",Results!E77)","v":""},{"$f":"IF(C77=\"\",\"\",SUM(D77:E77))","v":""},{"$f":"IF(F77=\"\",\"\",RANK($F77,$F$4:$F$103))","v":""}]
[null,75,{"$f":"IF(Results!C78=\"\",\"\",Results!C78)","v":""},{"$f":"IF(Results!D78=\"\",\"\",Results!D78)","v":""},{"$f":"IF(Results!E78=\"\",\"\",Results!E78)","v":""},{"$f":"IF(C78=\"\",\"\",SUM(D78:E78))","v":""},{"$f":"IF(F78=\"\",\"\",RANK($F78,$F$4:$F$103))","v":""}]
[null,76,{"$f":"IF(Results!C79=\"\",\"\",Results!C79)","v":""},{"$f":"IF(Results!D79=\"\",\"\",Results!D79)","v":""},{"$f":"IF(Results!E79=\"\",\"\",Results!E79)","v":""},{"$f":"IF(C79=\"\",\"\",SUM(D79:E79))","v":""},{"$f":"IF(F79=\"\",\"\",RANK($F79,$F$4:$F$103))","v":""}]
[null,77,{"$f":"IF(Results!C80=\"\",\"\",Results!C80)","v":""},{"$f":"IF(Results!D80=\"\",\"\",Results!D80)","v":""},{"$f":"IF(Results!E80=\"\",\"\",Results!E80)","v":""},{"$f":"IF(C80=\"\",\"\",SUM(D80:E80))","v":""},{"$f":"IF(F80=\"\",\"\",RANK($F80,$F$4:$F$103))","v":""}]
[null,78,{"$f":"IF(Results!C81=\"\",\"\",Results!C81)","v":""},{"$f":"IF(Results!D81=\"\",\"\",Results!D81)","v":""},{"$f":"IF(Results!E81=\"\",\"\",Results!E81)","v":""},{"$f":"IF(C81=\"\",\"\",SUM(D81:E81))","v":""},{"$f":"IF(F81=\"\",\"\",RANK($F81,$F$4:$F$103))","v":""}]
[null,79,{"$f":"IF(Results!C82=\"\",\"\",Results!C82)","v":""},{"$f":"IF(Results!D82=\"\",\"\",Results!D82)","v":""},{"$f":"IF(Results!E82=\"\",\"\",Results!E82)","v":""},{"$f":"IF(C82=\"\",\"\",SUM(D82:E82))","v":""},{"$f":"IF(F82=\"\",\"\",RANK($F82,$F$4:$F$103))","v":""}]
[null,80,{"$f":"IF(Results!C83=\"\",\"\",Results!C83)","v":""},{"$f":"IF(Results!D83=\"\",\"\",Results!D83)","v":""},{"$f":"IF(Results!E83=\"\",\"\",Results!E83)","v":""},{"$f":"IF(C83=\"\",\"\",SUM(D83:E83))","v":""},{"$f":"IF(F83=\"\",\"\",RANK($F83,$F$4:$F$103))","v":""}]
[null,81,{"$f":"IF(Results!C84=\"\",\"\",Results!C84)","v":""},{"$f":"IF(Results!D84=\"\",\"\",Results!D84)","v":""},{"$f":"IF(Results!E84=\"\",\"\",Results!E84)","v":""},{"$f":"IF(C84=\"\",\"\",SUM(D84:E84))","v":""},{"$f":"IF(F84=\"\",\"\",RANK($F84,$F$4:$F$103))","v":""}]
[null,82,{"$f":"IF(Results!C85=\"\",\"\",Results!C85)","v":""},{"$f":"IF(Results!D85=\"\",\"\",Results!D85)","v":""},{"$f":"IF(Results!E85=\"\",\"\",Results!E85)","v":""},{"$f":"IF(C85=\"\",\"\",SUM(D85:E85))","v":""},{"$f":"IF(F85=\"\",\"\",RANK($F85,$F$4:$F$103))","v":""}]
[null,83,{"$f":"IF(Results!C86=\"\",\"\",Results!C86)","v":""},{"$f":"IF(Results!D86=\"\",\"\",Results!D86)","v":""},{"$f":"IF(Results!E86=\"\",\"\",Results!E86)","v":""},{"$f":"IF(C86=\"\",\"\",SUM(D86:E86))","v":""},{"$f":"IF(F86=\"\",\"\",RANK($F86,$F$4:$F$103))","v":""}]
[null,84,{"$f":"IF(Results!C87=\"\",\"\",Results!C87)","v":""},{"$f":"IF(Results!D87=\"\",\"\",Results!D87)","v":""},{"$f":"IF(Results!E87=\"\",\"\",Results!E87)","v":""},{"$f":"IF(C87=\"\",\"\",SUM(D87:E87))","v":""},{"$f":"IF(F87=\"\",\"\",RANK($F87,$F$4:$F$103))","v":""}]
[null,85,{"$f":"IF(Results!C88=\"\",\"\",Results!C88)","v":""},{"$f":"IF(Results!D88=\"\",\"\",Results!D88)","v":""},{"$f":"IF(Results!E88=\"\",\"\",Results!E88)","v":""},{"$f":"IF(C88=\"\",\"\",SUM(D88:E88))","v":""},{"$f":"IF(F88=\"\",\"\",RANK($F88,$F$4:$F$103))","v":""}]
[null,86,{"$f":"IF(Results!C89=\"\",\"\",Results!C89)","v":""},{"$f":"IF(Results!D89=\"\",\"\",Results!D89)","v":""},{"$f":"IF(Results!E89=\"\",\"\",Results!E89)","v":""},{"$f":"IF(C89=\"\",\"\",SUM(D89:E89))","v":""},{"$f":"IF(F89=\"\",\"\",RANK($F89,$F$4:$F$103))","v":""}]
[null,87,{"$f":"IF(Results!C90=\"\",\"\",Results!C90)","v":""},{"$f":"IF(Results!D90=\"\",\"\",Results!D90)","v":""},{"$f":"IF(Results!E90=\"\",\"\",Results!E90)","v":""},{"$f":"IF(C90=\"\",\"\",SUM(D90:E90))","v":""},{"$f":"IF(F90=\"\",\"\",RANK($F90,$F$4:$F$103))","v":""}]
[null,88,{"$f":"IF(Results!C91=\"\",\"\",Results!C91)","v":""},{"$f":"IF(Results!D91=\"\",\"\",Results!D91)","v":""},{"$f":"IF(Results!E91=\"\",\"\",Results!E91)","v":""},{"$f":"IF(C91=\"\",\"\",SUM(D91:E91))","v":""},{"$f":"IF(F91=\"\",\"\",RANK($F91,$F$4:$F$103))","v":""}]
[null,89,{"$f":"IF(Results!C92=\"\",\"\",Results!C92)","v":""},{"$f":"IF(Results!D92=\"\",\"\",Results!D92)","v":""},{"$f":"IF(Results!E92=\"\",\"\",Results!E92)","v":""},{"$f":"IF(C92=\"\",\"\",SUM(D92:E92))","v":""},{"$f":"IF(F92=\"\",\"\",RANK($F92,$F$4:$F$103))","v":""}]
[null,90,{"$f":"IF(Results!C93=\"\",\"\",Results!C93)","v":""},{"$f":"IF(Results!D93=\"\",\"\",Results!D93)","v":""},{"$f":"IF(Results!E93=\"\",\"\",Results!E93)","v":""},{"$f":"IF(C93=\"\",\"\",SUM(D93:E93))","v":""},{"$f":"IF(F93=\"\",\"\",RANK($F93,$F$4:$F$103))","v":""}]
[null,91,{"$f":"IF(Results!C94=\"\",\"\",Results!C94)","v":""},{"$f":"IF(Results!D94=\"\",\"\",Results!D94)","v":""},{"$f":"IF(Results!E94=\"\",\"\",Results!E94)","v":""},{"$f":"IF(C94=\"\",\"\",SUM(D94:E94))","v":""},{"$f":"IF(F94=\"\",\"\",RANK($F94,$F$4:$F$103))","v":""}]
[null,92,{"$f":"IF(Results!C95=\"\",\"\",Results!C95)","v":""},{"$f":"IF(Results!D95=\"\",\"\",Results!D95)","v":""},{"$f":"IF(Results!E95=\"\",\"\",Results!E95)","v":""},{"$f":"IF(C95=\"\",\"\",SUM(D95:E95))","v":""},{"$f":"IF(F95=\"\",\"\",RANK($F95,$F$4:$F$103))","v":""}]
[null,93,{"$f":"IF(Results!C96=\"\",\"\",Results!C96)","v":""},{"$f":"IF(Results!D96=\"\",\"\",Results!D96)","v":""},{"$f":"IF(Results!E96=\"\",\"\",Results!E96)","v":""},{"$f":"IF(C96=\"\",\"\",SUM(D96:E96))","v":""},{"$f":"IF(F96=\"\",\"\",RANK($F96,$F$4:$F$103))","v":""}]
[null,94,{"$f":"IF(Results!C97=\"\",\"\",Results!C97)","v":""},{"$f":"IF(Results!D97=\"\",\"\",Results!D97)","v":""},{"$f":"IF(Results!E97=\"\",\"\",Results!E97)","v":""},{"$f":"IF(C97=\"\",\"\",SUM(D97:E97))","v":""},{"$f":"IF(F97=\"\",\"\",RANK($F97,$F$4:$F$103))","v":""}]
[null,95,{"$f":"IF(Results!C98=\"\",\"\",Results!C98)","v":""},{"$f":"IF(Results!D98=\"\",\"\",Results!D98)","v":""},{"$f":"IF(Results!E98=\"\",\"\",Results!E98)","v":""},{"$f":"IF(C98=\"\",\"\",SUM(D98:E98))","v":""},{"$f":"IF(F98=\"\",\"\",RANK($F98,$F$4:$F$103))","v":""}]
[null,96,{"$f":"IF(Results!C99=\"\",\"\",Results!C99)","v":""},{"$f":"IF(Results!D99=\"\",\"\",Results!D99)","v":""},{"$f":"IF(Results!E99=\"\",\"\",Results!E99)","v":""},{"$f":"IF(C99=\"\",\"\",SUM(D99:E99))","v":""},{"$f":"IF(F99=\"\",\"\",RANK($F99,$F$4:$F$103))","v":""}]
[null,97,{"$f":"IF(Results!C100=\"\",\"\",Results!C100)","v":""},{"$f":"IF(Results!D100=\"\",\"\",Results!D100)","v":""},{"$f":"IF(Results!E100=\"\",\"\",Results!E100)","v":""},{"$f":"IF(C100=\"\",\"\",SUM(D100:E100))","v":""},{"$f":"IF(F100=\"\",\"\",RANK($F100,$F$4:$F$103))","v":""}]
[null,98,{"$f":"IF(Results!C101=\"\",\"\",Results!C101)","v":""},{"$f":"IF(Results!D101=\"\",\"\",Results!D101)","v":""},{"$f":"IF(Results!E101=\"\",\"\",Results!E101)","v":""},{"$f":"IF(C101=\"\",\"\",SUM(D101:E101))","v":""},{"$f":"IF(F101=\"\",\"\",RANK($F101,$F$4:$F$103))","v":""}]
[null,99,{"$f":"IF(Results!C102=\"\",\"\",Results!C102)","v":""},{"$f":"IF(Results!D102=\"\",\"\",Results!D102)","v":""},{"$f":"IF(Results!E102=\"\",\"\",Results!E102)","v":""},{"$f":"IF(C102=\"\",\"\",SUM(D102:E102))","v":""},{"$f":"IF(F102=\"\",\"\",RANK($F102,$F$4:$F$103))","v":""}]
[null,100,{"$f":"IF(Results!C103=\"\",\"\",Results!C103)","v":""},{"$f":"IF(Results!D103=\"\",\"\",Results!D103)","v":""},{"$f":"IF(Results!E103=\"\",\"\",Results!E103)","v":""},{"$f":"IF(C103=\"\",\"\",SUM(D103:E103))","v":""},{"$f":"IF(F103=\"\",\"\",RANK($F103,$F$4:$F$103))","v":""}]

{"sheet":"Final","index":7,"n_rows":103,"n_cols":8,"rows_kept":103,"cut":false,"hidden":false,"merged":[]}
[null,"SORTING ENTRANTS FOR FINAL RANKING"]
[]
[null,"NO","NAME","VISUAL TOTAL","HANDLING SCORE","ORAL SCORE","TOTAL SCORE","RANK"]
[null,1,{"$f":"IF(Results!C4=\"\",\"\",Results!C4)","v":""},{"$f":"IF(Results!D4=\"\",\"\",Results!D4)","v":""},{"$f":"IF(Results!E4=\"\",\"\",Results!E4)","v":""},{"$f":"IF(Results!F4=\"\",\"\",Results!F4)","v":""},{"$f":"IF(D4=\"\",\"\",SUM(D4:F4))","v":""},{"$f":"IF(F4=\"\",\"\",RANK($G4,$G$4:$G$103))","v":""}]
[null,2,{"$f":"IF(Results!C5=\"\",\"\",Results!C5)","v":""},{"$f":"IF(Results!D5=\"\",\"\",Results!D5)","v":""},{"$f":"IF(Results!E5=\"\",\"\",Results!E5)","v":""},{"$f":"IF(Results!F5=\"\",\"\",Results!F5)","v":""},{"$f":"IF(D5=\"\",\"\",SUM(D5:F5))","v":""},{"$f":"IF(F5=\"\",\"\",RANK($G5,$G$4:$G$103))","v":""}]
[null,3,{"$f":"IF(Results!C6=\"\",\"\",Results!C6)","v":""},{"$f":"IF(Results!D6=\"\",\"\",Results!D6)","v":""},{"$f":"IF(Results!E6=\"\",\"\",Results!E6)","v":""},{"$f":"IF(Results!F6=\"\",\"\",Results!F6)","v":""},{"$f":"IF(D6=\"\",\"\",SUM(D6:F6))","v":""},{"$f":"IF(F6=\"\",\"\",RANK($G6,$G$4:$G$103))","v":""}]
[null,4,{"$f":"IF(Results!C7=\"\",\"\",Results!C7)","v":""},{"$f":"IF(Results!D7=\"\",\"\",Results!D7)","v":""},{"$f":"IF(Results!E7=\"\",\"\",Results!E7)","v":""},{"$f":"IF(Results!F7=\"\",\"\",Results!F7)","v":""},{"$f":"IF(D7=\"\",\"\",SUM(D7:F7))","v":""},{"$f":"IF(F7=\"\",\"\",RANK($G7,$G$4:$G$103))","v":""}]
[null,5,{"$f":"IF(Results!C8=\"\",\"\",Results!C8)","v":""},{"$f":"IF(Results!D8=\"\",\"\",Results!D8)","v":""},{"$f":"IF(Results!E8=\"\",\"\",Results!E8)","v":""},{"$f":"IF(Results!F8=\"\",\"\",Results!F8)","v":""},{"$f":"IF(D8=\"\",\"\",SUM(D8:F8))","v":""},{"$f":"IF(F8=\"\",\"\",RANK($G8,$G$4:$G$103))","v":""}]
[null,6,{"$f":"IF(Results!C9=\"\",\"\",Results!C9)","v":""},{"$f":"IF(Results!D9=\"\",\"\",Results!D9)","v":""},{"$f":"IF(Results!E9=\"\",\"\",Results!E9)","v":""},{"$f":"IF(Results!F9=\"\",\"\",Results!F9)","v":""},{"$f":"IF(D9=\"\",\"\",SUM(D9:F9))","v":""},{"$f":"IF(F9=\"\",\"\",RANK($G9,$G$4:$G$103))","v":""}]
[null,7,{"$f":"IF(Results!C10=\"\",\"\",Results!C10)","v":""},{"$f":"IF(Results!D10=\"\",\"\",Results!D10)","v":""},{"$f":"IF(Results!E10=\"\",\"\",Results!E10)","v":""},{"$f":"IF(Results!F10=\"\",\"\",Results!F10)","v":""},{"$f":"IF(D10=\"\",\"\",SUM(D10:F10))","v":""},{"$f":"IF(F10=\"\",\"\",RANK($G10,$G$4:$G$103))","v":""}]
[null,8,{"$f":"IF(Results!C11=\"\",\"\",Results!C11)","v":""},{"$f":"IF(Results!D11=\"\",\"\",Results!D11)","v":""},{"$f":"IF(Results!E11=\"\",\"\",Results!E11)","v":""},{"$f":"IF(Results!F11=\"\",\"\",Results!F11)","v":""},{"$f":"IF(D11=\"\",\"\",SUM(D11:F11))","v":""},{"$f":"IF(F11=\"\",\"\",RANK($G11,$G$4:$G$103))","v":""}]
[null,9,{"$f":"IF(Results!C12=\"\",\"\",Results!C12)","v":""},{"$f":"IF(Results!D12=\"\",\"\",Results!D12)","v":""},{"$f":"IF(Results!E12=\"\",\"\",Results!E12)","v":""},{"$f":"IF(Results!F12=\"\",\"\",Results!F12)","v":""},{"$f":"IF(D12=\"\",\"\",SUM(D12:F12))","v":""},{"$f":"IF(F12=\"\",\"\",RANK($G12,$G$4:$G$103))","v":""}]
[null,10,{"$f":"IF(Results!C13=\"\",\"\",Results!C13)","v":""},{"$f":"IF(Results!D13=\"\",\"\",Results!D13)","v":""},{"$f":"IF(Results!E13=\"\",\"\",Results!E13)","v":""},{"$f":"IF(Results!F13=\"\",\"\",Results!F13)","v":""},{"$f":"IF(D13=\"\",\"\",SUM(D13:F13))","v":""},{"$f":"IF(F13=\"\",\"\",RANK($G13,$G$4:$G$103))","v":""}]
[null,11,{"$f":"IF(Results!C14=\"\",\"\",Results!C14)","v":""},{"$f":"IF(Results!D14=\"\",\"\",Results!D14)","v":""},{"$f":"IF(Results!E14=\"\",\"\",Results!E14)","v":""},{"$f":"IF(Results!F14=\"\",\"\",Results!F14)","v":""},{"$f":"IF(D14=\"\",\"\",SUM(D14:F14))","v":""},{"$f":"IF(F14=\"\",\"\",RANK($G14,$G$4:$G$103))","v":""}]
[null,12,{"$f":"IF(Results!C15=\"\",\"\",Results!C15)","v":""},{"$f":"IF(Results!D15=\"\",\"\",Results!D15)","v":""},{"$f":"IF(Results!E15=\"\",\"\",Results!E15)","v":""},{"$f":"IF(Results!F15=\"\",\"\",Results!F15)","v":""},{"$f":"IF(D15=\"\",\"\",SUM(D15:F15))","v":""},{"$f":"IF(F15=\"\",\"\",RANK($G15,$G$4:$G$103))","v":""}]
[null,13,{"$f":"IF(Results!C16=\"\",\"\",Results!C16)","v":""},{"$f":"IF(Results!D16=\"\",\"\",Results!D16)","v":""},{"$f":"IF(Results!E16=\"\",\"\",Results!E16)","v":""},{"$f":"IF(Results!F16=\"\",\"\",Results!F16)","v":""},{"$f":"IF(D16=\"\",\"\",SUM(D16:F16))","v":""},{"$f":"IF(F16=\"\",\"\",RANK($G16,$G$4:$G$103))","v":""}]
[null,14,{"$f":"IF(Results!C17=\"\",\"\",Results!C17)","v":""},{"$f":"IF(Results!D17=\"\",\"\",Results!D17)","v":""},{"$f":"IF(Results!E17=\"\",\"\",Results!E17)","v":""},{"$f":"IF(Results!F17=\"\",\"\",Results!F17)","v":""},{"$f":"IF(D17=\"\",\"\",SUM(D17:F17))","v":""},{"$f":"IF(F17=\"\",\"\",RANK($G17,$G$4:$G$103))","v":""}]
[null,15,{"$f":"IF(Results!C18=\"\",\"\",Results!C18)","v":""},{"$f":"IF(Results!D18=\"\",\"\",Results!D18)","v":""},{"$f":"IF(Results!E18=\"\",\"\",Results!E18)","v":""},{"$f":"IF(Results!F18=\"\",\"\",Results!F18)","v":""},{"$f":"IF(D18=\"\",\"\",SUM(D18:F18))","v":""},{"$f":"IF(F18=\"\",\"\",RANK($G18,$G$4:$G$103))","v":""}]
[null,16,{"$f":"IF(Results!C19=\"\",\"\",Results!C19)","v":""},{"$f":"IF(Results!D19=\"\",\"\",Results!D19)","v":""},{"$f":"IF(Results!E19=\"\",\"\",Results!E19)","v":""},{"$f":"IF(Results!F19=\"\",\"\",Results!F19)","v":""},{"$f":"IF(D19=\"\",\"\",SUM(D19:F19))","v":""},{"$f":"IF(F19=\"\",\"\",RANK($G19,$G$4:$G$103))","v":""}]
[null,17,{"$f":"IF(Results!C20=\"\",\"\",Results!C20)","v":""},{"$f":"IF(Results!D20=\"\",\"\",Results!D20)","v":""},{"$f":"IF(Results!E20=\"\",\"\",Results!E20)","v":""},{"$f":"IF(Results!F20=\"\",\"\",Results!F20)","v":""},{"$f":"IF(D20=\"\",\"\",SUM(D20:F20))","v":""},{"$f":"IF(F20=\"\",\"\",RANK($G20,$G$4:$G$103))","v":""}]
[null,18,{"$f":"IF(Results!C21=\"\",\"\",Results!C21)","v":""},{"$f":"IF(Results!D21=\"\",\"\",Results!D21)","v":""},{"$f":"IF(Results!E21=\"\",\"\",Results!E21)","v":""},{"$f":"IF(Results!F21=\"\",\"\",Results!F21)","v":""},{"$f":"IF(D21=\"\",\"\",SUM(D21:F21))","v":""},{"$f":"IF(F21=\"\",\"\",RANK($G21,$G$4:$G$103))","v":""}]
[null,19,{"$f":"IF(Results!C22=\"\",\"\",Results!C22)","v":""},{"$f":"IF(Results!D22=\"\",\"\",Results!D22)","v":""},{"$f":"IF(Results!E22=\"\",\"\",Results!E22)","v":""},{"$f":"IF(Results!F22=\"\",\"\",Results!F22)","v":""},{"$f":"IF(D22=\"\",\"\",SUM(D22:F22))","v":""},{"$f":"IF(F22=\"\",\"\",RANK($G22,$G$4:$G$103))","v":""}]
[null,20,{"$f":"IF(Results!C23=\"\",\"\",Results!C23)","v":""},{"$f":"IF(Results!D23=\"\",\"\",Results!D23)","v":""},{"$f":"IF(Results!E23=\"\",\"\",Results!E23)","v":""},{"$f":"IF(Results!F23=\"\",\"\",Results!F23)","v":""},{"$f":"IF(D23=\"\",\"\",SUM(D23:F23))","v":""},{"$f":"IF(F23=\"\",\"\",RANK($G23,$G$4:$G$103))","v":""}]
[null,21,{"$f":"IF(Results!C24=\"\",\"\",Results!C24)","v":""},{"$f":"IF(Results!D24=\"\",\"\",Results!D24)","v":""},{"$f":"IF(Results!E24=\"\",\"\",Results!E24)","v":""},{"$f":"IF(Results!F24=\"\",\"\",Results!F24)","v":""},{"$f":"IF(D24=\"\",\"\",SUM(D24:F24))","v":""},{"$f":"IF(F24=\"\",\"\",RANK($G24,$G$4:$G$103))","v":""}]
[null,22,{"$f":"IF(Results!C25=\"\",\"\",Results!C25)","v":""},{"$f":"IF(Results!D25=\"\",\"\",Results!D25)","v":""},{"$f":"IF(Results!E25=\"\",\"\",Results!E25)","v":""},{"$f":"IF(Results!F25=\"\",\"\",Results!F25)","v":""},{"$f":"IF(D25=\"\",\"\",SUM(D25:F25))","v":""},{"$f":"IF(F25=\"\",\"\",RANK($G25,$G$4:$G$103))","v":""}]
[null,23,{"$f":"IF(Results!C26=\"\",\"\",Results!C26)","v":""},{"$f":"IF(Results!D26=\"\",\"\",Results!D26)","v":""},{"$f":"IF(Results!E26=\"\",\"\",Results!E26)","v":""},{"$f":"IF(Results!F26=\"\",\"\",Results!F26)","v":""},{"$f":"IF(D26=\"\",\"\",SUM(D26:F26))","v":""},{"$f":"IF(F26=\"\",\"\",RANK($G26,$G$4:$G$103))","v":""}]
[null,24,{"$f":"IF(Results!C27=\"\",\"\",Results!C27)","v":""},{"$f":"IF(Results!D27=\"\",\"\",Results!D27)","v":""},{"$f":"IF(Results!E27=\"\",\"\",Results!E27)","v":""},{"$f":"IF(Results!F27=\"\",\"\",Results!F27)","v":""},{"$f":"IF(D27=\"\",\"\",SUM(D27:F27))","v":""},{"$f":"IF(F27=\"\",\"\",RANK($G27,$G$4:$G$103))","v":""}]
[null,25,{"$f":"IF(Results!C28=\"\",\"\",Results!C28)","v":""},{"$f":"IF(Results!D28=\"\",\"\",Results!D28)","v":""},{"$f":"IF(Results!E28=\"\",\"\",Results!E28)","v":""},{"$f":"IF(Results!F28=\"\",\"\",Results!F28)","v":""},{"$f":"IF(D28=\"\",\"\",SUM(D28:F28))","v":""},{"$f":"IF(F28=\"\",\"\",RANK($G28,$G$4:$G$103))","v":""}]
[null,26,{"$f":"IF(Results!C29=\"\",\"\",Results!C29)","v":""},{"$f":"IF(Results!D29=\"\",\"\",Results!D29)","v":""},{"$f":"IF(Results!E29=\"\",\"\",Results!E29)","v":""},{"$f":"IF(Results!F29=\"\",\"\",Results!F29)","v":""},{"$f":"IF(D29=\"\",\"\",SUM(D29:F29))","v":""},{"$f":"IF(F29=\"\",\"\",RANK($G29,$G$4:$G$103))","v":""}]
[null,27,{"$f":"IF(Results!C30=\"\",\"\",Results!C30)","v":""},{"$f":"IF(Results!D30=\"\",\"\",Results!D30)","v":""},{"$f":"IF(Results!E30=\"\",\"\",Results!E30)","v":""},{"$f":"IF(Results!F30=\"\",\"\",Results!F30)","v":""},{"$f":"IF(D30=\"\",\"\",SUM(D30:F30))","v":""},{"$f":"IF(F30=\"\",\"\",RANK($G30,$G$4:$G$103))","v":""}]
[null,28,{"$f":"IF(Results!C31=\"\",\"\",Results!C31)","v":""},{"$f":"IF(Results!D31=\"\",\"\",Results!D31)","v":""},{"$f":"IF(Results!E31=\"\",\"\",Results!E31)","v":""},{"$f":"IF(Results!F31=\"\",\"\",Results!F31)","v":""},{"$f":"IF(D31=\"\",\"\",SUM(D31:F31))","v":""},{"$f":"IF(F31=\"\",\"\",RANK($G31,$G$4:$G$103))","v":""}]
[null,29,{"$f":"IF(Results!C32=\"\",\"\",Results!C32)","v":""},{"$f":"IF(Results!D32=\"\",\"\",Results!D32)","v":""},{"$f":"IF(Results!E32=\"\",\"\",Results!E32)","v":""},{"$f":"IF(Results!F32=\"\",\"\",Results!F32)","v":""},{"$f":"IF(D32=\"\",\"\",SUM(D32:F32))","v":""},{"$f":"IF(F32=\"\",\"\",RANK($G32,$G$4:$G$103))","v":""}]
[null,30,{"$f":"IF(Results!C33=\"\",\"\",Results!C33)","v":""},{"$f":"IF(Results!D33=\"\",\"\",Results!D33)","v":""},{"$f":"IF(Results!E33=\"\",\"\",Results!E33)","v":""},{"$f":"IF(Results!F33=\"\",\"\",Results!F33)","v":""},{"$f":"IF(D33=\"\",\"\",SUM(D33:F33))","v":""},{"$f":"IF(F33=\"\",\"\",RANK($G33,$G$4:$G$103))","v":""}]
[null,31,{"$f":"IF(Results!C34=\"\",\"\",Results!C34)","v":""},{"$f":"IF(Results!D34=\"\",\"\",Results!D34)","v":""},{"$f":"IF(Results!E34=\"\",\"\",Results!E34)","v":""},{"$f":"IF(Results!F34=\"\",\"\",Results!F34)","v":""},{"$f":"IF(D34=\"\",\"\",SUM(D34:F34))","v":""},{"$f":"IF(F34=\"\",\"\",RANK($G34,$G$4:$G$103))","v":""}]
[null,32,{"$f":"IF(Results!C35=\"\",\"\",Results!C35)","v":""},{"$f":"IF(Results!D35=\"\",\"\",Results!D35)","v":""},{"$f":"IF(Results!E35=\"\",\"\",Results!E35)","v":""},{"$f":"IF(Results!F35=\"\",\"\",Results!F35)","v":""},{"$f":"IF(D35=\"\",\"\",SUM(D35:F35))","v":""},{"$f":"IF(F35=\"\",\"\",RANK($G35,$G$4:$G$103))","v":""}]
[null,33,{"$f":"IF(Results!C36=\"\",\"\",Results!C36)","v":""},{"$f":"IF(Results!D36=\"\",\"\",Results!D36)","v":""},{"$f":"IF(Results!E36=\"\",\"\",Results!E36)","v":""},{"$f":"IF(Results!F36=\"\",\"\",Results!F36)","v":""},{"$f":"IF(D36=\"\",\"\",SUM(D36:F36))","v":""},{"$f":"IF(F36=\"\",\"\",RANK($G36,$G$4:$G$103))","v":""}]
[null,34,{"$f":"IF(Results!C37=\"\",\"\",Results!C37)","v":""},{"$f":"IF(Results!D37=\"\",\"\",Results!D37)","v":""},{"$f":"IF(Results!E37=\"\",\"\",Results!E37)","v":""},{"$f":"IF(Results!F37=\"\",\"\",Results!F37)","v":""},{"$f":"IF(D37=\"\",\"\",SUM(D37:F37))","v":""},{"$f":"IF(F37=\"\",\"\",RANK($G37,$G$4:$G$103))","v":""}]
[null,35,{"$f":"IF(Results!C38=\"\",\"\",Results!C38)","v":""},{"$f":"IF(Results!D38=\"\",\"\",Results!D38)","v":""},{"$f":"IF(Results!E38=\"\",\"\",Results!E38)","v":""},{"$f":"IF(Results!F38=\"\",\"\",Results!F38)","v":""},{"$f":"IF(D38=\"\",\"\",SUM(D38:F38))","v":""},{"$f":"IF(F38=\"\",\"\",RANK($G38,$G$4:$G$103))","v":""}]
[null,36,{"$f":"IF(Results!C39=\"\",\"\",Results!C39)","v":""},{"$f":"IF(Results!D39=\"\",\"\",Results!D39)","v":""},{"$f":"IF(Results!E39=\"\",\"\",Results!E39)","v":""},{"$f":"IF(Results!F39=\"\",\"\",Results!F39)","v":""},{"$f":"IF(D39=\"\",\"\",SUM(D39:F39))","v":""},{"$f":"IF(F39=\"\",\"\",RANK($G39,$G$4:$G$103))","v":""}]
[null,37,{"$f":"IF(Results!C40=\"\",\"\",Results!C40)","v":""},{"$f":"IF(Results!D40=\"\",\"\",Results!D40)","v":""},{"$f":"IF(Results!E40=\"\",\"\",Results!E40)","v":""},{"$f":"IF(Results!F40=\"\",\"\",Results!F40)","v":""},{"$f":"IF(D40=\"\",\"\",SUM(D40:F40))","v":""},{"$f":"IF(F40=\"\",\"\",RANK($G40,$G$4:$G$103))","v":""}]
[null,38,{"$f":"IF(Results!C41=\"\",\"\",Results!C41)","v":""},{"$f":"IF(Results!D41=\"\",\"\",Results!D41)","v":""},{"$f":"IF(Results!E41=\"\",\"\",Results!E41)","v":""},{"$f":"IF(Results!F41=\"\",\"\",Results!F41)","v":""},{"$f":"IF(D41=\"\",\"\",SUM(D41:F41))","v":""},{"$f":"IF(F41=\"\",\"\",RANK($G41,$G$4:$G$103))","v":""}]
[null,39,{"$f":"IF(Results!C42=\"\",\"\",Results!C42)","v":""},{"$f":"IF(Results!D42=\"\",\"\",Results!D42)","v":""},{"$f":"IF(Results!E42=\"\",\"\",Results!E42)","v":""},{"$f":"IF(Results!F42=\"\",\"\",Results!F42)","v":""},{"$f":"IF(D42=\"\",\"\",SUM(D42:F42))","v":""},{"$f":"IF(F42=\"\",\"\",RANK($G42,$G$4:$G$103))","v":""}]
[null,40,{"$f":"IF(Results!C43=\"\",\"\",Results!C43)","v":""},{"$f":"IF(Results!D43=\"\",\"\",Results!D43)","v":""},{"$f":"IF(Results!E43=\"\",\"\",Results!E43)","v":""},{"$f":"IF(Results!F43=\"\",\"\",Results!F43)","v":""},{"$f":"IF(D43=\"\",\"\",SUM(D43:F43))","v":""},{"$f":"IF(F43=\"\",\"\",RANK($G43,$G$4:$G$103))","v":""}]
[null,41,{"$f":"IF(Results!C44=\"\",\"\",Results!C44)","v":""},{"$f":"IF(Results!D44=\"\",\"\",Results!D44)","v":""},{"$f":"IF(Results!E44=\"\",\"\",Results!E44)","v":""},{"$f":"IF(Results!F44=\"\",\"\",Results!F44)","v":""},{"$f":"IF(D44=\"\",\"\",SUM(D44:F44))","v":""},{"$f":"IF(F44=\"\",\"\",RANK($G44,$G$4:$G$103))","v":""}]
[null,42,{"$f":"IF(Results!C45=\"\",\"\",Results!C45)","v":""},{"$f":"IF(Results!D45=\"\",\"\",Results!D45)","v":""},{"$f":"IF(Results!E45=\"\",\"\",Results!E45)","v":""},{"$f":"IF(Results!F45=\"\",\"\",Results!F45)","v":""},{"$f":"IF(D45=\"\",\"\",SUM(D45:F45))","v":""},{"$f":"IF(F45=\"\",\"\",RANK($G45,$G$4:$G$103))","v":""}]
[null,43,{"$f":"IF(Results!C46=\"\",\"\",Results!C46)","v":""},{"$f":"IF(Results!D46=\"\",\"\",Results!D46)","v":""},{"$f":"IF(Results!E46=\"\",\"\",Results!E46)","v":""},{"$f":"IF(Results!F46=\"\",\"\",Results!F46)","v":""},{"$f":"IF(D46=\"\",\"\",SUM(D46:F46))","v":""},{"$f":"IF(F46=\"\",\"\",RANK($G46,$G$4:$G$103))","v":""}]
[null,44,{"$f":"IF(Results!C47=\"\",\"\",Results!C47)","v":""},{"$f":"IF(Results!D47=\"\",\"\",Results!D47)","v":""},{"$f":"IF(Results!E47=\"\",\"\",Results!E47)","v":""},{"$f":"IF(Results!F47=\"\",\"\",Results!F47)","v":""},{"$f":"IF(D47=\"\",\"\",SUM(D47:F47))","v":""},{"$f":"IF(F47=\"\",\"\",RANK($G47,$G$4:$G$103))","v":""}]
[null,45,{"$f":"IF(Results!C48=\"\",\"\",Results!C48)","v":""},{"$f":"IF(Results!D48=\"\",\"\",Results!D48)","v":""},{"$f":"IF(Results!E48=\"\",\"\",Results!E48)","v":""},{"$f":"IF(Results!F48=\"\",\"\",Results!F48)","v":""},{"$f":"IF(D48=\"\",\"\",SUM(D48:F48))","v":""},{"$f":"IF(F48=\"\",\"\",RANK($G48,$G$4:$G$103))","v":""}]
[null,46,{"$f":"IF(Results!C49=\"\",\"\",Results!C49)","v":""},{"$f":"IF(Results!D49=\"\",\"\",Results!D49)","v":""},{"$f":"IF(Results!E49=\"\",\"\",Results!E49)","v":""},{"$f":"IF(Results!F49=\"\",\"\",Results!F49)","v":""},{"$f":"IF(D49=\"\",\"\",SUM(D49:F49))","v":""},{"$f":"IF(F49=\"\",\"\",RANK($G49,$G$4:$G$103))","v":""}]
[null,47,{"$f":"IF(Results!C50=\"\",\"\",Results!C50)","v":""},{"$f":"IF(Results!D50=\"\",\"\",Results!D50)","v":""},{"$f":"IF(Results!E50=\"\",\"\",Results!E50)","v":""},{"$f":"IF(Results!F50=\"\",\"\",Results!F50)","v":""},{"$f":"IF(D50=\"\",\"\",SUM(D50:F50))","v":""},{"$f":"IF(F50=\"\",\"\",RANK($G50,$G$4:$G$103))","v":""}]
[null,48,{"$f":"IF(Results!C51=\"\",\"\",Results!C51)","v":""},{"$f":"IF(Results!D51=\"\",\"\",Results!D51)","v":""},{"$f":"IF(Results!E51=\"\",\"\",Results!E51)","v":""},{"$f":"IF(Results!F51=\"\",\"\",Results!F51)","v":""},{"$f":"IF(D51=\"\",\"\",SUM(D51:F51))","v":""},{"$f":"IF(F51=\"\",\"\",RANK($G51,$G$4:$G$103))","v":""}]
[null,49,{"$f":"IF(Results!C52=\"\",\"\",Results!C52)","v":""},{"$f":"IF(Results!D52=\"\",\"\",Results!D52)","v":""},{"$f":"IF(Results!E52=\"\",\"\",Results!E52)","v":""},{"$f":"IF(Results!F52=\"\",\"\",Results!F52)","v":""},{"$f":"IF(D52=\"\",\"\",SUM(D52:F52))","v":""},{"$f":"IF(F52=\"\",\"\",RANK($G52,$G$4:$G$103))","v":""}]
[null,50,{"$f":"IF(Results!C53=\"\",\"\",Results!C53)","v":""},{"$f":"IF(Results!D53=\"\",\"\",Results!D53)","v":""},{"$f":"IF(Results!E53=\"\",\"\",Results!E53)","v":""},{"$f":"IF(Results!F53=\"\",\"\",Results!F53)","v":""},{"$f":"IF(D53=\"\",\"\",SUM(D53:F53))","v":""},{"$f":"IF(F53=\"\",\"\",RANK($G53,$G$4:$G$103))","v":""}]
[null,51,{"$f":"IF(Results!C54=\"\",\"\",Results!C54)","v":""},{"$f":"IF(Results!D54=\"\",\"\",Results!D54)","v":""},{"$f":"IF(Results!E54=\"\",\"\",Results!E54)","v":""},{"$f":"IF(Results!F54=\"\",\"\",Results!F54)","v":""},{"$f":"IF(D54=\"\",\"\",SUM(D54:F54))","v":""},{"$f":"IF(F54=\"\",\"\",RANK($G54,$G$4:$G$103))","v":""}]
[null,52,{"$f":"IF(Results!C55=\"\",\"\",Results!C55)","v":""},{"$f":"IF(Results!D55=\"\",\"\",Results!D55)","v":""},{"$f":"IF(Results!E55=\"\",\"\",Results!E55)","v":""},{"$f":"IF(Results!F55=\"\",\"\",Results!F55)","v":""},{"$f":"IF(D55=\"\",\"\",SUM(D55:F55))","v":""},{"$f":"IF(F55=\"\",\"\",RANK($G55,$G$4:$G$103))","v":""}]
[null,53,{"$f":"IF(Results!C56=\"\",\"\",Results!C56)","v":""},{"$f":"IF(Results!D56=\"\",\"\",Results!D56)","v":""},{"$f":"IF(Results!E56=\"\",\"\",Results!E56)","v":""},{"$f":"IF(Results!F56=\"\",\"\",Results!F56)","v":""},{"$f":"IF(D56=\"\",\"\",SUM(D56:F56))","v":""},{"$f":"IF(F56=\"\",\"\",RANK($G56,$G$4:$G$103))","v":""}]
[null,54,{"$f":"IF(Results!C57=\"\",\"\",Results!C57)","v":""},{"$f":"IF(Results!D57=\"\",\"\",Results!D57)","v":""},{"$f":"IF(Results!E57=\"\",\"\",Results!E57)","v":""},{"$f":"IF(Results!F57=\"\",\"\",Results!F57)","v":""},{"$f":"IF(D57=\"\",\"\",SUM(D57:F57))","v":""},{"$f":"IF(F57=\"\",\"\",RANK($G57,$G$4:$G$103))","v":""}]
[null,55,{"$f":"IF(Results!C58=\"\",\"\",Results!C58)","v":""},{"$f":"IF(Results!D58=\"\",\"\",Results!D58)","v":""},{"$f":"IF(Results!E58=\"\",\"\",Results!E58)","v":""},{"$f":"IF(Results!F58=\"\",\"\",Results!F58)","v":""},{"$f":"IF(D58=\"\",\"\",SUM(D58:F58))","v":""},{"$f":"IF(F58=\"\",\"\",RANK($G58,$G$4:$G$103))","v":""}]
[null,56,{"$f":"IF(Results!C59=\"\",\"\",Results!C59)","v":""},{"$f":"IF(Results!D59=\"\",\"\",Results!D59)","v":""},{"$f":"IF(Results!E59=\"\",\"\",Results!E59)","v":""},{"$f":"IF(Results!F59=\"\",\"\",Results!F59)","v":""},{"$f":"IF(D59=\"\",\"\",SUM(D59:F59))","v":""},{"$f":"IF(F59=\"\",\"\",RANK($G59,$G$4:$G$103))","v":""}]
[null,57,{"$f":"IF(Results!C60=\"\",\"\",Results!C60)","v":""},{"$f":"IF(Results!D60=\"\",\"\",Results!D60)","v":""},{"$f":"IF(Results!E60=\"\",\"\",Results!E60)","v":""},{"$f":"IF(Results!F60=\"\",\"\",Results!F60)","v":""},{"$f":"IF(D60=\"\",\"\",SUM(D60:F60))","v":""},{"$f":"IF(F60=\"\",\"\",RANK($G60,$G$4:$G$103))","v":""}]
[null,58,{"$f":"IF(Results!C61=\"\",\"\",Results!C61)","v":""},{"$f":"IF(Results!D61=\"\",\"\",Results!D61)","v":""},{"$f":"IF(Results!E61=\"\",\"\",Results!E61)","v":""},{"$f":"IF(Results!F61=\"\",\"\",Results!F61)","v":""},{"$f":"IF(D61=\"\",\"\",SUM(D61:F61))","v":""},{"$f":"IF(F61=\"\",\"\",RANK($G61,$G$4:$G$103))","v":""}]
[null,59,{"$f":"IF(Results!C62=\"\",\"\",Results!C62)","v":""},{"$f":"IF(Results!D62=\"\",\"\",Results!D62)","v":""},{"$f":"IF(Results!E62=\"\",\"\",Results!E62)","v":""},{"$f":"IF(Results!F62=\"\",\"\",Results!F62)","v":""},{"$f":"IF(D62=\"\",\"\",SUM(D62:F62))","v":""},{"$f":"IF(F62=\"\",\"\",RANK($G62,$G$4:$G$103))","v":""}]
[null,60,{"$f":"IF(Results!C63=\"\",\"\",Results!C63)","v":""},{"$f":"IF(Results!D63=\"\",\"\",Results!D63)","v":""},{"$f":"IF(Results!E63=\"\",\"\",Results!E63)","v":""},{"$f":"IF(Results!F63=\"\",\"\",Results!F63)","v":""},{"$f":"IF(D63=\"\",\"\",SUM(D63:F63))","v":""},{"$f":"IF(F63=\"\",\"\",RANK($G63,$G$4:$G$103))","v":""}]
[null,61,{"$f":"IF(Results!C64=\"\",\"\",Results!C64)","v":""},{"$f":"IF(Results!D64=\"\",\"\",Results!D64)","v":""},{"$f":"IF(Results!E64=\"\",\"\",Results!E64)","v":""},{"$f":"IF(Results!F64=\"\",\"\",Results!F64)","v":""},{"$f":"IF(D64=\"\",\"\",SUM(D64:F64))","v":""},{"$f":"IF(F64=\"\",\"\",RANK($G64,$G$4:$G$103))","v":""}]
[null,62,{"$f":"IF(Results!C65=\"\",\"\",Results!C65)","v":""},{"$f":"IF(Results!D65=\"\",\"\",Results!D65)","v":""},{"$f":"IF(Results!E65=\"\",\"\",Results!E65)","v":""},{"$f":"IF(Results!F65=\"\",\"\",Results!F65)","v":""},{"$f":"IF(D65=\"\",\"\",SUM(D65:F65))","v":""},{"$f":"IF(F65=\"\",\"\",RANK($G65,$G$4:$G$103))","v":""}]
[null,63,{"$f":"IF(Results!C66=\"\",\"\",Results!C66)","v":""},{"$f":"IF(Results!D66=\"\",\"\",Results!D66)","v":""},{"$f":"IF(Results!E66=\"\",\"\",Results!E66)","v":""},{"$f":"IF(Results!F66=\"\",\"\",Results!F66)","v":""},{"$f":"IF(D66=\"\",\"\",SUM(D66:F66))","v":""},{"$f":"IF(F66=\"\",\"\",RANK($G66,$G$4:$G$103))","v":""}]
[null,64,{"$f":"IF(Results!C67=\"\",\"\",Results!C67)","v":""},{"$f":"IF(Results!D67=\"\",\"\",Results!D67)","v":""},{"$f":"IF(Results!E67=\"\",\"\",Results!E67)","v":""},{"$f":"IF(Results!F67=\"\",\"\",Results!F67)","v":""},{"$f":"IF(D67=\"\",\"\",SUM(D67:F67))","v":""},{"$f":"IF(F67=\"\",\"\",RANK($G67,$G$4:$G$103))","v":""}]
[null,65,{"$f":"IF(Results!C68=\"\",\"\",Results!C68)","v":""},{"$f":"IF(Results!D68=\"\",\"\",Results!D68)","v":""},{"$f":"IF(Results!E68=\"\",\"\",Results!E68)","v":""},{"$f":"IF(Results!F68=\"\",\"\",Results!F68)","v":""},{"$f":"IF(D68=\"\",\"\",SUM(D68:F68))","v":""},{"$f":"IF(F68=\"\",\"\",RANK($G68,$G$4:$G$103))","v":""}]
[null,66,{"$f":"IF(Results!C69=\"\",\"\",Results!C69)","v":""},{"$f":"IF(Results!D69=\"\",\"\",Results!D69)","v":""},{"$f":"IF(Results!E69=\"\",\"\",Results!E69)","v":""},{"$f":"IF(Results!F69=\"\",\"\",Results!F69)","v":""},{"$f":"IF(D69=\"\",\"\",SUM(D69:F69))","v":""},{"$f":"IF(F69=\"\",\"\",RANK($G69,$G$4:$G$103))","v":""}]
[null,67,{"$f":"IF(Results!C70=\"\",\"\",Results!C70)","v":""},{"$f":"IF(Results!D70=\"\",\"\",Results!D70)","v":""},{"$f":"IF(Results!E70=\"\",\"\",Results!E70)","v":""},{"$f":"IF(Results!F70=\"\",\"\",Results!F70)","v":""},{"$f":"IF(D70=\"\",\"\",SUM(D70:F70))","v":""},{"$f":"IF(F70=\"\",\"\",RANK($G70,$G$4:$G$103))","v":""}]
[null,68,{"$f":"IF(Results!C71=\"\",\"\",Results!C71)","v":""},{"$f":"IF(Results!D71=\"\",\"\",Results!D71)","v":""},{"$f":"IF(Results!E71=\"\",\"\",Results!E71)","v":""},{"$f":"IF(Results!F71=\"\",\"\",Results!F71)","v":""},{"$f":"IF(D71=\"\",\"\",SUM(D71:F71))","v":""},{"$f":"IF(F71=\"\",\"\",RANK($G71,$G$4:$G$103))","v":""}]
[null,69,{"$f":"IF(Results!C72=\"\",\"\",Results!C72)","v":""},{"$f":"IF(Results!D72=\"\",\"\",Results!D72)","v":""},{"$f":"IF(Results!E72=\"\",\"\",Results!E72)","v":""},{"$f":"IF(Results!F72=\"\",\"\",Results!F72)","v":""},{"$f":"IF(D72=\"\",\"\",SUM(D72:F72))","v":""},{"$f":"IF(F72=\"\",\"\",RANK($G72,$G$4:$G$103))","v":""}]
[null,70,{"$f":"IF(Results!C73=\"\",\"\",Results!C73)","v":""},{"$f":"IF(Results!D73=\"\",\"\",Results!D73)","v":""},{"$f":"IF(Results!E73=\"\",\"\",Results!E73)","v":""},{"$f":"IF(Results!F73=\"\",\"\",Results!F73)","v":""},{"$f":"IF(D73=\"\",\"\",SUM(D73:F73))","v":""},{"$f":"IF(F73=\"\",\"\",RANK($G73,$G$4:$G$103))","v":""}]
[null,71,{"$f":"IF(Results!C74=\"\",\"\",Results!C74)","v":""},{"$f":"IF(Results!D74=\"\",\"\",Results!D74)","v":""},{"$f":"IF(Results!E74=\"\",\"\",Results!E74)","v":""},{"$f":"IF(Results!F74=\"\",\"\",Results!F74)","v":""},{"$f":"IF(D74=\"\",\"\",SUM(D74:F74))","v":""},{"$f":"IF(F74=\"\",\"\",RANK($G74,$G$4:$G$103))","v":""}]
[null,72,{"$f":"IF(Results!C75=\"\",\"\",Results!C75)","v":""},{"$f":"IF(Results!D75=\"\",\"\",Results!D75)","v":""},{"$f":"IF(Results!E75=\"\",\"\",Results!E75)","v":""},{"$f":"IF(Results!F75=\"\",\"\",Results!F75)","v":""},{"$f":"IF(D75=\"\",\"\",SUM(D75:F75))","v":""},{"$f":"IF(F75=\"\",\"\",RANK($G75,$G$4:$G$103))","v":""}]
[null,73,{"$f":"IF(Results!C76=\"\",\"\",Results!C76)","v":""},{"$f":"IF(Results!D76=\"\",\"\",Results!D76)","v":""},{"$f":"IF(Results!E76=\"\",\"\",Results!E76)","v":""},{"$f":"IF(Results!F76=\"\",\"\",Results!F76)","v":""},{"$f":"IF(D76=\"\",\"\",SUM(D76:F76))","v":""},{"$f":"IF(F76=\"\",\"\",RANK($G76,$G$4:$G$103))","v":""}]
[null,74,{"$f":"IF(Results!C77=\"\",\"\",Results!C77)","v":""},{"$f":"IF(Results!D77=\"\",\"\",Results!D77)","v":""},{"$f":"IF(Results!E77=\"\",\"\",Results!E77)","v":""},{"$f":"IF(Results!F77=\"\",\"\",Results!F77)","v":""},{"$f":"IF(D77=\"\",\"\",SUM(D77:F77))","v":""},{"$f":"IF(F77=\"\",\"\",RANK($G77,$G$4:$G$103))","v":""}]
[null,75,{"$f":"IF(Results!C78=\"\",\"\",Results!C78)","v":""},{"$f":"IF(Results!D78=\"\",\"\",Results!D78)","v":""},{"$f":"IF(Results!E78=\"\",\"\",Results!E78)","v":""},{"$f":"IF(Results!F78=\"\",\"\",Results!F78)","v":""},{"$f":"IF(D78=\"\",\"\",SUM(D78:F78))","v":""},{"$f":"IF(F78=\"\",\"\",RANK($G78,$G$4:$G$103))","v":""}]
[null,76,{"$f":"IF(Results!C79=\"\",\"\",Results!C79)","v":""},{"$f":"IF(Results!D79=\"\",\"\",Results!D79)","v":""},{"$f":"IF(Results!E79=\"\",\"\",Results!E79)","v":""},{"$f":"IF(Results!F79=\"\",\"\",Results!F79)","v":""},{"$f":"IF(D79=\"\",\"\",SUM(D79:F79))","v":""},{"$f":"IF(F79=\"\",\"\",RANK($G79,$G$4:$G$103))","v":""}]
[null,77,{"$f":"IF(Results!C80=\"\",\"\",Results!C80)","v":""},{"$f":"IF(Results!D80=\"\",\"\",Results!D80)","v":""},{"$f":"IF(Results!E80=\"\",\"\",Results!E80)","v":""},{"$f":"IF(Results!F80=\"\",\"\",Results!F80)","v":""},{"$f":"IF(D80=\"\",\"\",SUM(D80:F80))","v":""},{"$f":"IF(F80=\"\",\"\",RANK($G80,$G$4:$G$103))","v":""}]
[null,78,{"$f":"IF(Results!C81=\"\",\"\",Results!C81)","v":""},{"$f":"IF(Results!D81=\"\",\"\",Results!D81)","v":""},{"$f":"IF(Results!E81=\"\",\"\",Results!E81)","v":""},{"$f":"IF(Results!F81=\"\",\"\",Results!F81)","v":""},{"$f":"IF(D81=\"\",\"\",SUM(D81:F81))","v":""},{"$f":"IF(F81=\"\",\"\",RANK($G81,$G$4:$G$103))","v":""}]
[null,79,{"$f":"IF(Results!C82=\"\",\"\",Results!C82)","v":""},{"$f":"IF(Results!D82=\"\",\"\",Results!D82)","v":""},{"$f":"IF(Results!E82=\"\",\"\",Results!E82)","v":""},{"$f":"IF(Results!F82=\"\",\"\",Results!F82)","v":""},{"$f":"IF(D82=\"\",\"\",SUM(D82:F82))","v":""},{"$f":"IF(F82=\"\",\"\",RANK($G82,$G$4:$G$103))","v":""}]
[null,80,{"$f":"IF(Results!C83=\"\",\"\",Results!C83)","v":""},{"$f":"IF(Results!D83=\"\",\"\",Results!D83)","v":""},{"$f":"IF(Results!E83=\"\",\"\",Results!E83)","v":""},{"$f":"IF(Results!F83=\"\",\"\",Results!F83)","v":""},{"$f":"IF(D83=\"\",\"\",SUM(D83:F83))","v":""},{"$f":"IF(F83=\"\",\"\",RANK($G83,$G$4:$G$103))","v":""}]
[null,81,{"$f":"IF(Results!C84=\"\",\"\",Results!C84)","v":""},{"$f":"IF(Results!D84=\"\",\"\",Results!D84)","v":""},{"$f":"IF(Results!E84=\"\",\"\",Results!E84)","v":""},{"$f":"IF(Results!F84=\"\",\"\",Results!F84)","v":""},{"$f":"IF(D84=\"\",\"\",SUM(D84:F84))","v":""},{"$f":"IF(F84=\"\",\"\",RANK($G84,$G$4:$G$103))","v":""}]
[null,82,{"$f":"IF(Results!C85=\"\",\"\",Results!C85)","v":""},{"$f":"IF(Results!D85=\"\",\"\",Results!D85)","v":""},{"$f":"IF(Results!E85=\"\",\"\",Results!E85)","v":""},{"$f":"IF(Results!F85=\"\",\"\",Results!F85)","v":""},{"$f":"IF(D85=\"\",\"\",SUM(D85:F85))","v":""},{"$f":"IF(F85=\"\",\"\",RANK($G85,$G$4:$G$103))","v":""}]
[null,83,{"$f":"IF(Results!C86=\"\",\"\",Results!C86)","v":""},{"$f":"IF(Results!D86=\"\",\"\",Results!D86)","v":""},{"$f":"IF(Results!E86=\"\",\"\",Results!E86)","v":""},{"$f":"IF(Results!F86=\"\",\"\",Results!F86)","v":""},{"$f":"IF(D86=\"\",\"\",SUM(D86:F86))","v":""},{"$f":"IF(F86=\"\",\"\",RANK($G86,$G$4:$G$103))","v":""}]
[null,84,{"$f":"IF(Results!C87=\"\",\"\",Results!C87)","v":""},{"$f":"IF(Results!D87=\"\",\"\",Results!D87)","v":""},{"$f":"IF(Results!E87=\"\",\"\",Results!E87)","v":""},{"$f":"IF(Results!F87=\"\",\"\",Results!F87)","v":""},{"$f":"IF(D87=\"\",\"\",SUM(D87:F87))","v":""},{"$f":"IF(F87=\"\",\"\",RANK($G87,$G$4:$G$103))","v":""}]
[null,85,{"$f":"IF(Results!C88=\"\",\"\",Results!C88)","v":""},{"$f":"IF(Results!D88=\"\",\"\",Results!D88)","v":""},{"$f":"IF(Results!E88=\"\",\"\",Results!E88)","v":""},{"$f":"IF(Results!F88=\"\",\"\",Results!F88)","v":""},{"$f":"IF(D88=\"\",\"\",SUM(D88:F88))","v":""},{"$f":"IF(F88=\"\",\"\",RANK($G88,$G$4:$G$103))","v":""}]
[null,86,{"$f":"IF(Results!C89=\"\",\"\",Results!C89)","v":""},{"$f":"IF(Results!D89=\"\",\"\",Results!D89)","v":""},{"$f":"IF(Results!E89=\"\",\"\",Results!E89)","v":""},{"$f":"IF(Results!F89=\"\",\"\",Results!F89)","v":""},{"$f":"IF(D89=\"\",\"\",SUM(D89:F89))","v":""},{"$f":"IF(F89=\"\",\"\",RANK($G89,$G$4:$G$103))","v":""}]
[null,87,{"$f":"IF(Results!C90=\"\",\"\",Results!C90)","v":""},{"$f":"IF(Results!D90=\"\",\"\",Results!D90)","v":""},{"$f":"IF(Results!E90=\"\",\"\",Results!E90)","v":""},{"$f":"IF(Results!F90=\"\",\"\",Results!F90)","v":""},{"$f":"IF(D90=\"\",\"\",SUM(D90:F90))","v":""},{"$f":"IF(F90=\"\",\"\",RANK($G90,$G$4:$G$103))","v":""}]
[null,88,{"$f":"IF(Results!C91=\"\",\"\",Results!C91)","v":""},{"$f":"IF(Results!D91=\"\",\"\",Results!D91)","v":""},{"$f":"IF(Results!E91=\"\",\"\",Results!E91)","v":""},{"$f":"IF(Results!F91=\"\",\"\",Results!F91)","v":""},{"$f":"IF(D91=\"\",\"\",SUM(D91:F91))","v":""},{"$f":"IF(F91=\"\",\"\",RANK($G91,$G$4:$G$103))","v":""}]
[null,89,{"$f":"IF(Results!C92=\"\",\"\",Results!C92)","v":""},{"$f":"IF(Results!D92=\"\",\"\",Results!D92)","v":""},{"$f":"IF(Results!E92=\"\",\"\",Results!E92)","v":""},{"$f":"IF(Results!F92=\"\",\"\",Results!F92)","v":""},{"$f":"IF(D92=\"\",\"\",SUM(D92:F92))","v":""},{"$f":"IF(F92=\"\",\"\",RANK($G92,$G$4:$G$103))","v":""}]
[null,90,{"$f":"IF(Results!C93=\"\",\"\",Results!C93)","v":""},{"$f":"IF(Results!D93=\"\",\"\",Results!D93)","v":""},{"$f":"IF(Results!E93=\"\",\"\",Results!E93)","v":""},{"$f":"IF(Results!F93=\"\",\"\",Results!F93)","v":""},{"$f":"IF(D93=\"\",\"\",SUM(D93:F93))","v":""},{"$f":"IF(F93=\"\",\"\",RANK($G93,$G$4:$G$103))","v":""}]
[null,91,{"$f":"IF(Results!C94=\"\",\"\",Results!C94)","v":""},{"$f":"IF(Results!D94=\"\",\"\",Results!D94)","v":""},{"$f":"IF(Results!E94=\"\",\"\",Results!E94)","v":""},{"$f":"IF(Results!F94=\"\",\"\",Results!F94)","v":""},{"$f":"IF(D94=\"\",\"\",SUM(D94:F94))","v":""},{"$f":"IF(F94=\"\",\"\",RANK($G94,$G$4:$G$103))","v":""}]
[null,92,{"$f":"IF(Results!C95=\"\",\"\",Results!C95)","v":""},{"$f":"IF(Results!D95=\"\",\"\",Results!D95)","v":""},{"$f":"IF(Results!E95=\"\",\"\",Results!E95)","v":""},{"$f":"IF(Results!F95=\"\",\"\",Results!F95)","v":""},{"$f":"IF(D95=\"\",\"\",SUM(D95:F95))","v":""},{"$f":"IF(F95=\"\",\"\",RANK($G95,$G$4:$G$103))","v":""}]
[null,93,{"$f":"IF(Results!C96=\"\",\"\",Results!C96)","v":""},{"$f":"IF(Results!D96=\"\",\"\",Results!D96)","v":""},{"$f":"IF(Results!E96=\"\",\"\",Results!E96)","v":""},{"$f":"IF(Results!F96=\"\",\"\",Results!F96)","v":""},{"$f":"IF(D96=\"\",\"\",SUM(D96:F96))","v":""},{"$f":"IF(F96=\"\",\"\",RANK($G96,$G$4:$G$103))","v":""}]
[null,94,{"$f":"IF(Results!C97=\"\",\"\",Results!C97)","v":""},{"$f":"IF(Results!D97=\"\",\"\",Results!D97)","v":""},{"$f":"IF(Results!E97=\"\",\"\",Results!E97)","v":""},{"$f":"IF(Results!F97=\"\",\"\",Results!F97)","v":""},{"$f":"IF(D97=\"\",\"\",SUM(D97:F97))","v":""},{"$f":"IF(F97=\"\",\"\",RANK($G97,$G$4:$G$103))","v":""}]
[null,95,{"$f":"IF(Results!C98=\"\",\"\",Results!C98)","v":""},{"$f":"IF(Results!D98=\"\",\"\",Results!D98)","v":""},{"$f":"IF(Results!E98=\"\",\"\",Results!E98)","v":""},{"$f":"IF(Results!F98=\"\",\"\",Results!F98)","v":""},{"$f":"IF(D98=\"\",\"\",SUM(D98:F98))","v":""},{"$f":"IF(F98=\"\",\"\",RANK($G98,$G$4:$G$103))","v":""}]
[null,96,{"$f":"IF(Results!C99=\"\",\"\",Results!C99)","v":""},{"$f":"IF(Results!D99=\"\",\"\",Results!D99)","v":""},{"$f":"IF(Results!E99=\"\",\"\",Results!E99)","v":""},{"$f":"IF(Results!F99=\"\",\"\",Results!F99)","v":""},{"$f":"IF(D99=\"\",\"\",SUM(D99:F99))","v":""},{"$f":"IF(F99=\"\",\"\",RANK($G99,$G$4:$G$103))","v":""}]
[null,97,{"$f":"IF(Results!C100=\"\",\"\",Results!C100)","v":""},{"$f":"IF(Results!D100=\"\",\"\",Results!D100)","v":""},{"$f":"IF(Results!E100=\"\",\"\",Results!E100)","v":""},{"$f":"IF(Results!F100=\"\",\"\",Results!F100)","v":""},{"$f":"IF(D100=\"\",\"\",SUM(D100:F100))","v":""},{"$f":"IF(F100=\"\",\"\",RANK($G100,$G$4:$G$103))","v":""}]
[null,98,{"$f":"IF(Results!C101=\"\",\"\",Results!C101)","v":""},{"$f":"IF(Results!D101=\"\",\"\",Results!D101)","v":""},{"$f":"IF(Results!E101=\"\",\"\",Results!E101)","v":""},{"$f":"IF(Results!F101=\"\",\"\",Results!F101)","v":""},{"$f":"IF(D101=\"\",\"\",SUM(D101:F101))","v":""},{"$f":"IF(F101=\"\",\"\",RANK($G101,$G$4:$G$103))","v":""}]
[null,99,{"$f":"IF(Results!C102=\"\",\"\",Results!C102)","v":""},{"$f":"IF(Results!D102=\"\",\"\",Results!D102)","v":""},{"$f":"IF(Results!E102=\"\",\"\",Results!E102)","v":""},{"$f":"IF(Results!F102=\"\",\"\",Results!F102)","v":""},{"$f":"IF(D102=\"\",\"\",SUM(D102:F102))","v":""},{"$f":"IF(F102=\"\",\"\",RANK($G102,$G$4:$G$103))","v":""}]
[null,100,{"$f":"IF(Results!C103=\"\",\"\",Results!C103)","v":""},{"$f":"IF(Results!D103=\"\",\"\",Results!D103)","v":""},{"$f":"IF(Results!E103=\"\",\"\",Results!E103)","v":""},{"$f":"IF(Results!F103=\"\",\"\",Results!F103)","v":""},{"$f":"IF(D103=\"\",\"\",SUM(D103:F103))","v":""},{"$f":"IF(F103=\"\",\"\",RANK($G103,$G$4:$G$103))","v":""}]

{"sheet":"Print","index":8,"n_rows":104,"n_cols":12,"rows_kept":104,"cut":false,"hidden":false,"merged":[[1,1,1,5],[0,1,0,5],[0,6,0,11],[1,7,1,11],[2,1,2,2],[2,3,2,5]]}
[null,{"$f":"Title!H9","v":"NAME OF COMPETITION"},null,null,null,null,{"$f":"Title!H11","v":"DESCRIPTION OF COMPETITION"}]
[null,{"$f":"Title!H15","v":"LOCATION"},null,null,null,null,null,{"$f":"Title!H16","v":"DATE"}]
[null,"OVER - JUDGE :",null,{"$f":"IF(Title!J13=\"\",\"\",Title!J13)","v":"NAME"}]
[null,"NO","NAME",{"$f":"IF(Group1!D2=\"\",\"\",Group1!D2)","v":"jersey"},{"$f":"IF(Group2!D2=\"\",\"\",Group2!D2)","v":"fresions"},{"$f":"IF(Group3!D2=\"\",\"\",Group3!D2)","v":""},{"$f":"IF(Group4!D2=\"\",\"\",Group4!D2)","v":""},"VISUAL TOTAL","HANDLING SCORE","ORAL SCORE","TOTAL SCORE","PLACE"]
[null,1,{"$f":"IF(Results!C4=\"\",\"\",Results!C4)","v":""},{"$f":"IF(Results!$C4=\"\",\"\",IF(Results!$H$2>=1,VALUE(VLOOKUP($B5,Group1!$I$4:$K$103,3)),0))","v":""},{"$f":"IF(Results!$C4=\"\",\"\",IF(Results!$H$2>=2,VALUE(VLOOKUP($B5,Group2!$I$4:$K$103,3)),0))","v":""},{"$f":"IF(Results!$C4=\"\",\"\",IF(Results!$H$2>=3,VALUE(VLOOKUP($B5,Group3!$I$4:$K$103,3)),0))","v":""},{"$f":"IF(Results!$C4=\"\",\"\",IF(Results!$H$2>=4,VALUE(VLOOKUP($B5,Group4!$I$4:$K$103,3)),0))","v":""},{"$f":"IF(Results!$C4=\"\",\"\",SUM(D5:G5))","v":""},{"$f":"IF(Results!E4=\"\",\"\",Results!E4)","v":""},{"$f":"IF(Results!F4=\"\",\"\",Results!F4)","v":""},{"$f":"IF(C5=\"\",\"\",SUM(H5:J5))","v":""},{"$f":"IF(Results!$I4=\"\",\"\",Results!$I4)","v":""}]
[null,2,{"$f":"IF(Results!C5=\"\",\"\",Results!C5)","v":""},{"$f":"IF(Results!$C5=\"\",\"\",IF(Results!$H$2>=1,VALUE(VLOOKUP($B6,Group1!$I$4:$K$103,3)),0))","v":""},{"$f":"IF(Results!$C5=\"\",\"\",IF(Results!$H$2>=2,VALUE(VLOOKUP($B6,Group2!$I$4:$K$103,3)),0))","v":""},{"$f":"IF(Results!$C5=\"\",\"\",IF(Results!$H$2>=3,VALUE(VLOOKUP($B6,Group3!$I$4:$K$103,3)),0))","v":""},{"$f":"IF(Results!$C5=\"\",\"\",IF(Results!$H$2>=4,VALUE(VLOOKUP($B6,Group4!$I$4:$K$103,3)),0))","v":""},{"$f":"IF(Results!$C5=\"\",\"\",SUM(D6:G6))","v":""},{"$f":"IF(Results!E5=\"\",\"\",Results!E5)","v":""},{"$f":"IF(Results!F5=\"\",\"\",Results!F5)","v":""},{"$f":"IF(C6=\"\",\"\",SUM(H6:J6))","v":""},{"$f":"IF(Results!$I5=\"\",\"\",Results!$I5)","v":""}]
[null,3,{"$f":"IF(Results!C6=\"\",\"\",Results!C6)","v":""},{"$f":"IF(Results!$C6=\"\",\"\",IF(Results!$H$2>=1,VALUE(VLOOKUP($B7,Group1!$I$4:$K$103,3)),0))","v":""},{"$f":"IF(Results!$C6=\"\",\"\",IF(Results!$H$2>=2,VALUE(VLOOKUP($B7,Group2!$I$4:$K$103,3)),0))","v":""},{"$f":"IF(Results!$C6=\"\",\"\",IF(Results!$H$2>=3,VALUE(VLOOKUP($B7,Group3!$I$4:$K$103,3)),0))","v":""},{"$f":"IF(Results!$C6=\"\",\"\",IF(Results!$H$2>=4,VALUE(VLOOKUP($B7,Group4!$I$4:$K$103,3)),0))","v":""},{"$f":"IF(Results!$C6=\"\",\"\",SUM(D7:G7))","v":""},{"$f":"IF(Results!E6=\"\",\"\",Results!E6)","v":""},{"$f":"IF(Results!F6=\"\",\"\",Results!F6)","v":""},"",{"$f":"IF(Results!$I6=\"\",\"\",Results!$I6)","v":""}]
[null,4,{"$f":"IF(Results!C7=\"\",\"\",Results!C7)","v":""},{"$f":"IF(Results!$C7=\"\",\"\",IF(Results!$H$2>=1,VALUE(VLOOKUP($B8,Group1!$I$4:$K$103,3)),0))","v":""},{"$f":"IF(Results!$C7=\"\",\"\",IF(Results!$H$2>=2,VALUE(VLOOKUP($B8,Group2!$I$4:$K$103,3)),0))","v":""},{"$f":"IF(Results!$C7=\"\",\"\",IF(Results!$H$2>=3,VALUE(VLOOKUP($B8,Group3!$I$4:$K$103,3)),0))","v":""},{"$f":"IF(Results!$C7=\"\",\"\",IF(Results!$H$2>=4,VALUE(VLOOKUP($B8,Group4!$I$4:$K$103,3)),0))","v":""},{"$f":"IF(Results!$C7=\"\",\"\",SUM(D8:G8))","v":""},{"$f":"IF(Results!E7=\"\",\"\",Results!E7)","v":""},{"$f":"IF(Results!F7=\"\",\"\",Results!F7)","v":""},"",{"$f":"IF(Results!$I7=\"\",\"\",Results!$I7)","v":""}]
[null,5,{"$f":"IF(Results!C8=\"\",\"\",Results!C8)","v":""},{"$f":"IF(Results!$C8=\"\",\"\",IF(Results!$H$2>=1,VALUE(VLOOKUP($B9,Group1!$I$4:$K$103,3)),0))","v":""},{"$f":"IF(Results!$C8=\"\",\"\",IF(Results!$H$2>=2,VALUE(VLOOKUP($B9,Group2!$I$4:$K$103,3)),0))","v":""},{"$f":"IF(Results!$C8=\"\",\"\",IF(Results!$H$2>=3,VALUE(VLOOKUP($B9,Group3!$I$4:$K$103,3)),0))","v":""},{"$f":"IF(Results!$C8=\"\",\"\",IF(Results!$H$2>=4,VALUE(VLOOKUP($B9,Group4!$I$4:$K$103,3)),0))","v":""},{"$f":"IF(Results!$C8=\"\",\"\",SUM(D9:G9))","v":""},{"$f":"IF(Results!E8=\"\",\"\",Results!E8)","v":""},{"$f":"IF(Results!F8=\"\",\"\",Results!F8)","v":""},"",{"$f":"IF(Results!$I8=\"\",\"\",Results!$I8)","v":""}]
[null,6,{"$f":"IF(Results!C9=\"\",\"\",Results!C9)","v":""},{"$f":"IF(Results!$C9=\"\",\"\",IF(Results!$H$2>=1,VALUE(VLOOKUP($B10,Group1!$I$4:$K$103,3)),0))","v":""},{"$f":"IF(Results!$C9=\"\",\"\",IF(Results!$H$2>=2,VALUE(VLOOKUP($B10,Group2!$I$4:$K$103,3)),0))","v":""},{"$f":"IF(Results!$C9=\"\",\"\",IF(Results!$H$2>=3,VALUE(VLOOKUP($B10,Group3!$I$4:$K$103,3)),0))","v":""},{"$f":"IF(Results!$C9=\"\",\"\",IF(Results!$H$2>=4,VALUE(VLOOKUP($B10,Group4!$I$4:$K$103,3)),0))","v":""},{"$f":"IF(Results!$C9=\"\",\"\",SUM(D10:G10))","v":""},{"$f":"IF(Results!E9=\"\",\"\",Results!E9)","v":""},{"$f":"IF(Results!F9=\"\",\"\",Results!F9)","v":""},"",{"$f":"IF(Results!$I9=\"\",\"\",Results!$I9)","v":""}]
[null,7,{"$f":"IF(Results!C10=\"\",\"\",Results!C10)","v":""},{"$f":"IF(Results!$C10=\"\",\"\",IF(Results!$H$2>=1,VALUE(VLOOKUP($B11,Group1!$I$4:$K$103,3)),0))","v":""},{"$f":"IF(Results!$C10=\"\",\"\",IF(Results!$H$2>=2,VALUE(VLOOKUP($B11,Group2!$I$4:$K$103,3)),0))","v":""},{"$f":"IF(Results!$C10=\"\",\"\",IF(Results!$H$2>=3,VALUE(VLOOKUP($B11,Group3!$I$4:$K$103,3)),0))","v":""},{"$f":"IF(Results!$C10=\"\",\"\",IF(Results!$H$2>=4,VALUE(VLOOKUP($B11,Group4!$I$4:$K$103,3)),0))","v":""},{"$f":"IF(Results!$C10=\"\",\"\",SUM(D11:G11))","v":""},{"$f":"IF(Results!E10=\"\",\"\",Results!E10)","v":""},{"$f":"IF(Results!F10=\"\",\"\",Results!F10)","v":""},"",{"$f":"IF(Results!$I10=\"\",\"\",Results!$I10)","v":""}]
[null,8,{"$f":"IF(Results!C11=\"\",\"\",Results!C11)","v":""},{"$f":"IF(Results!$C11=\"\",\"\",IF(Results!$H$2>=1,VALUE(VLOOKUP($B12,Group1!$I$4:$K$103,3)),0))","v":""},{"$f":"IF(Results!$C11=\"\",\"\",IF(Results!$H$2>=2,VALUE(VLOOKUP($B12,Group2!$I$4:$K$103,3)),0))","v":""},{"$f":"IF(Results!$C11=\"\",\"\",IF(Results!$H$2>=3,VALUE(VLOOKUP($B12,Group3!$I$4:$K$103,3)),0))","v":""},{"$f":"IF(Results!$C11=\"\",\"\",IF(Results!$H$2>=4,VALUE(VLOOKUP($B12,Group4!$I$4:$K$103,3)),0))","v":""},{"$f":"IF(Results!$C11=\"\",\"\",SUM(D12:G12))","v":""},{"$f":"IF(Results!E11=\"\",\"\",Results!E11)","v":""},{"$f":"IF(Results!F11=\"\",\"\",Results!F11)","v":""},"",{"$f":"IF(Results!$I11=\"\",\"\",Results!$I11)","v":""}]
[null,9,{"$f":"IF(Results!C12=\"\",\"\",Results!C12)","v":""},{"$f":"IF(Results!$C12=\"\",\"\",IF(Results!$H$2>=1,VALUE(VLOOKUP($B13,Group1!$I$4:$K$103,3)),0))","v":""},{"$f":"IF(Results!$C12=\"\",\"\",IF(Results!$H$2>=2,VALUE(VLOOKUP($B13,Group2!$I$4:$K$103,3)),0))","v":""},{"$f":"IF(Results!$C12=\"\",\"\",IF(Results!$H$2>=3,VALUE(VLOOKUP($B13,Group3!$I$4:$K$103,3)),0))","v":""},{"$f":"IF(Results!$C12=\"\",\"\",IF(Results!$H$2>=4,VALUE(VLOOKUP($B13,Group4!$I$4:$K$103,3)),0))","v":""},{"$f":"IF(Results!$C12=\"\",\"\",SUM(D13:G13))","v":""},{"$f":"IF(Results!E12=\"\",\"\",Results!E12)","v":""},{"$f":"IF(Results!F12=\"\",\"\",Results!F12)","v":""},"",{"$f":"IF(Results!$I12=\"\",\"\",Results!$I12)","v":""}]
[null,10,{"$f":"IF(Results!C13=\"\",\"\",Results!C13)","v":""},{"$f":"IF(Results!$C13=\"\",\"\",IF(Results!$H$2>=1,VALUE(VLOOKUP($B14,Group1!$I$4:$K$103,3)),0))","v":""},{"$f":"IF(Results!$C13=\"\",\"\",IF(Results!$H$2>=2,VALUE(VLOOKUP($B14,Group2!$I$4:$K$103,3)),0))","v":""},{"$f":"IF(Results!$C13=\"\",\"\",IF(Results!$H$2>=3,VALUE(VLOOKUP($B14,Group3!$I$4:$K$103,3)),0))","v":""},{"$f":"IF(Results!$C13=\"\",\"\",IF(Results!$H$2>=4,VALUE(VLOOKUP($B14,Group4!$I$4:$K$103,3)),0))","v":""},{"$f":"IF(Results!$C13=\"\",\"\",SUM(D14:G14))","v":""},{"$f":"IF(Results!E13=\"\",\"\",Results!E13)","v":""},{"$f":"IF(Results!F13=\"\",\"\",Results!F13)","v":""},"",{"$f":"IF(Results!$I13=\"\",\"\",Results!$I13)","v":""}]
[null,11,{"$f":"IF(Results!C14=\"\",\"\",Results!C14)","v":""},{"$f":"IF(Results!$C14=\"\",\"\",IF(Results!$H$2>=1,VALUE(VLOOKUP($B15,Group1!$I$4:$K$103,3)),0))","v":""},{"$f":"IF(Results!$C14=\"\",\"\",IF(Results!$H$2>=2,VALUE(VLOOKUP($B15,Group2!$I$4:$K$103,3)),0))","v":""},{"$f":"IF(Results!$C14=\"\",\"\",IF(Results!$H$2>=3,VALUE(VLOOKUP($B15,Group3!$I$4:$K$103,3)),0))","v":""},{"$f":"IF(Results!$C14=\"\",\"\",IF(Results!$H$2>=4,VALUE(VLOOKUP($B15,Group4!$I$4:$K$103,3)),0))","v":""},{"$f":"IF(Results!$C14=\"\",\"\",SUM(D15:G15))","v":""},{"$f":"IF(Results!E14=\"\",\"\",Results!E14)","v":""},{"$f":"IF(Results!F14=\"\",\"\",Results!F14)","v":""},"",{"$f":"IF(Results!$I14=\"\",\"\",Results!$I14)","v":""}]
[null,12,{"$f":"IF(Results!C15=\"\",\"\",Results!C15)","v":""},{"$f":"IF(Results!$C15=\"\",\"\",IF(Results!$H$2>=1,VALUE(VLOOKUP($B16,Group1!$I$4:$K$103,3)),0))","v":""},{"$f":"IF(Results!$C15=\"\",\"\",IF(Results!$H$2>=2,VALUE(VLOOKUP($B16,Group2!$I$4:$K$103,3)),0))","v":""},{"$f":"IF(Results!$C15=\"\",\"\",IF(Results!$H$2>=3,VALUE(VLOOKUP($B16,Group3!$I$4:$K$103,3)),0))","v":""},{"$f":"IF(Results!$C15=\"\",\"\",IF(Results!$H$2>=4,VALUE(VLOOKUP($B16,Group4!$I$4:$K$103,3)),0))","v":""},{"$f":"IF(Results!$C15=\"\",\"\",SUM(D16:G16))","v":""},{"$f":"IF(Results!E15=\"\",\"\",Results!E15)","v":""},{"$f":"IF(Results!F15=\"\",\"\",Results!F15)","v":""},"",{"$f":"IF(Results!$I15=\"\",\"\",Results!$I15)","v":""}]
[null,13,{"$f":"IF(Results!C16=\"\",\"\",Results!C16)","v":""},{"$f":"IF(Results!$C16=\"\",\"\",IF(Results!$H$2>=1,VALUE(VLOOKUP($B17,Group1!$I$4:$K$103,3)),0))","v":""},{"$f":"IF(Results!$C16=\"\",\"\",IF(Results!$H$2>=2,VALUE(VLOOKUP($B17,Group2!$I$4:$K$103,3)),0))","v":""},{"$f":"IF(Results!$C16=\"\",\"\",IF(Results!$H$2>=3,VALUE(VLOOKUP($B17,Group3!$I$4:$K$103,3)),0))","v":""},{"$f":"IF(Results!$C16=\"\",\"\",IF(Results!$H$2>=4,VALUE(VLOOKUP($B17,Group4!$I$4:$K$103,3)),0))","v":""},{"$f":"IF(Results!$C16=\"\",\"\",SUM(D17:G17))","v":""},{"$f":"IF(Results!E16=\"\",\"\",Results!E16)","v":""},{"$f":"IF(Results!F16=\"\",\"\",Results!F16)","v":""},"",{"$f":"IF(Results!$I16=\"\",\"\",Results!$I16)","v":""}]
[null,14,{"$f":"IF(Results!C17=\"\",\"\",Results!C17)","v":""},{"$f":"IF(Results!$C17=\"\",\"\",IF(Results!$H$2>=1,VALUE(VLOOKUP($B18,Group1!$I$4:$K$103,3)),0))","v":""},{"$f":"IF(Results!$C17=\"\",\"\",IF(Results!$H$2>=2,VALUE(VLOOKUP($B18,Group2!$I$4:$K$103,3)),0))","v":""},{"$f":"IF(Results!$C17=\"\",\"\",IF(Results!$H$2>=3,VALUE(VLOOKUP($B18,Group3!$I$4:$K$103,3)),0))","v":""},{"$f":"IF(Results!$C17=\"\",\"\",IF(Results!$H$2>=4,VALUE(VLOOKUP($B18,Group4!$I$4:$K$103,3)),0))","v":""},{"$f":"IF(Results!$C17=\"\",\"\",SUM(D18:G18))","v":""},{"$f":"IF(Results!E17=\"\",\"\",Results!E17)","v":""},{"$f":"IF(Results!F17=\"\",\"\",Results!F17)","v":""},"",{"$f":"IF(Results!$I17=\"\",\"\",Results!$I17)","v":""}]
[null,15,{"$f":"IF(Results!C18=\"\",\"\",Results!C18)","v":""},{"$f":"IF(Results!$C18=\"\",\"\",IF(Results!$H$2>=1,VALUE(VLOOKUP($B19,Group1!$I$4:$K$103,3)),0))","v":""},{"$f":"IF(Results!$C18=\"\",\"\",IF(Results!$H$2>=2,VALUE(VLOOKUP($B19,Group2!$I$4:$K$103,3)),0))","v":""},{"$f":"IF(Results!$C18=\"\",\"\",IF(Results!$H$2>=3,VALUE(VLOOKUP($B19,Group3!$I$4:$K$103,3)),0))","v":""},{"$f":"IF(Results!$C18=\"\",\"\",IF(Results!$H$2>=4,VALUE(VLOOKUP($B19,Group4!$I$4:$K$103,3)),0))","v":""},{"$f":"IF(Results!$C18=\"\",\"\",SUM(D19:G19))","v":""},{"$f":"IF(Results!E18=\"\",\"\",Results!E18)","v":""},{"$f":"IF(Results!F18=\"\",\"\",Results!F18)","v":""},"",{"$f":"IF(Results!$I18=\"\",\"\",Results!$I18)","v":""}]
[null,16,{"$f":"IF(Results!C19=\"\",\"\",Results!C19)","v":""},{"$f":"IF(Results!$C19=\"\",\"\",IF(Results!$H$2>=1,VALUE(VLOOKUP($B20,Group1!$I$4:$K$103,3)),0))","v":""},{"$f":"IF(Results!$C19=\"\",\"\",IF(Results!$H$2>=2,VALUE(VLOOKUP($B20,Group2!$I$4:$K$103,3)),0))","v":""},{"$f":"IF(Results!$C19=\"\",\"\",IF(Results!$H$2>=3,VALUE(VLOOKUP($B20,Group3!$I$4:$K$103,3)),0))","v":""},{"$f":"IF(Results!$C19=\"\",\"\",IF(Results!$H$2>=4,VALUE(VLOOKUP($B20,Group4!$I$4:$K$103,3)),0))","v":""},{"$f":"IF(Results!$C19=\"\",\"\",SUM(D20:G20))","v":""},{"$f":"IF(Results!E19=\"\",\"\",Results!E19)","v":""},{"$f":"IF(Results!F19=\"\",\"\",Results!F19)","v":""},"",{"$f":"IF(Results!$I19=\"\",\"\",Results!$I19)","v":""}]
[null,17,{"$f":"IF(Results!C20=\"\",\"\",Results!C20)","v":""},{"$f":"IF(Results!$C20=\"\",\"\",IF(Results!$H$2>=1,VALUE(VLOOKUP($B21,Group1!$I$4:$K$103,3)),0))","v":""},{"$f":"IF(Results!$C20=\"\",\"\",IF(Results!$H$2>=2,VALUE(VLOOKUP($B21,Group2!$I$4:$K$103,3)),0))","v":""},{"$f":"IF(Results!$C20=\"\",\"\",IF(Results!$H$2>=3,VALUE(VLOOKUP($B21,Group3!$I$4:$K$103,3)),0))","v":""},{"$f":"IF(Results!$C20=\"\",\"\",IF(Results!$H$2>=4,VALUE(VLOOKUP($B21,Group4!$I$4:$K$103,3)),0))","v":""},{"$f":"IF(Results!$C20=\"\",\"\",SUM(D21:G21))","v":""},{"$f":"IF(Results!E20=\"\",\"\",Results!E20)","v":""},{"$f":"IF(Results!F20=\"\",\"\",Results!F20)","v":""},"",{"$f":"IF(Results!$I20=\"\",\"\",Results!$I20)","v":""}]
[null,18,{"$f":"IF(Results!C21=\"\",\"\",Results!C21)","v":""},{"$f":"IF(Results!$C21=\"\",\"\",IF(Results!$H$2>=1,VALUE(VLOOKUP($B22,Group1!$I$4:$K$103,3)),0))","v":""},{"$f":"IF(Results!$C21=\"\",\"\",IF(Results!$H$2>=2,VALUE(VLOOKUP($B22,Group2!$I$4:$K$103,3)),0))","v":""},{"$f":"IF(Results!$C21=\"\",\"\",IF(Results!$H$2>=3,VALUE(VLOOKUP($B22,Group3!$I$4:$K$103,3)),0))","v":""},{"$f":"IF(Results!$C21=\"\",\"\",IF(Results!$H$2>=4,VALUE(VLOOKUP($B22,Group4!$I$4:$K$103,3)),0))","v":""},{"$f":"IF(Results!$C21=\"\",\"\",SUM(D22:G22))","v":""},{"$f":"IF(Results!E21=\"\",\"\",Results!E21)","v":""},{"$f":"IF(Results!F21=\"\",\"\",Results!F21)","v":""},"",{"$f":"IF(Results!$I21=\"\",\"\",Results!$I21)","v":""}]
[null,19,{"$f":"IF(Results!C22=\"\",\"\",Results!C22)","v":""},{"$f":"IF(Results!$C22=\"\",\"\",IF(Results!$H$2>=1,VALUE(VLOOKUP($B23,Group1!$I$4:$K$103,3)),0))","v":""},{"$f":"IF(Results!$C22=\"\",\"\",IF(Results!$H$2>=2,VALUE(VLOOKUP($B23,Group2!$I$4:$K$103,3)),0))","v":""},{"$f":"IF(Results!$C22=\"\",\"\",IF(Results!$H$2>=3,VALUE(VLOOKUP($B23,Group3!$I$4:$K$103,3)),0))","v":""},{"$f":"IF(Results!$C22=\"\",\"\",IF(Results!$H$2>=4,VALUE(VLOOKUP($B23,Group4!$I$4:$K$103,3)),0))","v":""},{"$f":"IF(Results!$C22=\"\",\"\",SUM(D23:G23))","v":""},{"$f":"IF(Results!E22=\"\",\"\",Results!E22)","v":""},{"$f":"IF(Results!F22=\"\",\"\",Results!F22)","v":""},"",{"$f":"IF(Results!$I22=\"\",\"\",Results!$I22)","v":""}]
[null,20,{"$f":"IF(Results!C23=\"\",\"\",Results!C23)","v":""},{"$f":"IF(Results!$C23=\"\",\"\",IF(Results!$H$2>=1,VALUE(VLOOKUP($B24,Group1!$I$4:$K$103,3)),0))","v":""},{"$f":"IF(Results!$C23=\"\",\"\",IF(Results!$H$2>=2,VALUE(VLOOKUP($B24,Group2!$I$4:$K$103,3)),0))","v":""},{"$f":"IF(Results!$C23=\"\",\"\",IF(Results!$H$2>=3,VALUE(VLOOKUP($B24,Group3!$I$4:$K$103,3)),0))","v":""},{"$f":"IF(Results!$C23=\"\",\"\",IF(Results!$H$2>=4,VALUE(VLOOKUP($B24,Group4!$I$4:$K$103,3)),0))","v":""},{"$f":"IF(Results!$C23=\"\",\"\",SUM(D24:G24))","v":""},{"$f":"IF(Results!E23=\"\",\"\",Results!E23)","v":""},{"$f":"IF(Results!F23=\"\",\"\",Results!F23)","v":""},"",{"$f":"IF(Results!$I23=\"\",\"\",Results!$I23)","v":""}]
[null,21,{"$f":"IF(Results!C24=\"\",\"\",Results!C24)","v":""},{"$f":"IF(Results!$C24=\"\",\"\",IF(Results!$H$2>=1,VALUE(VLOOKUP($B25,Group1!$I$4:$K$103,3)),0))","v":""},{"$f":"IF(Results!$C24=\"\",\"\",IF(Results!$H$2>=2,VALUE(VLOOKUP($B25,Group2!$I$4:$K$103,3)),0))","v":""},{"$f":"IF(Results!$C24=\"\",\"\",IF(Results!$H$2>=3,VALUE(VLOOKUP($B25,Group3!$I$4:$K$103,3)),0))","v":""},{"$f":"IF(Results!$C24=\"\",\"\",IF(Results!$H$2>=4,VALUE(VLOOKUP($B25,Group4!$I$4:$K$103,3)),0))","v":""},{"$f":"IF(Results!$C24=\"\",\"\",SUM(D25:G25))","v":""},{"$f":"IF(Results!E24=\"\",\"\",Results!E24)","v":""},{"$f":"IF(Results!F24=\"\",\"\",Results!F24)","v":""},"",{"$f":"IF(Results!$I24=\"\",\"\",Results!$I24)","v":""}]
[null,22,{"$f":"IF(Results!C25=\"\",\"\",Results!C25)","v":""},{"$f":"IF(Results!$C25=\"\",\"\",IF(Results!$H$2>=1,VALUE(VLOOKUP($B26,Group1!$I$4:$K$103,3)),0))","v":""},{"$f":"IF(Results!$C25=\"\",\"\",IF(Results!$H$2>=2,VALUE(VLOOKUP($B26,Group2!$I$4:$K$103,3)),0))","v":""},{"$f":"IF(Results!$C25=\"\",\"\",IF(Results!$H$2>=3,VALUE(VLOOKUP($B26,Group3!$I$4:$K$103,3)),0))","v":""},{"$f":"IF(Results!$C25=\"\",\"\",IF(Results!$H$2>=4,VALUE(VLOOKUP($B26,Group4!$I$4:$K$103,3)),0))","v":""},{"$f":"IF(Results!$C25=\"\",\"\",SUM(D26:G26))","v":""},{"$f":"IF(Results!E25=\"\",\"\",Results!E25)","v":""},{"$f":"IF(Results!F25=\"\",\"\",Results!F25)","v":""},"",{"$f":"IF(Results!$I25=\"\",\"\",Results!$I25)","v":""}]
[null,23,{"$f":"IF(Results!C26=\"\",\"\",Results!C26)","v":""},{"$f":"IF(Results!$C26=\"\",\"\",IF(Results!$H$2>=1,VALUE(VLOOKUP($B27,Group1!$I$4:$K$103,3)),0))","v":""},{"$f":"IF(Results!$C26=\"\",\"\",IF(Results!$H$2>=2,VALUE(VLOOKUP($B27,Group2!$I$4:$K$103,3)),0))","v":""},{"$f":"IF(Results!$C26=\"\",\"\",IF(Results!$H$2>=3,VALUE(VLOOKUP($B27,Group3!$I$4:$K$103,3)),0))","v":""},{"$f":"IF(Results!$C26=\"\",\"\",IF(Results!$H$2>=4,VALUE(VLOOKUP($B27,Group4!$I$4:$K$103,3)),0))","v":""},{"$f":"IF(Results!$C26=\"\",\"\",SUM(D27:G27))","v":""},{"$f":"IF(Results!E26=\"\",\"\",Results!E26)","v":""},{"$f":"IF(Results!F26=\"\",\"\",Results!F26)","v":""},"",{"$f":"IF(Results!$I26=\"\",\"\",Results!$I26)","v":""}]
[null,24,{"$f":"IF(Results!C27=\"\",\"\",Results!C27)","v":""},{"$f":"IF(Results!$C27=\"\",\"\",IF(Results!$H$2>=1,VALUE(VLOOKUP($B28,Group1!$I$4:$K$103,3)),0))","v":""},{"$f":"IF(Results!$C27=\"\",\"\",IF(Results!$H$2>=2,VALUE(VLOOKUP($B28,Group2!$I$4:$K$103,3)),0))","v":""},{"$f":"IF(Results!$C27=\"\",\"\",IF(Results!$H$2>=3,VALUE(VLOOKUP($B28,Group3!$I$4:$K$103,3)),0))","v":""},{"$f":"IF(Results!$C27=\"\",\"\",IF(Results!$H$2>=4,VALUE(VLOOKUP($B28,Group4!$I$4:$K$103,3)),0))","v":""},{"$f":"IF(Results!$C27=\"\",\"\",SUM(D28:G28))","v":""},{"$f":"IF(Results!E27=\"\",\"\",Results!E27)","v":""},{"$f":"IF(Results!F27=\"\",\"\",Results!F27)","v":""},"",{"$f":"IF(Results!$I27=\"\",\"\",Results!$I27)","v":""}]
[null,25,{"$f":"IF(Results!C28=\"\",\"\",Results!C28)","v":""},{"$f":"IF(Results!$C28=\"\",\"\",IF(Results!$H$2>=1,VALUE(VLOOKUP($B29,Group1!$I$4:$K$103,3)),0))","v":""},{"$f":"IF(Results!$C28=\"\",\"\",IF(Results!$H$2>=2,VALUE(VLOOKUP($B29,Group2!$I$4:$K$103,3)),0))","v":""},{"$f":"IF(Results!$C28=\"\",\"\",IF(Results!$H$2>=3,VALUE(VLOOKUP($B29,Group3!$I$4:$K$103,3)),0))","v":""},{"$f":"IF(Results!$C28=\"\",\"\",IF(Results!$H$2>=4,VALUE(VLOOKUP($B29,Group4!$I$4:$K$103,3)),0))","v":""},{"$f":"IF(Results!$C28=\"\",\"\",SUM(D29:G29))","v":""},{"$f":"IF(Results!E28=\"\",\"\",Results!E28)","v":""},{"$f":"IF(Results!F28=\"\",\"\",Results!F28)","v":""},"",{"$f":"IF(Results!$I28=\"\",\"\",Results!$I28)","v":""}]
[null,26,{"$f":"IF(Results!C29=\"\",\"\",Results!C29)","v":""},{"$f":"IF(Results!$C29=\"\",\"\",IF(Results!$H$2>=1,VALUE(VLOOKUP($B30,Group1!$I$4:$K$103,3)),0))","v":""},{"$f":"IF(Results!$C29=\"\",\"\",IF(Results!$H$2>=2,VALUE(VLOOKUP($B30,Group2!$I$4:$K$103,3)),0))","v":""},{"$f":"IF(Results!$C29=\"\",\"\",IF(Results!$H$2>=3,VALUE(VLOOKUP($B30,Group3!$I$4:$K$103,3)),0))","v":""},{"$f":"IF(Results!$C29=\"\",\"\",IF(Results!$H$2>=4,VALUE(VLOOKUP($B30,Group4!$I$4:$K$103,3)),0))","v":""},{"$f":"IF(Results!$C29=\"\",\"\",SUM(D30:G30))","v":""},{"$f":"IF(Results!E29=\"\",\"\",Results!E29)","v":""},{"$f":"IF(Results!F29=\"\",\"\",Results!F29)","v":""},"",{"$f":"IF(Results!$I29=\"\",\"\",Results!$I29)","v":""}]
[null,27,{"$f":"IF(Results!C30=\"\",\"\",Results!C30)","v":""},{"$f":"IF(Results!$C30=\"\",\"\",IF(Results!$H$2>=1,VALUE(VLOOKUP($B31,Group1!$I$4:$K$103,3)),0))","v":""},{"$f":"IF(Results!$C30=\"\",\"\",IF(Results!$H$2>=2,VALUE(VLOOKUP($B31,Group2!$I$4:$K$103,3)),0))","v":""},{"$f":"IF(Results!$C30=\"\",\"\",IF(Results!$H$2>=3,VALUE(VLOOKUP($B31,Group3!$I$4:$K$103,3)),0))","v":""},{"$f":"IF(Results!$C30=\"\",\"\",IF(Results!$H$2>=4,VALUE(VLOOKUP($B31,Group4!$I$4:$K$103,3)),0))","v":""},{"$f":"IF(Results!$C30=\"\",\"\",SUM(D31:G31))","v":""},{"$f":"IF(Results!E30=\"\",\"\",Results!E30)","v":""},{"$f":"IF(Results!F30=\"\",\"\",Results!F30)","v":""},"",{"$f":"IF(Results!$I30=\"\",\"\",Results!$I30)","v":""}]
[null,28,{"$f":"IF(Results!C31=\"\",\"\",Results!C31)","v":""},{"$f":"IF(Results!$C31=\"\",\"\",IF(Results!$H$2>=1,VALUE(VLOOKUP($B32,Group1!$I$4:$K$103,3)),0))","v":""},{"$f":"IF(Results!$C31=\"\",\"\",IF(Results!$H$2>=2,VALUE(VLOOKUP($B32,Group2!$I$4:$K$103,3)),0))","v":""},{"$f":"IF(Results!$C31=\"\",\"\",IF(Results!$H$2>=3,VALUE(VLOOKUP($B32,Group3!$I$4:$K$103,3)),0))","v":""},{"$f":"IF(Results!$C31=\"\",\"\",IF(Results!$H$2>=4,VALUE(VLOOKUP($B32,Group4!$I$4:$K$103,3)),0))","v":""},{"$f":"IF(Results!$C31=\"\",\"\",SUM(D32:G32))","v":""},{"$f":"IF(Results!E31=\"\",\"\",Results!E31)","v":""},{"$f":"IF(Results!F31=\"\",\"\",Results!F31)","v":""},"",{"$f":"IF(Results!$I31=\"\",\"\",Results!$I31)","v":""}]
[null,29,{"$f":"IF(Results!C32=\"\",\"\",Results!C32)","v":""},{"$f":"IF(Results!$C32=\"\",\"\",IF(Results!$H$2>=1,VALUE(VLOOKUP($B33,Group1!$I$4:$K$103,3)),0))","v":""},{"$f":"IF(Results!$C32=\"\",\"\",IF(Results!$H$2>=2,VALUE(VLOOKUP($B33,Group2!$I$4:$K$103,3)),0))","v":""},{"$f":"IF(Results!$C32=\"\",\"\",IF(Results!$H$2>=3,VALUE(VLOOKUP($B33,Group3!$I$4:$K$103,3)),0))","v":""},{"$f":"IF(Results!$C32=\"\",\"\",IF(Results!$H$2>=4,VALUE(VLOOKUP($B33,Group4!$I$4:$K$103,3)),0))","v":""},{"$f":"IF(Results!$C32=\"\",\"\",SUM(D33:G33))","v":""},{"$f":"IF(Results!E32=\"\",\"\",Results!E32)","v":""},{"$f":"IF(Results!F32=\"\",\"\",Results!F32)","v":""},"",{"$f":"IF(Results!$I32=\"\",\"\",Results!$I32)","v":""}]
[null,30,{"$f":"IF(Results!C33=\"\",\"\",Results!C33)","v":""},{"$f":"IF(Results!$C33=\"\",\"\",IF(Results!$H$2>=1,VALUE(VLOOKUP($B34,Group1!$I$4:$K$103,3)),0))","v":""},{"$f":"IF(Results!$C33=\"\",\"\",IF(Results!$H$2>=2,VALUE(VLOOKUP($B34,Group2!$I$4:$K$103,3)),0))","v":""},{"$f":"IF(Results!$C33=\"\",\"\",IF(Results!$H$2>=3,VALUE(VLOOKUP($B34,Group3!$I$4:$K$103,3)),0))","v":""},{"$f":"IF(Results!$C33=\"\",\"\",IF(Results!$H$2>=4,VALUE(VLOOKUP($B34,Group4!$I$4:$K$103,3)),0))","v":""},{"$f":"IF(Results!$C33=\"\",\"\",SUM(D34:G34))","v":""},{"$f":"IF(Results!E33=\"\",\"\",Results!E33)","v":""},{"$f":"IF(Results!F33=\"\",\"\",Results!F33)","v":""},"",{"$f":"IF(Results!$I33=\"\",\"\",Results!$I33)","v":""}]
[null,31,{"$f":"IF(Results!C34=\"\",\"\",Results!C34)","v":""},{"$f":"IF(Results!$C34=\"\",\"\",IF(Results!$H$2>=1,VALUE(VLOOKUP($B35,Group1!$I$4:$K$103,3)),0))","v":""},{"$f":"IF(Results!$C34=\"\",\"\",IF(Results!$H$2>=2,VALUE(VLOOKUP($B35,Group2!$I$4:$K$103,3)),0))","v":""},{"$f":"IF(Results!$C34=\"\",\"\",IF(Results!$H$2>=3,VALUE(VLOOKUP($B35,Group3!$I$4:$K$103,3)),0))","v":""},{"$f":"IF(Results!$C34=\"\",\"\",IF(Results!$H$2>=4,VALUE(VLOOKUP($B35,Group4!$I$4:$K$103,3)),0))","v":""},{"$f":"IF(Results!$C34=\"\",\"\",SUM(D35:G35))","v":""},{"$f":"IF(Results!E34=\"\",\"\",Results!E34)","v":""},{"$f":"IF(Results!F34=\"\",\"\",Results!F34)","v":""},{"$f":"IF(C35=\"\",\"\",SUM(H35:J35))","v":""},{"$f":"IF(Results!$I34=\"\",\"\",Results!$I34)","v":""}]
[null,32,{"$f":"IF(Results!C35=\"\",\"\",Results!C35)","v":""},{"$f":"IF(Results!$C35=\"\",\"\",IF(Results!$H$2>=1,VALUE(VLOOKUP($B36,Group1!$I$4:$K$103,3)),0))","v":""},{"$f":"IF(Results!$C35=\"\",\"\",IF(Results!$H$2>=2,VALUE(VLOOKUP($B36,Group2!$I$4:$K$103,3)),0))","v":""},{"$f":"IF(Results!$C35=\"\",\"\",IF(Results!$H$2>=3,VALUE(VLOOKUP($B36,Group3!$I$4:$K$103,3)),0))","v":""},{"$f":"IF(Results!$C35=\"\",\"\",IF(Results!$H$2>=4,VALUE(VLOOKUP($B36,Group4!$I$4:$K$103,3)),0))","v":""},{"$f":"IF(Results!$C35=\"\",\"\",SUM(D36:G36))","v":""},{"$f":"IF(Results!E35=\"\",\"\",Results!E35)","v":""},{"$f":"IF(Results!F35=\"\",\"\",Results!F35)","v":""},"",{"$f":"IF(Results!$I35=\"\",\"\",Results!$I35)","v":""}]
[null,33,{"$f":"IF(Results!C36=\"\",\"\",Results!C36)","v":""},{"$f":"IF(Results!$C36=\"\",\"\",IF(Results!$H$2>=1,VALUE(VLOOKUP($B37,Group1!$I$4:$K$103,3)),0))","v":""},{"$f":"IF(Results!$C36=\"\",\"\",IF(Results!$H$2>=2,VALUE(VLOOKUP($B37,Group2!$I$4:$K$103,3)),0))","v":""},{"$f":"IF(Results!$C36=\"\",\"\",IF(Results!$H$2>=3,VALUE(VLOOKUP($B37,Group3!$I$4:$K$103,3)),0))","v":""},{"$f":"IF(Results!$C36=\"\",\"\",IF(Results!$H$2>=4,VALUE(VLOOKUP($B37,Group4!$I$4:$K$103,3)),0))","v":""},{"$f":"IF(Results!$C36=\"\",\"\",SUM(D37:G37))","v":""},{"$f":"IF(Results!E36=\"\",\"\",Results!E36)","v":""},{"$f":"IF(Results!F36=\"\",\"\",Results!F36)","v":""},"",{"$f":"IF(Results!$I36=\"\",\"\",Results!$I36)","v":""}]
[null,34,{"$f":"IF(Results!C37=\"\",\"\",Results!C37)","v":""},{"$f":"IF(Results!$C37=\"\",\"\",IF(Results!$H$2>=1,VALUE(VLOOKUP($B38,Group1!$I$4:$K$103,3)),0))","v":""},{"$f":"IF(Results!$C37=\"\",\"\",IF(Results!$H$2>=2,VALUE(VLOOKUP($B38,Group2!$I$4:$K$103,3)),0))","v":""},{"$f":"IF(Results!$C37=\"\",\"\",IF(Results!$H$2>=3,VALUE(VLOOKUP($B38,Group3!$I$4:$K$103,3)),0))","v":""},{"$f":"IF(Results!$C37=\"\",\"\",IF(Results!$H$2>=4,VALUE(VLOOKUP($B38,Group4!$I$4:$K$103,3)),0))","v":""},{"$f":"IF(Results!$C37=\"\",\"\",SUM(D38:G38))","v":""},{"$f":"IF(Results!E37=\"\",\"\",Results!E37)","v":""},{"$f":"IF(Results!F37=\"\",\"\",Results!F37)","v":""},"",{"$f":"IF(Results!$I37=\"\",\"\",Results!$I37)","v":""}]
[null,35,{"$f":"IF(Results!C38=\"\",\"\",Results!C38)","v":""},{"$f":"IF(Results!$C38=\"\",\"\",IF(Results!$H$2>=1,VALUE(VLOOKUP($B39,Group1!$I$4:$K$103,3)),0))","v":""},{"$f":"IF(Results!$C38=\"\",\"\",IF(Results!$H$2>=2,VALUE(VLOOKUP($B39,Group2!$I$4:$K$103,3)),0))","v":""},{"$f":"IF(Results!$C38=\"\",\"\",IF(Results!$H$2>=3,VALUE(VLOOKUP($B39,Group3!$I$4:$K$103,3)),0))","v":""},{"$f":"IF(Results!$C38=\"\",\"\",IF(Results!$H$2>=4,VALUE(VLOOKUP($B39,Group4!$I$4:$K$103,3)),0))","v":""},{"$f":"IF(Results!$C38=\"\",\"\",SUM(D39:G39))","v":""},{"$f":"IF(Results!E38=\"\",\"\",Results!E38)","v":""},{"$f":"IF(Results!F38=\"\",\"\",Results!F38)","v":""},"",{"$f":"IF(Results!$I38=\"\",\"\",Results!$I38)","v":""}]
[null,36,{"$f":"IF(Results!C39=\"\",\"\",Results!C39)","v":""},{"$f":"IF(Results!$C39=\"\",\"\",IF(Results!$H$2>=1,VALUE(VLOOKUP($B40,Group1!$I$4:$K$103,3)),0))","v":""},{"$f":"IF(Results!$C39=\"\",\"\",IF(Results!$H$2>=2,VALUE(VLOOKUP($B40,Group2!$I$4:$K$103,3)),0))","v":""},{"$f":"IF(Results!$C39=\"\",\"\",IF(Results!$H$2>=3,VALUE(VLOOKUP($B40,Group3!$I$4:$K$103,3)),0))","v":""},{"$f":"IF(Results!$C39=\"\",\"\",IF(Results!$H$2>=4,VALUE(VLOOKUP($B40,Group4!$I$4:$K$103,3)),0))","v":""},{"$f":"IF(Results!$C39=\"\",\"\",SUM(D40:G40))","v":""},{"$f":"IF(Results!E39=\"\",\"\",Results!E39)","v":""},{"$f":"IF(Results!F39=\"\",\"\",Results!F39)","v":""},"",{"$f":"IF(Results!$I39=\"\",\"\",Results!$I39)","v":""}]
[null,37,{"$f":"IF(Results!C40=\"\",\"\",Results!C40)","v":""},{"$f":"IF(Results!$C40=\"\",\"\",IF(Results!$H$2>=1,VALUE(VLOOKUP($B41,Group1!$I$4:$K$103,3)),0))","v":""},{"$f":"IF(Results!$C40=\"\",\"\",IF(Results!$H$2>=2,VALUE(VLOOKUP($B41,Group2!$I$4:$K$103,3)),0))","v":""},{"$f":"IF(Results!$C40=\"\",\"\",IF(Results!$H$2>=3,VALUE(VLOOKUP($B41,Group3!$I$4:$K$103,3)),0))","v":""},{"$f":"IF(Results!$C40=\"\",\"\",IF(Results!$H$2>=4,VALUE(VLOOKUP($B41,Group4!$I$4:$K$103,3)),0))","v":""},{"$f":"IF(Results!$C40=\"\",\"\",SUM(D41:G41))","v":""},{"$f":"IF(Results!E40=\"\",\"\",Results!E40)","v":""},{"$f":"IF(Results!F40=\"\",\"\",Results!F40)","v":""},"",{"$f":"IF(Results!$I40=\"\",\"\",Results!$I40)","v":""}]
[null,38,{"$f":"IF(Results!C41=\"\",\"\",Results!C41)","v":""},{"$f":"IF(Results!$C41=\"\",\"\",IF(Results!$H$2>=1,VALUE(VLOOKUP($B42,Group1!$I$4:$K$103,3)),0))","v":""},{"$f":"IF(Results!$C41=\"\",\"\",IF(Results!$H$2>=2,VALUE(VLOOKUP($B42,Group2!$I$4:$K$103,3)),0))","v":""},{"$f":"IF(Results!$C41=\"\",\"\",IF(Results!$H$2>=3,VALUE(VLOOKUP($B42,Group3!$I$4:$K$103,3)),0))","v":""},{"$f":"IF(Results!$C41=\"\",\"\",IF(Results!$H$2>=4,VALUE(VLOOKUP($B42,Group4!$I$4:$K$103,3)),0))","v":""},{"$f":"IF(Results!$C41=\"\",\"\",SUM(D42:G42))","v":""},{"$f":"IF(Results!E41=\"\",\"\",Results!E41)","v":""},{"$f":"IF(Results!F41=\"\",\"\",Results!F41)","v":""},"",{"$f":"IF(Results!$I41=\"\",\"\",Results!$I41)","v":""}]
[null,39,{"$f":"IF(Results!C42=\"\",\"\",Results!C42)","v":""},{"$f":"IF(Results!$C42=\"\",\"\",IF(Results!$H$2>=1,VALUE(VLOOKUP($B43,Group1!$I$4:$K$103,3)),0))","v":""},{"$f":"IF(Results!$C42=\"\",\"\",IF(Results!$H$2>=2,VALUE(VLOOKUP($B43,Group2!$I$4:$K$103,3)),0))","v":""},{"$f":"IF(Results!$C42=\"\",\"\",IF(Results!$H$2>=3,VALUE(VLOOKUP($B43,Group3!$I$4:$K$103,3)),0))","v":""},{"$f":"IF(Results!$C42=\"\",\"\",IF(Results!$H$2>=4,VALUE(VLOOKUP($B43,Group4!$I$4:$K$103,3)),0))","v":""},{"$f":"IF(Results!$C42=\"\",\"\",SUM(D43:G43))","v":""},{"$f":"IF(Results!E42=\"\",\"\",Results!E42)","v":""},{"$f":"IF(Results!F42=\"\",\"\",Results!F42)","v":""},"",{"$f":"IF(Results!$I42=\"\",\"\",Results!$I42)","v":""}]
[null,40,{"$f":"IF(Results!C43=\"\",\"\",Results!C43)","v":""},{"$f":"IF(Results!$C43=\"\",\"\",IF(Results!$H$2>=1,VALUE(VLOOKUP($B44,Group1!$I$4:$K$103,3)),0))","v":""},{"$f":"IF(Results!$C43=\"\",\"\",IF(Results!$H$2>=2,VALUE(VLOOKUP($B44,Group2!$I$4:$K$103,3)),0))","v":""},{"$f":"IF(Results!$C43=\"\",\"\",IF(Results!$H$2>=3,VALUE(VLOOKUP($B44,Group3!$I$4:$K$103,3)),0))","v":""},{"$f":"IF(Results!$C43=\"\",\"\",IF(Results!$H$2>=4,VALUE(VLOOKUP($B44,Group4!$I$4:$K$103,3)),0))","v":""},{"$f":"IF(Results!$C43=\"\",\"\",SUM(D44:G44))","v":""},{"$f":"IF(Results!E43=\"\",\"\",Results!E43)","v":""},{"$f":"IF(Results!F43=\"\",\"\",Results!F43)","v":""},"",{"$f":"IF(Results!$I43=\"\",\"\",Results!$I43)","v":""}]
[null,41,{"$f":"IF(Results!C44=\"\",\"\",Results!C44)","v":""},{"$f":"IF(Results!$C44=\"\",\"\",IF(Results!$H$2>=1,VALUE(VLOOKUP($B45,Group1!$I$4:$K$103,3)),0))","v":""},{"$f":"IF(Results!$C44=\"\",\"\",IF(Results!$H$2>=2,VALUE(VLOOKUP($B45,Group2!$I$4:$K$103,3)),0))","v":""},{"$f":"IF(Results!$C44=\"\",\"\",IF(Results!$H$2>=3,VALUE(VLOOKUP($B45,Group3!$I$4:$K$103,3)),0))","v":""},{"$f":"IF(Results!$C44=\"\",\"\",IF(Results!$H$2>=4,VALUE(VLOOKUP($B45,Group4!$I$4:$K$103,3)),0))","v":""},{"$f":"IF(Results!$C44=\"\",\"\",SUM(D45:G45))","v":""},{"$f":"IF(Results!E44=\"\",\"\",Results!E44)","v":""},{"$f":"IF(Results!F44=\"\",\"\",Results!F44)","v":""},"",{"$f":"IF(Results!$I44=\"\",\"\",Results!$I44)","v":""}]
[null,42,{"$f":"IF(Results!C45=\"\",\"\",Results!C45)","v":""},{"$f":"IF(Results!$C45=\"\",\"\",IF(Results!$H$2>=1,VALUE(VLOOKUP($B46,Group1!$I$4:$K$103,3)),0))","v":""},{"$f":"IF(Results!$C45=\"\",\"\",IF(Results!$H$2>=2,VALUE(VLOOKUP($B46,Group2!$I$4:$K$103,3)),0))","v":""},{"$f":"IF(Results!$C45=\"\",\"\",IF(Results!$H$2>=3,VALUE(VLOOKUP($B46,Group3!$I$4:$K$103,3)),0))","v":""},{"$f":"IF(Results!$C45=\"\",\"\",IF(Results!$H$2>=4,VALUE(VLOOKUP($B46,Group4!$I$4:$K$103,3)),0))","v":""},{"$f":"IF(Results!$C45=\"\",\"\",SUM(D46:G46))","v":""},{"$f":"IF(Results!E45=\"\",\"\",Results!E45)","v":""},{"$f":"IF(Results!F45=\"\",\"\",Results!F45)","v":""},"",{"$f":"IF(Results!$I45=\"\",\"\",Results!$I45)","v":""}]
[null,43,{"$f":"IF(Results!C46=\"\",\"\",Results!C46)","v":""},{"$f":"IF(Results!$C46=\"\",\"\",IF(Results!$H$2>=1,VALUE(VLOOKUP($B47,Group1!$I$4:$K$103,3)),0))","v":""},{"$f":"IF(Results!$C46=\"\",\"\",IF(Results!$H$2>=2,VALUE(VLOOKUP($B47,Group2!$I$4:$K$103,3)),0))","v":""},{"$f":"IF(Results!$C46=\"\",\"\",IF(Results!$H$2>=3,VALUE(VLOOKUP($B47,Group3!$I$4:$K$103,3)),0))","v":""},{"$f":"IF(Results!$C46=\"\",\"\",IF(Results!$H$2>=4,VALUE(VLOOKUP($B47,Group4!$I$4:$K$103,3)),0))","v":""},{"$f":"IF(Results!$C46=\"\",\"\",SUM(D47:G47))","v":""},{"$f":"IF(Results!E46=\"\",\"\",Results!E46)","v":""},{"$f":"IF(Results!F46=\"\",\"\",Results!F46)","v":""},"",{"$f":"IF(Results!$I46=\"\",\"\",Results!$I46)","v":""}]
[null,44,{"$f":"IF(Results!C47=\"\",\"\",Results!C47)","v":""},{"$f":"IF(Results!$C47=\"\",\"\",IF(Results!$H$2>=1,VALUE(VLOOKUP($B48,Group1!$I$4:$K$103,3)),0))","v":""},{"$f":"IF(Results!$C47=\"\",\"\",IF(Results!$H$2>=2,VALUE(VLOOKUP($B48,Group2!$I$4:$K$103,3)),0))","v":""},{"$f":"IF(Results!$C47=\"\",\"\",IF(Results!$H$2>=3,VALUE(VLOOKUP($B48,Group3!$I$4:$K$103,3)),0))","v":""},{"$f":"IF(Results!$C47=\"\",\"\",IF(Results!$H$2>=4,VALUE(VLOOKUP($B48,Group4!$I$4:$K$103,3)),0))","v":""},{"$f":"IF(Results!$C47=\"\",\"\",SUM(D48:G48))","v":""},{"$f":"IF(Results!E47=\"\",\"\",Results!E47)","v":""},{"$f":"IF(Results!F47=\"\",\"\",Results!F47)","v":""},"",{"$f":"IF(Results!$I47=\"\",\"\",Results!$I47)","v":""}]
[null,45,{"$f":"IF(Results!C48=\"\",\"\",Results!C48)","v":""},{"$f":"IF(Results!$C48=\"\",\"\",IF(Results!$H$2>=1,VALUE(VLOOKUP($B49,Group1!$I$4:$K$103,3)),0))","v":""},{"$f":"IF(Results!$C48=\"\",\"\",IF(Results!$H$2>=2,VALUE(VLOOKUP($B49,Group2!$I$4:$K$103,3)),0))","v":""},{"$f":"IF(Results!$C48=\"\",\"\",IF(Results!$H$2>=3,VALUE(VLOOKUP($B49,Group3!$I$4:$K$103,3)),0))","v":""},{"$f":"IF(Results!$C48=\"\",\"\",IF(Results!$H$2>=4,VALUE(VLOOKUP($B49,Group4!$I$4:$K$103,3)),0))","v":""},{"$f":"IF(Results!$C48=\"\",\"\",SUM(D49:G49))","v":""},{"$f":"IF(Results!E48=\"\",\"\",Results!E48)","v":""},{"$f":"IF(Results!F48=\"\",\"\",Results!F48)","v":""},"",{"$f":"IF(Results!$I48=\"\",\"\",Results!$I48)","v":""}]
[null,46,{"$f":"IF(Results!C49=\"\",\"\",Results!C49)","v":""},{"$f":"IF(Results!$C49=\"\",\"\",IF(Results!$H$2>=1,VALUE(VLOOKUP($B50,Group1!$I$4:$K$103,3)),0))","v":""},{"$f":"IF(Results!$C49=\"\",\"\",IF(Results!$H$2>=2,VALUE(VLOOKUP($B50,Group2!$I$4:$K$103,3)),0))","v":""},{"$f":"IF(Results!$C49=\"\",\"\",IF(Results!$H$2>=3,VALUE(VLOOKUP($B50,Group3!$I$4:$K$103,3)),0))","v":""},{"$f":"IF(Results!$C49=\"\",\"\",IF(Results!$H$2>=4,VALUE(VLOOKUP($B50,Group4!$I$4:$K$103,3)),0))","v":""},{"$f":"IF(Results!$C49=\"\",\"\",SUM(D50:G50))","v":""},{"$f":"IF(Results!E49=\"\",\"\",Results!E49)","v":""},{"$f":"IF(Results!F49=\"\",\"\",Results!F49)","v":""},"",{"$f":"IF(Results!$I49=\"\",\"\",Results!$I49)","v":""}]
[null,47,{"$f":"IF(Results!C50=\"\",\"\",Results!C50)","v":""},{"$f":"IF(Results!$C50=\"\",\"\",IF(Results!$H$2>=1,VALUE(VLOOKUP($B51,Group1!$I$4:$K$103,3)),0))","v":""},{"$f":"IF(Results!$C50=\"\",\"\",IF(Results!$H$2>=2,VALUE(VLOOKUP($B51,Group2!$I$4:$K$103,3)),0))","v":""},{"$f":"IF(Results!$C50=\"\",\"\",IF(Results!$H$2>=3,VALUE(VLOOKUP($B51,Group3!$I$4:$K$103,3)),0))","v":""},{"$f":"IF(Results!$C50=\"\",\"\",IF(Results!$H$2>=4,VALUE(VLOOKUP($B51,Group4!$I$4:$K$103,3)),0))","v":""},{"$f":"IF(Results!$C50=\"\",\"\",SUM(D51:G51))","v":""},{"$f":"IF(Results!E50=\"\",\"\",Results!E50)","v":""},{"$f":"IF(Results!F50=\"\",\"\",Results!F50)","v":""},"",{"$f":"IF(Results!$I50=\"\",\"\",Results!$I50)","v":""}]
[null,48,{"$f":"IF(Results!C51=\"\",\"\",Results!C51)","v":""},{"$f":"IF(Results!$C51=\"\",\"\",IF(Results!$H$2>=1,VALUE(VLOOKUP($B52,Group1!$I$4:$K$103,3)),0))","v":""},{"$f":"IF(Results!$C51=\"\",\"\",IF(Results!$H$2>=2,VALUE(VLOOKUP($B52,Group2!$I$4:$K$103,3)),0))","v":""},{"$f":"IF(Results!$C51=\"\",\"\",IF(Results!$H$2>=3,VALUE(VLOOKUP($B52,Group3!$I$4:$K$103,3)),0))","v":""},{"$f":"IF(Results!$C51=\"\",\"\",IF(Results!$H$2>=4,VALUE(VLOOKUP($B52,Group4!$I$4:$K$103,3)),0))","v":""},{"$f":"IF(Results!$C51=\"\",\"\",SUM(D52:G52))","v":""},{"$f":"IF(Results!E51=\"\",\"\",Results!E51)","v":""},{"$f":"IF(Results!F51=\"\",\"\",Results!F51)","v":""},"",{"$f":"IF(Results!$I51=\"\",\"\",Results!$I51)","v":""}]
[null,49,{"$f":"IF(Results!C52=\"\",\"\",Results!C52)","v":""},{"$f":"IF(Results!$C52=\"\",\"\",IF(Results!$H$2>=1,VALUE(VLOOKUP($B53,Group1!$I$4:$K$103,3)),0))","v":""},{"$f":"IF(Results!$C52=\"\",\"\",IF(Results!$H$2>=2,VALUE(VLOOKUP($B53,Group2!$I$4:$K$103,3)),0))","v":""},{"$f":"IF(Results!$C52=\"\",\"\",IF(Results!$H$2>=3,VALUE(VLOOKUP($B53,Group3!$I$4:$K$103,3)),0))","v":""},{"$f":"IF(Results!$C52=\"\",\"\",IF(Results!$H$2>=4,VALUE(VLOOKUP($B53,Group4!$I$4:$K$103,3)),0))","v":""},{"$f":"IF(Results!$C52=\"\",\"\",SUM(D53:G53))","v":""},{"$f":"IF(Results!E52=\"\",\"\",Results!E52)","v":""},{"$f":"IF(Results!F52=\"\",\"\",Results!F52)","v":""},"",{"$f":"IF(Results!$I52=\"\",\"\",Results!$I52)","v":""}]
[null,50,{"$f":"IF(Results!C53=\"\",\"\",Results!C53)","v":""},{"$f":"IF(Results!$C53=\"\",\"\",IF(Results!$H$2>=1,VALUE(VLOOKUP($B54,Group1!$I$4:$K$103,3)),0))","v":""},{"$f":"IF(Results!$C53=\"\",\"\",IF(Results!$H$2>=2,VALUE(VLOOKUP($B54,Group2!$I$4:$K$103,3)),0))","v":""},{"$f":"IF(Results!$C53=\"\",\"\",IF(Results!$H$2>=3,VALUE(VLOOKUP($B54,Group3!$I$4:$K$103,3)),0))","v":""},{"$f":"IF(Results!$C53=\"\",\"\",IF(Results!$H$2>=4,VALUE(VLOOKUP($B54,Group4!$I$4:$K$103,3)),0))","v":""},{"$f":"IF(Results!$C53=\"\",\"\",SUM(D54:G54))","v":""},{"$f":"IF(Results!E53=\"\",\"\",Results!E53)","v":""},{"$f":"IF(Results!F53=\"\",\"\",Results!F53)","v":""},"",{"$f":"IF(Results!$I53=\"\",\"\",Results!$I53)","v":""}]
[null,51,{"$f":"IF(Results!C54=\"\",\"\",Results!C54)","v":""},{"$f":"IF(Results!$C54=\"\",\"\",IF(Results!$H$2>=1,VALUE(VLOOKUP($B55,Group1!$I$4:$K$103,3)),0))","v":""},{"$f":"IF(Results!$C54=\"\",\"\",IF(Results!$H$2>=2,VALUE(VLOOKUP($B55,Group2!$I$4:$K$103,3)),0))","v":""},{"$f":"IF(Results!$C54=\"\",\"\",IF(Results!$H$2>=3,VALUE(VLOOKUP($B55,Group3!$I$4:$K$103,3)),0))","v":""},{"$f":"IF(Results!$C54=\"\",\"\",IF(Results!$H$2>=4,VALUE(VLOOKUP($B55,Group4!$I$4:$K$103,3)),0))","v":""},{"$f":"IF(Results!$C54=\"\",\"\",SUM(D55:G55))","v":""},{"$f":"IF(Results!E54=\"\",\"\",Results!E54)","v":""},{"$f":"IF(Results!F54=\"\",\"\",Results!F54)","v":""},"",{"$f":"IF(Results!$I54=\"\",\"\",Results!$I54)","v":""}]
[null,52,{"$f":"IF(Results!C55=\"\",\"\",Results!C55)","v":""},{"$f":"IF(Results!$C55=\"\",\"\",IF(Results!$H$2>=1,VALUE(VLOOKUP($B56,Group1!$I$4:$K$103,3)),0))","v":""},{"$f":"IF(Results!$C55=\"\",\"\",IF(Results!$H$2>=2,VALUE(VLOOKUP($B56,Group2!$I$4:$K$103,3)),0))","v":""},{"$f":"IF(Results!$C55=\"\",\"\",IF(Results!$H$2>=3,VALUE(VLOOKUP($B56,Group3!$I$4:$K$103,3)),0))","v":""},{"$f":"IF(Results!$C55=\"\",\"\",IF(Results!$H$2>=4,VALUE(VLOOKUP($B56,Group4!$I$4:$K$103,3)),0))","v":""},{"$f":"IF(Results!$C55=\"\",\"\",SUM(D56:G56))","v":""},{"$f":"IF(Results!E55=\"\",\"\",Results!E55)","v":""},{"$f":"IF(Results!F55=\"\",\"\",Results!F55)","v":""},"",{"$f":"IF(Results!$I55=\"\",\"\",Results!$I55)","v":""}]
[null,53,{"$f":"IF(Results!C56=\"\",\"\",Results!C56)","v":""},{"$f":"IF(Results!$C56=\"\",\"\",IF(Results!$H$2>=1,VALUE(VLOOKUP($B57,Group1!$I$4:$K$103,3)),0))","v":""},{"$f":"IF(Results!$C56=\"\",\"\",IF(Results!$H$2>=2,VALUE(VLOOKUP($B57,Group2!$I$4:$K$103,3)),0))","v":""},{"$f":"IF(Results!$C56=\"\",\"\",IF(Results!$H$2>=3,VALUE(VLOOKUP($B57,Group3!$I$4:$K$103,3)),0))","v":""},{"$f":"IF(Results!$C56=\"\",\"\",IF(Results!$H$2>=4,VALUE(VLOOKUP($B57,Group4!$I$4:$K$103,3)),0))","v":""},{"$f":"IF(Results!$C56=\"\",\"\",SUM(D57:G57))","v":""},{"$f":"IF(Results!E56=\"\",\"\",Results!E56)","v":""},{"$f":"IF(Results!F56=\"\",\"\",Results!F56)","v":""},"",{"$f":"IF(Results!$I56=\"\",\"\",Results!$I56)","v":""}]
[null,54,{"$f":"IF(Results!C57=\"\",\"\",Results!C57)","v":""},{"$f":"IF(Results!$C57=\"\",\"\",IF(Results!$H$2>=1,VALUE(VLOOKUP($B58,Group1!$I$4:$K$103,3)),0))","v":""},{"$f":"IF(Results!$C57=\"\",\"\",IF(Results!$H$2>=2,VALUE(VLOOKUP($B58,Group2!$I$4:$K$103,3)),0))","v":""},{"$f":"IF(Results!$C57=\"\",\"\",IF(Results!$H$2>=3,VALUE(VLOOKUP($B58,Group3!$I$4:$K$103,3)),0))","v":""},{"$f":"IF(Results!$C57=\"\",\"\",IF(Results!$H$2>=4,VALUE(VLOOKUP($B58,Group4!$I$4:$K$103,3)),0))","v":""},{"$f":"IF(Results!$C57=\"\",\"\",SUM(D58:G58))","v":""},{"$f":"IF(Results!E57=\"\",\"\",Results!E57)","v":""},{"$f":"IF(Results!F57=\"\",\"\",Results!F57)","v":""},"",{"$f":"IF(Results!$I57=\"\",\"\",Results!$I57)","v":""}]
[null,55,{"$f":"IF(Results!C58=\"\",\"\",Results!C58)","v":""},{"$f":"IF(Results!$C58=\"\",\"\",IF(Results!$H$2>=1,VALUE(VLOOKUP($B59,Group1!$I$4:$K$103,3)),0))","v":""},{"$f":"IF(Results!$C58=\"\",\"\",IF(Results!$H$2>=2,VALUE(VLOOKUP($B59,Group2!$I$4:$K$103,3)),0))","v":""},{"$f":"IF(Results!$C58=\"\",\"\",IF(Results!$H$2>=3,VALUE(VLOOKUP($B59,Group3!$I$4:$K$103,3)),0))","v":""},{"$f":"IF(Results!$C58=\"\",\"\",IF(Results!$H$2>=4,VALUE(VLOOKUP($B59,Group4!$I$4:$K$103,3)),0))","v":""},{"$f":"IF(Results!$C58=\"\",\"\",SUM(D59:G59))","v":""},{"$f":"IF(Results!E58=\"\",\"\",Results!E58)","v":""},{"$f":"IF(Results!F58=\"\",\"\",Results!F58)","v":""},"",{"$f":"IF(Results!$I58=\"\",\"\",Results!$I58)","v":""}]
[null,56,{"$f":"IF(Results!C59=\"\",\"\",Results!C59)","v":""},{"$f":"IF(Results!$C59=\"\",\"\",IF(Results!$H$2>=1,VALUE(VLOOKUP($B60,Group1!$I$4:$K$103,3)),0))","v":""},{"$f":"IF(Results!$C59=\"\",\"\",IF(Results!$H$2>=2,VALUE(VLOOKUP($B60,Group2!$I$4:$K$103,3)),0))","v":""},{"$f":"IF(Results!$C59=\"\",\"\",IF(Results!$H$2>=3,VALUE(VLOOKUP($B60,Group3!$I$4:$K$103,3)),0))","v":""},{"$f":"IF(Results!$C59=\"\",\"\",IF(Results!$H$2>=4,VALUE(VLOOKUP($B60,Group4!$I$4:$K$103,3)),0))","v":""},{"$f":"IF(Results!$C59=\"\",\"\",SUM(D60:G60))","v":""},{"$f":"IF(Results!E59=\"\",\"\",Results!E59)","v":""},{"$f":"IF(Results!F59=\"\",\"\",Results!F59)","v":""},"",{"$f":"IF(Results!$I59=\"\",\"\",Results!$I59)","v":""}]
[null,57,{"$f":"IF(Results!C60=\"\",\"\",Results!C60)","v":""},{"$f":"IF(Results!$C60=\"\",\"\",IF(Results!$H$2>=1,VALUE(VLOOKUP($B61,Group1!$I$4:$K$103,3)),0))","v":""},{"$f":"IF(Results!$C60=\"\",\"\",IF(Results!$H$2>=2,VALUE(VLOOKUP($B61,Group2!$I$4:$K$103,3)),0))","v":""},{"$f":"IF(Results!$C60=\"\",\"\",IF(Results!$H$2>=3,VALUE(VLOOKUP($B61,Group3!$I$4:$K$103,3)),0))","v":""},{"$f":"IF(Results!$C60=\"\",\"\",IF(Results!$H$2>=4,VALUE(VLOOKUP($B61,Group4!$I$4:$K$103,3)),0))","v":""},{"$f":"IF(Results!$C60=\"\",\"\",SUM(D61:G61))","v":""},{"$f":"IF(Results!E60=\"\",\"\",Results!E60)","v":""},{"$f":"IF(Results!F60=\"\",\"\",Results!F60)","v":""},"",{"$f":"IF(Results!$I60=\"\",\"\",Results!$I60)","v":""}]
[null,58,{"$f":"IF(Results!C61=\"\",\"\",Results!C61)","v":""},{"$f":"IF(Results!$C61=\"\",\"\",IF(Results!$H$2>=1,VALUE(VLOOKUP($B62,Group1!$I$4:$K$103,3)),0))","v":""},{"$f":"IF(Results!$C61=\"\",\"\",IF(Results!$H$2>=2,VALUE(VLOOKUP($B62,Group2!$I$4:$K$103,3)),0))","v":""},{"$f":"IF(Results!$C61=\"\",\"\",IF(Results!$H$2>=3,VALUE(VLOOKUP($B62,Group3!$I$4:$K$103,3)),0))","v":""},{"$f":"IF(Results!$C61=\"\",\"\",IF(Results!$H$2>=4,VALUE(VLOOKUP($B62,Group4!$I$4:$K$103,3)),0))","v":""},{"$f":"IF(Results!$C61=\"\",\"\",SUM(D62:G62))","v":""},{"$f":"IF(Results!E61=\"\",\"\",Results!E61)","v":""},{"$f":"IF(Results!F61=\"\",\"\",Results!F61)","v":""},"",{"$f":"IF(Results!$I61=\"\",\"\",Results!$I61)","v":""}]
[null,59,{"$f":"IF(Results!C62=\"\",\"\",Results!C62)","v":""},{"$f":"IF(Results!$C62=\"\",\"\",IF(Results!$H$2>=1,VALUE(VLOOKUP($B63,Group1!$I$4:$K$103,3)),0))","v":""},{"$f":"IF(Results!$C62=\"\",\"\",IF(Results!$H$2>=2,VALUE(VLOOKUP($B63,Group2!$I$4:$K$103,3)),0))","v":""},{"$f":"IF(Results!$C62=\"\",\"\",IF(Results!$H$2>=3,VALUE(VLOOKUP($B63,Group3!$I$4:$K$103,3)),0))","v":""},{"$f":"IF(Results!$C62=\"\",\"\",IF(Results!$H$2>=4,VALUE(VLOOKUP($B63,Group4!$I$4:$K$103,3)),0))","v":""},{"$f":"IF(Results!$C62=\"\",\"\",SUM(D63:G63))","v":""},{"$f":"IF(Results!E62=\"\",\"\",Results!E62)","v":""},{"$f":"IF(Results!F62=\"\",\"\",Results!F62)","v":""},"",{"$f":"IF(Results!$I62=\"\",\"\",Results!$I62)","v":""}]
[null,60,{"$f":"IF(Results!C63=\"\",\"\",Results!C63)","v":""},{"$f":"IF(Results!$C63=\"\",\"\",IF(Results!$H$2>=1,VALUE(VLOOKUP($B64,Group1!$I$4:$K$103,3)),0))","v":""},{"$f":"IF(Results!$C63=\"\",\"\",IF(Results!$H$2>=2,VALUE(VLOOKUP($B64,Group2!$I$4:$K$103,3)),0))","v":""},{"$f":"IF(Results!$C63=\"\",\"\",IF(Results!$H$2>=3,VALUE(VLOOKUP($B64,Group3!$I$4:$K$103,3)),0))","v":""},{"$f":"IF(Results!$C63=\"\",\"\",IF(Results!$H$2>=4,VALUE(VLOOKUP($B64,Group4!$I$4:$K$103,3)),0))","v":""},{"$f":"IF(Results!$C63=\"\",\"\",SUM(D64:G64))","v":""},{"$f":"IF(Results!E63=\"\",\"\",Results!E63)","v":""},{"$f":"IF(Results!F63=\"\",\"\",Results!F63)","v":""},"",{"$f":"IF(Results!$I63=\"\",\"\",Results!$I63)","v":""}]
[null,61,{"$f":"IF(Results!C64=\"\",\"\",Results!C64)","v":""},{"$f":"IF(Results!$C64=\"\",\"\",IF(Results!$H$2>=1,VALUE(VLOOKUP($B65,Group1!$I$4:$K$103,3)),0))","v":""},{"$f":"IF(Results!$C64=\"\",\"\",IF(Results!$H$2>=2,VALUE(VLOOKUP($B65,Group2!$I$4:$K$103,3)),0))","v":""},{"$f":"IF(Results!$C64=\"\",\"\",IF(Results!$H$2>=3,VALUE(VLOOKUP($B65,Group3!$I$4:$K$103,3)),0))","v":""},{"$f":"IF(Results!$C64=\"\",\"\",IF(Results!$H$2>=4,VALUE(VLOOKUP($B65,Group4!$I$4:$K$103,3)),0))","v":""},{"$f":"IF(Results!$C64=\"\",\"\",SUM(D65:G65))","v":""},{"$f":"IF(Results!E64=\"\",\"\",Results!E64)","v":""},{"$f":"IF(Results!F64=\"\",\"\",Results!F64)","v":""},"",{"$f":"IF(Results!$I64=\"\",\"\",Results!$I64)","v":""}]
[null,62,{"$f":"IF(Results!C65=\"\",\"\",Results!C65)","v":""},{"$f":"IF(Results!$C65=\"\",\"\",IF(Results!$H$2>=1,VALUE(VLOOKUP($B66,Group1!$I$4:$K$103,3)),0))","v":""},{"$f":"IF(Results!$C65=\"\",\"\",IF(Results!$H$2>=2,VALUE(VLOOKUP($B66,Group2!$I$4:$K$103,3)),0))","v":""},{"$f":"IF(Results!$C65=\"\",\"\",IF(Results!$H$2>=3,VALUE(VLOOKUP($B66,Group3!$I$4:$K$103,3)),0))","v":""},{"$f":"IF(Results!$C65=\"\",\"\",IF(Results!$H$2>=4,VALUE(VLOOKUP($B66,Group4!$I$4:$K$103,3)),0))","v":""},{"$f":"IF(Results!$C65=\"\",\"\",SUM(D66:G66))","v":""},{"$f":"IF(Results!E65=\"\",\"\",Results!E65)","v":""},{"$f":"IF(Results!F65=\"\",\"\",Results!F65)","v":""},"",{"$f":"IF(Results!$I65=\"\",\"\",Results!$I65)","v":""}]
[null,63,{"$f":"IF(Results!C66=\"\",\"\",Results!C66)","v":""},{"$f":"IF(Results!$C66=\"\",\"\",IF(Results!$H$2>=1,VALUE(VLOOKUP($B67,Group1!$I$4:$K$103,3)),0))","v":""},{"$f":"IF(Results!$C66=\"\",\"\",IF(Results!$H$2>=2,VALUE(VLOOKUP($B67,Group2!$I$4:$K$103,3)),0))","v":""},{"$f":"IF(Results!$C66=\"\",\"\",IF(Results!$H$2>=3,VALUE(VLOOKUP($B67,Group3!$I$4:$K$103,3)),0))","v":""},{"$f":"IF(Results!$C66=\"\",\"\",IF(Results!$H$2>=4,VALUE(VLOOKUP($B67,Group4!$I$4:$K$103,3)),0))","v":""},{"$f":"IF(Results!$C66=\"\",\"\",SUM(D67:G67))","v":""},{"$f":"IF(Results!E66=\"\",\"\",Results!E66)","v":""},{"$f":"IF(Results!F66=\"\",\"\",Results!F66)","v":""},"",{"$f":"IF(Results!$I66=\"\",\"\",Results!$I66)","v":""}]
[null,64,{"$f":"IF(Results!C67=\"\",\"\",Results!C67)","v":""},{"$f":"IF(Results!$C67=\"\",\"\",IF(Results!$H$2>=1,VALUE(VLOOKUP($B68,Group1!$I$4:$K$103,3)),0))","v":""},{"$f":"IF(Results!$C67=\"\",\"\",IF(Results!$H$2>=2,VALUE(VLOOKUP($B68,Group2!$I$4:$K$103,3)),0))","v":""},{"$f":"IF(Results!$C67=\"\",\"\",IF(Results!$H$2>=3,VALUE(VLOOKUP($B68,Group3!$I$4:$K$103,3)),0))","v":""},{"$f":"IF(Results!$C67=\"\",\"\",IF(Results!$H$2>=4,VALUE(VLOOKUP($B68,Group4!$I$4:$K$103,3)),0))","v":""},{"$f":"IF(Results!$C67=\"\",\"\",SUM(D68:G68))","v":""},{"$f":"IF(Results!E67=\"\",\"\",Results!E67)","v":""},{"$f":"IF(Results!F67=\"\",\"\",Results!F67)","v":""},"",{"$f":"IF(Results!$I67=\"\",\"\",Results!$I67)","v":""}]
[null,65,{"$f":"IF(Results!C68=\"\",\"\",Results!C68)","v":""},{"$f":"IF(Results!$C68=\"\",\"\",IF(Results!$H$2>=1,VALUE(VLOOKUP($B69,Group1!$I$4:$K$103,3)),0))","v":""},{"$f":"IF(Results!$C68=\"\",\"\",IF(Results!$H$2>=2,VALUE(VLOOKUP($B69,Group2!$I$4:$K$103,3)),0))","v":""},{"$f":"IF(Results!$C68=\"\",\"\",IF(Results!$H$2>=3,VALUE(VLOOKUP($B69,Group3!$I$4:$K$103,3)),0))","v":""},{"$f":"IF(Results!$C68=\"\",\"\",IF(Results!$H$2>=4,VALUE(VLOOKUP($B69,Group4!$I$4:$K$103,3)),0))","v":""},{"$f":"IF(Results!$C68=\"\",\"\",SUM(D69:G69))","v":""},{"$f":"IF(Results!E68=\"\",\"\",Results!E68)","v":""},{"$f":"IF(Results!F68=\"\",\"\",Results!F68)","v":""},"",{"$f":"IF(Results!$I68=\"\",\"\",Results!$I68)","v":""}]
[null,66,{"$f":"IF(Results!C69=\"\",\"\",Results!C69)","v":""},{"$f":"IF(Results!$C69=\"\",\"\",IF(Results!$H$2>=1,VALUE(VLOOKUP($B70,Group1!$I$4:$K$103,3)),0))","v":""},{"$f":"IF(Results!$C69=\"\",\"\",IF(Results!$H$2>=2,VALUE(VLOOKUP($B70,Group2!$I$4:$K$103,3)),0))","v":""},{"$f":"IF(Results!$C69=\"\",\"\",IF(Results!$H$2>=3,VALUE(VLOOKUP($B70,Group3!$I$4:$K$103,3)),0))","v":""},{"$f":"IF(Results!$C69=\"\",\"\",IF(Results!$H$2>=4,VALUE(VLOOKUP($B70,Group4!$I$4:$K$103,3)),0))","v":""},{"$f":"IF(Results!$C69=\"\",\"\",SUM(D70:G70))","v":""},{"$f":"IF(Results!E69=\"\",\"\",Results!E69)","v":""},{"$f":"IF(Results!F69=\"\",\"\",Results!F69)","v":""},"",{"$f":"IF(Results!$I69=\"\",\"\",Results!$I69)","v":""}]
[null,67,{"$f":"IF(Results!C70=\"\",\"\",Results!C70)","v":""},{"$f":"IF(Results!$C70=\"\",\"\",IF(Results!$H$2>=1,VALUE(VLOOKUP($B71,Group1!$I$4:$K$103,3)),0))","v":""},{"$f":"IF(Results!$C70=\"\",\"\",IF(Results!$H$2>=2,VALUE(VLOOKUP($B71,Group2!$I$4:$K$103,3)),0))","v":""},{"$f":"IF(Results!$C70=\"\",\"\",IF(Results!$H$2>=3,VALUE(VLOOKUP($B71,Group3!$I$4:$K$103,3)),0))","v":""},{"$f":"IF(Results!$C70=\"\",\"\",IF(Results!$H$2>=4,VALUE(VLOOKUP($B71,Group4!$I$4:$K$103,3)),0))","v":""},{"$f":"IF(Results!$C70=\"\",\"\",SUM(D71:G71))","v":""},{"$f":"IF(Results!E70=\"\",\"\",Results!E70)","v":""},{"$f":"IF(Results!F70=\"\",\"\",Results!F70)","v":""},"",{"$f":"IF(Results!$I70=\"\",\"\",Results!$I70)","v":""}]
[null,68,{"$f":"IF(Results!C71=\"\",\"\",Results!C71)","v":""},{"$f":"IF(Results!$C71=\"\",\"\",IF(Results!$H$2>=1,VALUE(VLOOKUP($B72,Group1!$I$4:$K$103,3)),0))","v":""},{"$f":"IF(Results!$C71=\"\",\"\",IF(Results!$H$2>=2,VALUE(VLOOKUP($B72,Group2!$I$4:$K$103,3)),0))","v":""},{"$f":"IF(Results!$C71=\"\",\"\",IF(Results!$H$2>=3,VALUE(VLOOKUP($B72,Group3!$I$4:$K$103,3)),0))","v":""},{"$f":"IF(Results!$C71=\"\",\"\",IF(Results!$H$2>=4,VALUE(VLOOKUP($B72,Group4!$I$4:$K$103,3)),0))","v":""},{"$f":"IF(Results!$C71=\"\",\"\",SUM(D72:G72))","v":""},{"$f":"IF(Results!E71=\"\",\"\",Results!E71)","v":""},{"$f":"IF(Results!F71=\"\",\"\",Results!F71)","v":""},"",{"$f":"IF(Results!$I71=\"\",\"\",Results!$I71)","v":""}]
[null,69,{"$f":"IF(Results!C72=\"\",\"\",Results!C72)","v":""},{"$f":"IF(Results!$C72=\"\",\"\",IF(Results!$H$2>=1,VALUE(VLOOKUP($B73,Group1!$I$4:$K$103,3)),0))","v":""},{"$f":"IF(Results!$C72=\"\",\"\",IF(Results!$H$2>=2,VALUE(VLOOKUP($B73,Group2!$I$4:$K$103,3)),0))","v":""},{"$f":"IF(Results!$C72=\"\",\"\",IF(Results!$H$2>=3,VALUE(VLOOKUP($B73,Group3!$I$4:$K$103,3)),0))","v":""},{"$f":"IF(Results!$C72=\"\",\"\",IF(Results!$H$2>=4,VALUE(VLOOKUP($B73,Group4!$I$4:$K$103,3)),0))","v":""},{"$f":"IF(Results!$C72=\"\",\"\",SUM(D73:G73))","v":""},{"$f":"IF(Results!E72=\"\",\"\",Results!E72)","v":""},{"$f":"IF(Results!F72=\"\",\"\",Results!F72)","v":""},"",{"$f":"IF(Results!$I72=\"\",\"\",Results!$I72)","v":""}]
[null,70,{"$f":"IF(Results!C73=\"\",\"\",Results!C73)","v":""},{"$f":"IF(Results!$C73=\"\",\"\",IF(Results!$H$2>=1,VALUE(VLOOKUP($B74,Group1!$I$4:$K$103,3)),0))","v":""},{"$f":"IF(Results!$C73=\"\",\"\",IF(Results!$H$2>=2,VALUE(VLOOKUP($B74,Group2!$I$4:$K$103,3)),0))","v":""},{"$f":"IF(Results!$C73=\"\",\"\",IF(Results!$H$2>=3,VALUE(VLOOKUP($B74,Group3!$I$4:$K$103,3)),0))","v":""},{"$f":"IF(Results!$C73=\"\",\"\",IF(Results!$H$2>=4,VALUE(VLOOKUP($B74,Group4!$I$4:$K$103,3)),0))","v":""},{"$f":"IF(Results!$C73=\"\",\"\",SUM(D74:G74))","v":""},{"$f":"IF(Results!E73=\"\",\"\",Results!E73)","v":""},{"$f":"IF(Results!F73=\"\",\"\",Results!F73)","v":""},"",{"$f":"IF(Results!$I73=\"\",\"\",Results!$I73)","v":""}]
[null,71,{"$f":"IF(Results!C74=\"\",\"\",Results!C74)","v":""},{"$f":"IF(Results!$C74=\"\",\"\",IF(Results!$H$2>=1,VALUE(VLOOKUP($B75,Group1!$I$4:$K$103,3)),0))","v":""},{"$f":"IF(Results!$C74=\"\",\"\",IF(Results!$H$2>=2,VALUE(VLOOKUP($B75,Group2!$I$4:$K$103,3)),0))","v":""},{"$f":"IF(Results!$C74=\"\",\"\",IF(Results!$H$2>=3,VALUE(VLOOKUP($B75,Group3!$I$4:$K$103,3)),0))","v":""},{"$f":"IF(Results!$C74=\"\",\"\",IF(Results!$H$2>=4,VALUE(VLOOKUP($B75,Group4!$I$4:$K$103,3)),0))","v":""},{"$f":"IF(Results!$C74=\"\",\"\",SUM(D75:G75))","v":""},{"$f":"IF(Results!E74=\"\",\"\",Results!E74)","v":""},{"$f":"IF(Results!F74=\"\",\"\",Results!F74)","v":""},"",{"$f":"IF(Results!$I74=\"\",\"\",Results!$I74)","v":""}]
[null,72,{"$f":"IF(Results!C75=\"\",\"\",Results!C75)","v":""},{"$f":"IF(Results!$C75=\"\",\"\",IF(Results!$H$2>=1,VALUE(VLOOKUP($B76,Group1!$I$4:$K$103,3)),0))","v":""},{"$f":"IF(Results!$C75=\"\",\"\",IF(Results!$H$2>=2,VALUE(VLOOKUP($B76,Group2!$I$4:$K$103,3)),0))","v":""},{"$f":"IF(Results!$C75=\"\",\"\",IF(Results!$H$2>=3,VALUE(VLOOKUP($B76,Group3!$I$4:$K$103,3)),0))","v":""},{"$f":"IF(Results!$C75=\"\",\"\",IF(Results!$H$2>=4,VALUE(VLOOKUP($B76,Group4!$I$4:$K$103,3)),0))","v":""},{"$f":"IF(Results!$C75=\"\",\"\",SUM(D76:G76))","v":""},{"$f":"IF(Results!E75=\"\",\"\",Results!E75)","v":""},{"$f":"IF(Results!F75=\"\",\"\",Results!F75)","v":""},"",{"$f":"IF(Results!$I75=\"\",\"\",Results!$I75)","v":""}]
[null,73,{"$f":"IF(Results!C76=\"\",\"\",Results!C76)","v":""},{"$f":"IF(Results!$C76=\"\",\"\",IF(Results!$H$2>=1,VALUE(VLOOKUP($B77,Group1!$I$4:$K$103,3)),0))","v":""},{"$f":"IF(Results!$C76=\"\",\"\",IF(Results!$H$2>=2,VALUE(VLOOKUP($B77,Group2!$I$4:$K$103,3)),0))","v":""},{"$f":"IF(Results!$C76=\"\",\"\",IF(Results!$H$2>=3,VALUE(VLOOKUP($B77,Group3!$I$4:$K$103,3)),0))","v":""},{"$f":"IF(Results!$C76=\"\",\"\",IF(Results!$H$2>=4,VALUE(VLOOKUP($B77,Group4!$I$4:$K$103,3)),0))","v":""},{"$f":"IF(Results!$C76=\"\",\"\",SUM(D77:G77))","v":""},{"$f":"IF(Results!E76=\"\",\"\",Results!E76)","v":""},{"$f":"IF(Results!F76=\"\",\"\",Results!F76)","v":""},"",{"$f":"IF(Results!$I76=\"\",\"\",Results!$I76)","v":""}]
[null,74,{"$f":"IF(Results!C77=\"\",\"\",Results!C77)","v":""},{"$f":"IF(Results!$C77=\"\",\"\",IF(Results!$H$2>=1,VALUE(VLOOKUP($B78,Group1!$I$4:$K$103,3)),0))","v":""},{"$f":"IF(Results!$C77=\"\",\"\",IF(Results!$H$2>=2,VALUE(VLOOKUP($B78,Group2!$I$4:$K$103,3)),0))","v":""},{"$f":"IF(Results!$C77=\"\",\"\",IF(Results!$H$2>=3,VALUE(VLOOKUP($B78,Group3!$I$4:$K$103,3)),0))","v":""},{"$f":"IF(Results!$C77=\"\",\"\",IF(Results!$H$2>=4,VALUE(VLOOKUP($B78,Group4!$I$4:$K$103,3)),0))","v":""},{"$f":"IF(Results!$C77=\"\",\"\",SUM(D78:G78))","v":""},{"$f":"IF(Results!E77=\"\",\"\",Results!E77)","v":""},{"$f":"IF(Results!F77=\"\",\"\",Results!F77)","v":""},"",{"$f":"IF(Results!$I77=\"\",\"\",Results!$I77)","v":""}]
[null,75,{"$f":"IF(Results!C78=\"\",\"\",Results!C78)","v":""},{"$f":"IF(Results!$C78=\"\",\"\",IF(Results!$H$2>=1,VALUE(VLOOKUP($B79,Group1!$I$4:$K$103,3)),0))","v":""},{"$f":"IF(Results!$C78=\"\",\"\",IF(Results!$H$2>=2,VALUE(VLOOKUP($B79,Group2!$I$4:$K$103,3)),0))","v":""},{"$f":"IF(Results!$C78=\"\",\"\",IF(Results!$H$2>=3,VALUE(VLOOKUP($B79,Group3!$I$4:$K$103,3)),0))","v":""},{"$f":"IF(Results!$C78=\"\",\"\",IF(Results!$H$2>=4,VALUE(VLOOKUP($B79,Group4!$I$4:$K$103,3)),0))","v":""},{"$f":"IF(Results!$C78=\"\",\"\",SUM(D79:G79))","v":""},{"$f":"IF(Results!E78=\"\",\"\",Results!E78)","v":""},{"$f":"IF(Results!F78=\"\",\"\",Results!F78)","v":""},"",{"$f":"IF(Results!$I78=\"\",\"\",Results!$I78)","v":""}]
[null,76,{"$f":"IF(Results!C79=\"\",\"\",Results!C79)","v":""},{"$f":"IF(Results!$C79=\"\",\"\",IF(Results!$H$2>=1,VALUE(VLOOKUP($B80,Group1!$I$4:$K$103,3)),0))","v":""},{"$f":"IF(Results!$C79=\"\",\"\",IF(Results!$H$2>=2,VALUE(VLOOKUP($B80,Group2!$I$4:$K$103,3)),0))","v":""},{"$f":"IF(Results!$C79=\"\",\"\",IF(Results!$H$2>=3,VALUE(VLOOKUP($B80,Group3!$I$4:$K$103,3)),0))","v":""},{"$f":"IF(Results!$C79=\"\",\"\",IF(Results!$H$2>=4,VALUE(VLOOKUP($B80,Group4!$I$4:$K$103,3)),0))","v":""},{"$f":"IF(Results!$C79=\"\",\"\",SUM(D80:G80))","v":""},{"$f":"IF(Results!E79=\"\",\"\",Results!E79)","v":""},{"$f":"IF(Results!F79=\"\",\"\",Results!F79)","v":""},"",{"$f":"IF(Results!$I79=\"\",\"\",Results!$I79)","v":""}]
[null,77,{"$f":"IF(Results!C80=\"\",\"\",Results!C80)","v":""},{"$f":"IF(Results!$C80=\"\",\"\",IF(Results!$H$2>=1,VALUE(VLOOKUP($B81,Group1!$I$4:$K$103,3)),0))","v":""},{"$f":"IF(Results!$C80=\"\",\"\",IF(Results!$H$2>=2,VALUE(VLOOKUP($B81,Group2!$I$4:$K$103,3)),0))","v":""},{"$f":"IF(Results!$C80=\"\",\"\",IF(Results!$H$2>=3,VALUE(VLOOKUP($B81,Group3!$I$4:$K$103,3)),0))","v":""},{"$f":"IF(Results!$C80=\"\",\"\",IF(Results!$H$2>=4,VALUE(VLOOKUP($B81,Group4!$I$4:$K$103,3)),0))","v":""},{"$f":"IF(Results!$C80=\"\",\"\",SUM(D81:G81))","v":""},{"$f":"IF(Results!E80=\"\",\"\",Results!E80)","v":""},{"$f":"IF(Results!F80=\"\",\"\",Results!F80)","v":""},"",{"$f":"IF(Results!$I80=\"\",\"\",Results!$I80)","v":""}]
[null,78,{"$f":"IF(Results!C81=\"\",\"\",Results!C81)","v":""},{"$f":"IF(Results!$C81=\"\",\"\",IF(Results!$H$2>=1,VALUE(VLOOKUP($B82,Group1!$I$4:$K$103,3)),0))","v":""},{"$f":"IF(Results!$C81=\"\",\"\",IF(Results!$H$2>=2,VALUE(VLOOKUP($B82,Group2!$I$4:$K$103,3)),0))","v":""},{"$f":"IF(Results!$C81=\"\",\"\",IF(Results!$H$2>=3,VALUE(VLOOKUP($B82,Group3!$I$4:$K$103,3)),0))","v":""},{"$f":"IF(Results!$C81=\"\",\"\",IF(Results!$H$2>=4,VALUE(VLOOKUP($B82,Group4!$I$4:$K$103,3)),0))","v":""},{"$f":"IF(Results!$C81=\"\",\"\",SUM(D82:G82))","v":""},{"$f":"IF(Results!E81=\"\",\"\",Results!E81)","v":""},{"$f":"IF(Results!F81=\"\",\"\",Results!F81)","v":""},"",{"$f":"IF(Results!$I81=\"\",\"\",Results!$I81)","v":""}]
[null,79,{"$f":"IF(Results!C82=\"\",\"\",Results!C82)","v":""},{"$f":"IF(Results!$C82=\"\",\"\",IF(Results!$H$2>=1,VALUE(VLOOKUP($B83,Group1!$I$4:$K$103,3)),0))","v":""},{"$f":"IF(Results!$C82=\"\",\"\",IF(Results!$H$2>=2,VALUE(VLOOKUP($B83,Group2!$I$4:$K$103,3)),0))","v":""},{"$f":"IF(Results!$C82=\"\",\"\",IF(Results!$H$2>=3,VALUE(VLOOKUP($B83,Group3!$I$4:$K$103,3)),0))","v":""},{"$f":"IF(Results!$C82=\"\",\"\",IF(Results!$H$2>=4,VALUE(VLOOKUP($B83,Group4!$I$4:$K$103,3)),0))","v":""},{"$f":"IF(Results!$C82=\"\",\"\",SUM(D83:G83))","v":""},{"$f":"IF(Results!E82=\"\",\"\",Results!E82)","v":""},{"$f":"IF(Results!F82=\"\",\"\",Results!F82)","v":""},"",{"$f":"IF(Results!$I82=\"\",\"\",Results!$I82)","v":""}]
[null,80,{"$f":"IF(Results!C83=\"\",\"\",Results!C83)","v":""},{"$f":"IF(Results!$C83=\"\",\"\",IF(Results!$H$2>=1,VALUE(VLOOKUP($B84,Group1!$I$4:$K$103,3)),0))","v":""},{"$f":"IF(Results!$C83=\"\",\"\",IF(Results!$H$2>=2,VALUE(VLOOKUP($B84,Group2!$I$4:$K$103,3)),0))","v":""},{"$f":"IF(Results!$C83=\"\",\"\",IF(Results!$H$2>=3,VALUE(VLOOKUP($B84,Group3!$I$4:$K$103,3)),0))","v":""},{"$f":"IF(Results!$C83=\"\",\"\",IF(Results!$H$2>=4,VALUE(VLOOKUP($B84,Group4!$I$4:$K$103,3)),0))","v":""},{"$f":"IF(Results!$C83=\"\",\"\",SUM(D84:G84))","v":""},{"$f":"IF(Results!E83=\"\",\"\",Results!E83)","v":""},{"$f":"IF(Results!F83=\"\",\"\",Results!F83)","v":""},"",{"$f":"IF(Results!$I83=\"\",\"\",Results!$I83)","v":""}]
[null,81,{"$f":"IF(Results!C84=\"\",\"\",Results!C84)","v":""},{"$f":"IF(Results!$C84=\"\",\"\",IF(Results!$H$2>=1,VALUE(VLOOKUP($B85,Group1!$I$4:$K$103,3)),0))","v":""},{"$f":"IF(Results!$C84=\"\",\"\",IF(Results!$H$2>=2,VALUE(VLOOKUP($B85,Group2!$I$4:$K$103,3)),0))","v":""},{"$f":"IF(Results!$C84=\"\",\"\",IF(Results!$H$2>=3,VALUE(VLOOKUP($B85,Group3!$I$4:$K$103,3)),0))","v":""},{"$f":"IF(Results!$C84=\"\",\"\",IF(Results!$H$2>=4,VALUE(VLOOKUP($B85,Group4!$I$4:$K$103,3)),0))","v":""},{"$f":"IF(Results!$C84=\"\",\"\",SUM(D85:G85))","v":""},{"$f":"IF(Results!E84=\"\",\"\",Results!E84)","v":""},{"$f":"IF(Results!F84=\"\",\"\",Results!F84)","v":""},"",{"$f":"IF(Results!$I84=\"\",\"\",Results!$I84)","v":""}]
[null,82,{"$f":"IF(Results!C85=\"\",\"\",Results!C85)","v":""},{"$f":"IF(Results!$C85=\"\",\"\",IF(Results!$H$2>=1,VALUE(VLOOKUP($B86,Group1!$I$4:$K$103,3)),0))","v":""},{"$f":"IF(Results!$C85=\"\",\"\",IF(Results!$H$2>=2,VALUE(VLOOKUP($B86,Group2!$I$4:$K$103,3)),0))","v":""},{"$f":"IF(Results!$C85=\"\",\"\",IF(Results!$H$2>=3,VALUE(VLOOKUP($B86,Group3!$I$4:$K$103,3)),0))","v":""},{"$f":"IF(Results!$C85=\"\",\"\",IF(Results!$H$2>=4,VALUE(VLOOKUP($B86,Group4!$I$4:$K$103,3)),0))","v":""},{"$f":"IF(Results!$C85=\"\",\"\",SUM(D86:G86))","v":""},{"$f":"IF(Results!E85=\"\",\"\",Results!E85)","v":""},{"$f":"IF(Results!F85=\"\",\"\",Results!F85)","v":""},"",{"$f":"IF(Results!$I85=\"\",\"\",Results!$I85)","v":""}]
[null,83,{"$f":"IF(Results!C86=\"\",\"\",Results!C86)","v":""},{"$f":"IF(Results!$C86=\"\",\"\",IF(Results!$H$2>=1,VALUE(VLOOKUP($B87,Group1!$I$4:$K$103,3)),0))","v":""},{"$f":"IF(Results!$C86=\"\",\"\",IF(Results!$H$2>=2,VALUE(VLOOKUP($B87,Group2!$I$4:$K$103,3)),0))","v":""},{"$f":"IF(Results!$C86=\"\",\"\",IF(Results!$H$2>=3,VALUE(VLOOKUP($B87,Group3!$I$4:$K$103,3)),0))","v":""},{"$f":"IF(Results!$C86=\"\",\"\",IF(Results!$H$2>=4,VALUE(VLOOKUP($B87,Group4!$I$4:$K$103,3)),0))","v":""},{"$f":"IF(Results!$C86=\"\",\"\",SUM(D87:G87))","v":""},{"$f":"IF(Results!E86=\"\",\"\",Results!E86)","v":""},{"$f":"IF(Results!F86=\"\",\"\",Results!F86)","v":""},"",{"$f":"IF(Results!$I86=\"\",\"\",Results!$I86)","v":""}]
[null,84,{"$f":"IF(Results!C87=\"\",\"\",Results!C87)","v":""},{"$f":"IF(Results!$C87=\"\",\"\",IF(Results!$H$2>=1,VALUE(VLOOKUP($B88,Group1!$I$4:$K$103,3)),0))","v":""},{"$f":"IF(Results!$C87=\"\",\"\",IF(Results!$H$2>=2,VALUE(VLOOKUP($B88,Group2!$I$4:$K$103,3)),0))","v":""},{"$f":"IF(Results!$C87=\"\",\"\",IF(Results!$H$2>=3,VALUE(VLOOKUP($B88,Group3!$I$4:$K$103,3)),0))","v":""},{"$f":"IF(Results!$C87=\"\",\"\",IF(Results!$H$2>=4,VALUE(VLOOKUP($B88,Group4!$I$4:$K$103,3)),0))","v":""},{"$f":"IF(Results!$C87=\"\",\"\",SUM(D88:G88))","v":""},{"$f":"IF(Results!E87=\"\",\"\",Results!E87)","v":""},{"$f":"IF(Results!F87=\"\",\"\",Results!F87)","v":""},"",{"$f":"IF(Results!$I87=\"\",\"\",Results!$I87)","v":""}]
[null,85,{"$f":"IF(Results!C88=\"\",\"\",Results!C88)","v":""},{"$f":"IF(Results!$C88=\"\",\"\",IF(Results!$H$2>=1,VALUE(VLOOKUP($B89,Group1!$I$4:$K$103,3)),0))","v":""},{"$f":"IF(Results!$C88=\"\",\"\",IF(Results!$H$2>=2,VALUE(VLOOKUP($B89,Group2!$I$4:$K$103,3)),0))","v":""},{"$f":"IF(Results!$C88=\"\",\"\",IF(Results!$H$2>=3,VALUE(VLOOKUP($B89,Group3!$I$4:$K$103,3)),0))","v":""},{"$f":"IF(Results!$C88=\"\",\"\",IF(Results!$H$2>=4,VALUE(VLOOKUP($B89,Group4!$I$4:$K$103,3)),0))","v":""},{"$f":"IF(Results!$C88=\"\",\"\",SUM(D89:G89))","v":""},{"$f":"IF(Results!E88=\"\",\"\",Results!E88)","v":""},{"$f":"IF(Results!F88=\"\",\"\",Results!F88)","v":""},"",{"$f":"IF(Results!$I88=\"\",\"\",Results!$I88)","v":""}]
[null,86,{"$f":"IF(Results!C89=\"\",\"\",Results!C89)","v":""},{"$f":"IF(Results!$C89=\"\",\"\",IF(Results!$H$2>=1,VALUE(VLOOKUP($B90,Group1!$I$4:$K$103,3)),0))","v":""},{"$f":"IF(Results!$C89=\"\",\"\",IF(Results!$H$2>=2,VALUE(VLOOKUP($B90,Group2!$I$4:$K$103,3)),0))","v":""},{"$f":"IF(Results!$C89=\"\",\"\",IF(Results!$H$2>=3,VALUE(VLOOKUP($B90,Group3!$I$4:$K$103,3)),0))","v":""},{"$f":"IF(Results!$C89=\"\",\"\",IF(Results!$H$2>=4,VALUE(VLOOKUP($B90,Group4!$I$4:$K$103,3)),0))","v":""},{"$f":"IF(Results!$C89=\"\",\"\",SUM(D90:G90))","v":""},{"$f":"IF(Results!E89=\"\",\"\",Results!E89)","v":""},{"$f":"IF(Results!F89=\"\",\"\",Results!F89)","v":""},"",{"$f":"IF(Results!$I89=\"\",\"\",Results!$I89)","v":""}]
[null,87,{"$f":"IF(Results!C90=\"\",\"\",Results!C90)","v":""},{"$f":"IF(Results!$C90=\"\",\"\",IF(Results!$H$2>=1,VALUE(VLOOKUP($B91,Group1!$I$4:$K$103,3)),0))","v":""},{"$f":"IF(Results!$C90=\"\",\"\",IF(Results!$H$2>=2,VALUE(VLOOKUP($B91,Group2!$I$4:$K$103,3)),0))","v":""},{"$f":"IF(Results!$C90=\"\",\"\",IF(Results!$H$2>=3,VALUE(VLOOKUP($B91,Group3!$I$4:$K$103,3)),0))","v":""},{"$f":"IF(Results!$C90=\"\",\"\",IF(Results!$H$2>=4,VALUE(VLOOKUP($B91,Group4!$I$4:$K$103,3)),0))","v":""},{"$f":"IF(Results!$C90=\"\",\"\",SUM(D91:G91))","v":""},{"$f":"IF(Results!E90=\"\",\"\",Results!E90)","v":""},{"$f":"IF(Results!F90=\"\",\"\",Results!F90)","v":""},"",{"$f":"IF(Results!$I90=\"\",\"\",Results!$I90)","v":""}]
[null,88,{"$f":"IF(Results!C91=\"\",\"\",Results!C91)","v":""},{"$f":"IF(Results!$C91=\"\",\"\",IF(Results!$H$2>=1,VALUE(VLOOKUP($B92,Group1!$I$4:$K$103,3)),0))","v":""},{"$f":"IF(Results!$C91=\"\",\"\",IF(Results!$H$2>=2,VALUE(VLOOKUP($B92,Group2!$I$4:$K$103,3)),0))","v":""},{"$f":"IF(Results!$C91=\"\",\"\",IF(Results!$H$2>=3,VALUE(VLOOKUP($B92,Group3!$I$4:$K$103,3)),0))","v":""},{"$f":"IF(Results!$C91=\"\",\"\",IF(Results!$H$2>=4,VALUE(VLOOKUP($B92,Group4!$I$4:$K$103,3)),0))","v":""},{"$f":"IF(Results!$C91=\"\",\"\",SUM(D92:G92))","v":""},{"$f":"IF(Results!E91=\"\",\"\",Results!E91)","v":""},{"$f":"IF(Results!F91=\"\",\"\",Results!F91)","v":""},"",{"$f":"IF(Results!$I91=\"\",\"\",Results!$I91)","v":""}]
[null,89,{"$f":"IF(Results!C92=\"\",\"\",Results!C92)","v":""},{"$f":"IF(Results!$C92=\"\",\"\",IF(Results!$H$2>=1,VALUE(VLOOKUP($B93,Group1!$I$4:$K$103,3)),0))","v":""},{"$f":"IF(Results!$C92=\"\",\"\",IF(Results!$H$2>=2,VALUE(VLOOKUP($B93,Group2!$I$4:$K$103,3)),0))","v":""},{"$f":"IF(Results!$C92=\"\",\"\",IF(Results!$H$2>=3,VALUE(VLOOKUP($B93,Group3!$I$4:$K$103,3)),0))","v":""},{"$f":"IF(Results!$C92=\"\",\"\",IF(Results!$H$2>=4,VALUE(VLOOKUP($B93,Group4!$I$4:$K$103,3)),0))","v":""},{"$f":"IF(Results!$C92=\"\",\"\",SUM(D93:G93))","v":""},{"$f":"IF(Results!E92=\"\",\"\",Results!E92)","v":""},{"$f":"IF(Results!F92=\"\",\"\",Results!F92)","v":""},"",{"$f":"IF(Results!$I92=\"\",\"\",Results!$I92)","v":""}]
[null,90,{"$f":"IF(Results!C93=\"\",\"\",Results!C93)","v":""},{"$f":"IF(Results!$C93=\"\",\"\",IF(Results!$H$2>=1,VALUE(VLOOKUP($B94,Group1!$I$4:$K$103,3)),0))","v":""},{"$f":"IF(Results!$C93=\"\",\"\",IF(Results!$H$2>=2,VALUE(VLOOKUP($B94,Group2!$I$4:$K$103,3)),0))","v":""},{"$f":"IF(Results!$C93=\"\",\"\",IF(Results!$H$2>=3,VALUE(VLOOKUP($B94,Group3!$I$4:$K$103,3)),0))","v":""},{"$f":"IF(Results!$C93=\"\",\"\",IF(Results!$H$2>=4,VALUE(VLOOKUP($B94,Group4!$I$4:$K$103,3)),0))","v":""},{"$f":"IF(Results!$C93=\"\",\"\",SUM(D94:G94))","v":""},{"$f":"IF(Results!E93=\"\",\"\",Results!E93)","v":""},{"$f":"IF(Results!F93=\"\",\"\",Results!F93)","v":""},"",{"$f":"IF(Results!$I93=\"\",\"\",Results!$I93)","v":""}]
[null,91,{"$f":"IF(Results!C94=\"\",\"\",Results!C94)","v":""},{"$f":"IF(Results!$C94=\"\",\"\",IF(Results!$H$2>=1,VALUE(VLOOKUP($B95,Group1!$I$4:$K$103,3)),0))","v":""},{"$f":"IF(Results!$C94=\"\",\"\",IF(Results!$H$2>=2,VALUE(VLOOKUP($B95,Group2!$I$4:$K$103,3)),0))","v":""},{"$f":"IF(Results!$C94=\"\",\"\",IF(Results!$H$2>=3,VALUE(VLOOKUP($B95,Group3!$I$4:$K$103,3)),0))","v":""},{"$f":"IF(Results!$C94=\"\",\"\",IF(Results!$H$2>=4,VALUE(VLOOKUP($B95,Group4!$I$4:$K$103,3)),0))","v":""},{"$f":"IF(Results!$C94=\"\",\"\",SUM(D95:G95))","v":""},{"$f":"IF(Results!E94=\"\",\"\",Results!E94)","v":""},{"$f":"IF(Results!F94=\"\",\"\",Results!F94)","v":""},"",{"$f":"IF(Results!$I94=\"\",\"\",Results!$I94)","v":""}]
[null,92,{"$f":"IF(Results!C95=\"\",\"\",Results!C95)","v":""},{"$f":"IF(Results!$C95=\"\",\"\",IF(Results!$H$2>=1,VALUE(VLOOKUP($B96,Group1!$I$4:$K$103,3)),0))","v":""},{"$f":"IF(Results!$C95=\"\",\"\",IF(Results!$H$2>=2,VALUE(VLOOKUP($B96,Group2!$I$4:$K$103,3)),0))","v":""},{"$f":"IF(Results!$C95=\"\",\"\",IF(Results!$H$2>=3,VALUE(VLOOKUP($B96,Group3!$I$4:$K$103,3)),0))","v":""},{"$f":"IF(Results!$C95=\"\",\"\",IF(Results!$H$2>=4,VALUE(VLOOKUP($B96,Group4!$I$4:$K$103,3)),0))","v":""},{"$f":"IF(Results!$C95=\"\",\"\",SUM(D96:G96))","v":""},{"$f":"IF(Results!E95=\"\",\"\",Results!E95)","v":""},{"$f":"IF(Results!F95=\"\",\"\",Results!F95)","v":""},"",{"$f":"IF(Results!$I95=\"\",\"\",Results!$I95)","v":""}]
[null,93,{"$f":"IF(Results!C96=\"\",\"\",Results!C96)","v":""},{"$f":"IF(Results!$C96=\"\",\"\",IF(Results!$H$2>=1,VALUE(VLOOKUP($B97,Group1!$I$4:$K$103,3)),0))","v":""},{"$f":"IF(Results!$C96=\"\",\"\",IF(Results!$H$2>=2,VALUE(VLOOKUP($B97,Group2!$I$4:$K$103,3)),0))","v":""},{"$f":"IF(Results!$C96=\"\",\"\",IF(Results!$H$2>=3,VALUE(VLOOKUP($B97,Group3!$I$4:$K$103,3)),0))","v":""},{"$f":"IF(Results!$C96=\"\",\"\",IF(Results!$H$2>=4,VALUE(VLOOKUP($B97,Group4!$I$4:$K$103,3)),0))","v":""},{"$f":"IF(Results!$C96=\"\",\"\",SUM(D97:G97))","v":""},{"$f":"IF(Results!E96=\"\",\"\",Results!E96)","v":""},{"$f":"IF(Results!F96=\"\",\"\",Results!F96)","v":""},"",{"$f":"IF(Results!$I96=\"\",\"\",Results!$I96)","v":""}]
[null,94,{"$f":"IF(Results!C97=\"\",\"\",Results!C97)","v":""},{"$f":"IF(Results!$C97=\"\",\"\",IF(Results!$H$2>=1,VALUE(VLOOKUP($B98,Group1!$I$4:$K$103,3)),0))","v":""},{"$f":"IF(Results!$C97=\"\",\"\",IF(Results!$H$2>=2,VALUE(VLOOKUP($B98,Group2!$I$4:$K$103,3)),0))","v":""},{"$f":"IF(Results!$C97=\"\",\"\",IF(Results!$H$2>=3,VALUE(VLOOKUP($B98,Group3!$I$4:$K$103,3)),0))","v":""},{"$f":"IF(Results!$C97=\"\",\"\",IF(Results!$H$2>=4,VALUE(VLOOKUP($B98,Group4!$I$4:$K$103,3)),0))","v":""},{"$f":"IF(Results!$C97=\"\",\"\",SUM(D98:G98))","v":""},{"$f":"IF(Results!E97=\"\",\"\",Results!E97)","v":""},{"$f":"IF(Results!F97=\"\",\"\",Results!F97)","v":""},"",{"$f":"IF(Results!$I97=\"\",\"\",Results!$I97)","v":""}]
[null,95,{"$f":"IF(Results!C98=\"\",\"\",Results!C98)","v":""},{"$f":"IF(Results!$C98=\"\",\"\",IF(Results!$H$2>=1,VALUE(VLOOKUP($B99,Group1!$I$4:$K$103,3)),0))","v":""},{"$f":"IF(Results!$C98=\"\",\"\",IF(Results!$H$2>=2,VALUE(VLOOKUP($B99,Group2!$I$4:$K$103,3)),0))","v":""},{"$f":"IF(Results!$C98=\"\",\"\",IF(Results!$H$2>=3,VALUE(VLOOKUP($B99,Group3!$I$4:$K$103,3)),0))","v":""},{"$f":"IF(Results!$C98=\"\",\"\",IF(Results!$H$2>=4,VALUE(VLOOKUP($B99,Group4!$I$4:$K$103,3)),0))","v":""},{"$f":"IF(Results!$C98=\"\",\"\",SUM(D99:G99))","v":""},{"$f":"IF(Results!E98=\"\",\"\",Results!E98)","v":""},{"$f":"IF(Results!F98=\"\",\"\",Results!F98)","v":""},{"$f":"IF(C99=\"\",\"\",SUM(H99:J99))","v":""},{"$f":"IF(Results!$I98=\"\",\"\",Results!$I98)","v":""}]
[null,96,{"$f":"IF(Results!C99=\"\",\"\",Results!C99)","v":""},{"$f":"IF(Results!$C99=\"\",\"\",IF(Results!$H$2>=1,VALUE(VLOOKUP($B100,Group1!$I$4:$K$103,3)),0))","v":""},{"$f":"IF(Results!$C99=\"\",\"\",IF(Results!$H$2>=2,VALUE(VLOOKUP($B100,Group2!$I$4:$K$103,3)),0))","v":""},{"$f":"IF(Results!$C99=\"\",\"\",IF(Results!$H$2>=3,VALUE(VLOOKUP($B100,Group3!$I$4:$K$103,3)),0))","v":""},{"$f":"IF(Results!$C99=\"\",\"\",IF(Results!$H$2>=4,VALUE(VLOOKUP($B100,Group4!$I$4:$K$103,3)),0))","v":""},{"$f":"IF(Results!$C99=\"\",\"\",SUM(D100:G100))","v":""},{"$f":"IF(Results!E99=\"\",\"\",Results!E99)","v":""},{"$f":"IF(Results!F99=\"\",\"\",Results!F99)","v":""},"",{"$f":"IF(Results!$I99=\"\",\"\",Results!$I99)","v":""}]
[null,97,{"$f":"IF(Results!C100=\"\",\"\",Results!C100)","v":""},{"$f":"IF(Results!$C100=\"\",\"\",IF(Results!$H$2>=1,VALUE(VLOOKUP($B101,Group1!$I$4:$K$103,3)),0))","v":""},{"$f":"IF(Results!$C100=\"\",\"\",IF(Results!$H$2>=2,VALUE(VLOOKUP($B101,Group2!$I$4:$K$103,3)),0))","v":""},{"$f":"IF(Results!$C100=\"\",\"\",IF(Results!$H$2>=3,VALUE(VLOOKUP($B101,Group3!$I$4:$K$103,3)),0))","v":""},{"$f":"IF(Results!$C100=\"\",\"\",IF(Results!$H$2>=4,VALUE(VLOOKUP($B101,Group4!$I$4:$K$103,3)),0))","v":""},{"$f":"IF(Results!$C100=\"\",\"\",SUM(D101:G101))","v":""},{"$f":"IF(Results!E100=\"\",\"\",Results!E100)","v":""},{"$f":"IF(Results!F100=\"\",\"\",Results!F100)","v":""},"",{"$f":"IF(Results!$I100=\"\",\"\",Results!$I100)","v":""}]
[null,98,{"$f":"IF(Results!C101=\"\",\"\",Results!C101)","v":""},{"$f":"IF(Results!$C101=\"\",\"\",IF(Results!$H$2>=1,VALUE(VLOOKUP($B102,Group1!$I$4:$K$103,3)),0))","v":""},{"$f":"IF(Results!$C101=\"\",\"\",IF(Results!$H$2>=2,VALUE(VLOOKUP($B102,Group2!$I$4:$K$103,3)),0))","v":""},{"$f":"IF(Results!$C101=\"\",\"\",IF(Results!$H$2>=3,VALUE(VLOOKUP($B102,Group3!$I$4:$K$103,3)),0))","v":""},{"$f":"IF(Results!$C101=\"\",\"\",IF(Results!$H$2>=4,VALUE(VLOOKUP($B102,Group4!$I$4:$K$103,3)),0))","v":""},{"$f":"IF(Results!$C101=\"\",\"\",SUM(D102:G102))","v":""},{"$f":"IF(Results!E101=\"\",\"\",Results!E101)","v":""},{"$f":"IF(Results!F101=\"\",\"\",Results!F101)","v":""},"",{"$f":"IF(Results!$I101=\"\",\"\",Results!$I101)","v":""}]
[null,99,{"$f":"IF(Results!C102=\"\",\"\",Results!C102)","v":""},{"$f":"IF(Results!$C102=\"\",\"\",IF(Results!$H$2>=1,VALUE(VLOOKUP($B103,Group1!$I$4:$K$103,3)),0))","v":""},{"$f":"IF(Results!$C102=\"\",\"\",IF(Results!$H$2>=2,VALUE(VLOOKUP($B103,Group2!$I$4:$K$103,3)),0))","v":""},{"$f":"IF(Results!$C102=\"\",\"\",IF(Results!$H$2>=3,VALUE(VLOOKUP($B103,Group3!$I$4:$K$103,3)),0))","v":""},{"$f":"IF(Results!$C102=\"\",\"\",IF(Results!$H$2>=4,VALUE(VLOOKUP($B103,Group4!$I$4:$K$103,3)),0))","v":""},{"$f":"IF(Results!$C102=\"\",\"\",SUM(D103:G103))","v":""},{"$f":"IF(Results!E102=\"\",\"\",Results!E102)","v":""},{"$f":"IF(Results!F102=\"\",\"\",Results!F102)","v":""},"",{"$f":"IF(Results!$I102=\"\",\"\",Results!$I102)","v":""}]
[null,100,{"$f":"IF(Results!C103=\"\",\"\",Results!C103)","v":""},{"$f":"IF(Results!$C103=\"\",\"\",IF(Results!$H$2>=1,VALUE(VLOOKUP($B104,Group1!$I$4:$K$103,3)),0))","v":""},{"$f":"IF(Results!$C103=\"\",\"\",IF(Results!$H$2>=2,VALUE(VLOOKUP($B104,Group2!$I$4:$K$103,3)),0))","v":""},{"$f":"IF(Results!$C103=\"\",\"\",IF(Results!$H$2>=3,VALUE(VLOOKUP($B104,Group3!$I$4:$K$103,3)),0))","v":""},{"$f":"IF(Results!$C103=\"\",\"\",IF(Results!$H$2>=4,VALUE(VLOOKUP($B104,Group4!$I$4:$K$103,3)),0))","v":""},{"$f":"IF(Results!$C103=\"\",\"\",SUM(D104:G104))","v":""},{"$f":"IF(Results!E103=\"\",\"\",Results!E103)","v":""},{"$f":"IF(Results!F103=\"\",\"\",Results!F103)","v":""},"",{"$f":"IF(Results!$I103=\"\",\"\",Results!$I103)","v":""}]

{"sheet":"Instructions","index":9,"n_rows":19,"n_cols":3,"rows_kept":19,"cut":false,"hidden":false,"merged":[]}
[null,"INSTRUCTIONS"]
[]
[null,1,"You can only enter data into selected sheets and cells. All other cells are locked. It does not matter what order you enter the data into any of the sheets. Calculations may not show until all relevant scores are entered."]
[null,2,"When you open the template you will get a Security Warning. Select \"Enable Content\"."]
[null,3,"When the program is opened it will be given a name like \"ASC Group5 V141.xlsm\". Click FILE - SAVE AS. In the screen that opens select the destination where you want the file saved to; Select SAVE AS FILE TYPE as \"Excel Macro-Enabled Workbook\"; Enter a meaningful name in FILE NAME; Click SAVE."]
[null,4,"In the Title tab enter the information coloured green."]
[null,5,"In the Results tab enter the names of the contestants. If an entrant does not show for the contest delete the name and/or leave the Entrant Name blank."]
[null,6,"In the Results tab enter the number of Groups to be judged."]
[null,7,"In each of the Group tabs enter the Group name (eg Tomato, Jersey, Conformation), the Judge's Placings and Judge's Cuts for that Group. The total cuts must not be more than 15 or less than 3. Also if the total cuts equals 15, the middle cut must not be more than 8 or if the total cuts equals 14 the middle cut must not be more than 8. A Warning will appear if these conditions are not met. The Judge must adjust the cuts to meet these conditions."]
[null,8,"The Entrant Number will automatically be inserted in the Group tabs. When available enter the contestants' placings in the form of four numbers, eg 2134, 3412, etc. The score will be automatically appear."]
[null,9,"When all the scores for the visual part of the competition have been entered the total visual score will automatically be inserted into the Visual Score column of the Result tab."]
[null,10,"In the Results tab enter the Handling Score if appropriate."]
[null,11,"In the Oral tab all data is entered automatically. Click the Green arrow to sort the entrants into rank order from highest to lowest score. Use this to select contestants for the oral section. To re-sort into contestant order click the Blue arrow"]
[null,12,"In the Results tab enter the Oral Scores."]
[null,13,"In the Results tab the final ranking of the contestants will be displayed."]
[null,14,"If there are any ties go to the Final tab and click the Green arrow. This will list the contestants in Rank Order. Use this information and the competition rules to determine the placings if ties are not allowed."]
[null,15,"In the Results tab enter the placings in the Place column."]
[null,16,"If facilities are available print the Print tab and give to each contestant."]
[null,17,"Save the file."]

{"sheet":"About","index":10,"n_rows":17,"n_cols":7,"rows_kept":17,"cut":false,"hidden":false,"merged":[[13,2,13,6],[14,2,14,6]]}
[]
[]
[null,null,"JUDGING COMPETITION COMPUTER SCORING SYSTEM"]
[]
[null,null,"Program developed by Ray Connelly 2010"]
[null,null,"© Agricultural Societies Council of NSW - Group 5"]
[null,null,"Used at 2012 Sydney Royal Easter Show"]
[]
[null,null,"Version 12",null,"2012-04-28",null,"Excel 2010"]
[null,null,"Version 13",null,"2012-09-04",null,"Excel 2010"]
[null,null,"Version 14",null,"2012-09-04",null,"Excel 2010"]
[]
[]
[null,null,"©  Agricultural Societies Council of NSW."]
[null,null,"No part of this program may be used, copied or sold without the written permission of the Agricultural Societies Council of NSW."]
[]
[null,null,"Disclaimer : All care but no responsibility."]